Workbook

Sheet Complete
A1: Annex D.1 eq# | B1: (D.1) | C1: (D.2) | D1: (D.3) | E1: (D.4) | F1: (D.5) | G1: (D.6) | H1: (D.7) | J1: (D.9) | K1: (D.11) | L1: (D.13) | M1: (D.14) | N1: (D.15) | O1: (D.16) | P1: (D.17) | Q1: (D.18) | Y1: (D.19) | Z1: (D.20) | AA1: (D.21) | AD1: (D.22) | AF1: (D.24) | AG1: (D.26) | AH1: (D.28) | AI1: (D.29) | AJ1: (D.30) | AK1: (D.31) | AL1: (D.32) | AN1: (D.34) | AO1: (D.36) | AP1: (D.38) | AQ1: (D.39) | AR1: (D.40) | AS1: (D.41) | AT1: (D.42) | AU1: (D.43) | AV1: (D.44) | AW1: (D.45) | AX1: (D.46) | AY1: (D.47) | AZ1: (D.48) | BA1: (D.49) | BB1: (D.50) | BC1: (D.51) | BD1: (D.52) | BF1: (D.54) | BG1: (D.56) | BH1: (D.58) | BI1: (D.59) | BJ1: (D.60) | BK1: (D.61) | BL1: (D.62) | BN1: (D.64) | BO1: (D.66) | BP1: (D.68) | BQ1: (D.69) | BR1: (D.70) | BS1: (D.71) | BT1: (D.72)
A2: Annex D.2 eq# | B2: (D.73) | C2: (D.74) | D2: (D.75) | E2: (D.76) | F2: (D.77) | G2: (D.78) | H2: (D.79) | I2: (D.80) | J2: (D.82) | P2: (D.84) | Q2: (D.85) | Y2: (D.86) | Z2: (D.87) | AA2: (D.88) | AD2: (D.89) | AE2: (D.91) | AL2: (D.92) | AM2: (D.94) | AT2: (D.95) | AU2: (D.96) | AV2: (D.97) | BC2: (D.99) | BD2: (D.100) | BE2: (D.102) | BL2: (D.103) | BM2: (D.105) | BT2: (D.106)
A4: Input parameters | J4: Arcing Current | Q4: Tarc | R4: Enclosure Size Correction Factor | AE4: Incident Energy | AM4: Arc-Flash Boundary | AU4: Correction Factor | AW4: Arcing Current (Reduced) | BD4: Tarc | BE4: Incident Energy (Reduced) | BM4: Arc-Flash Boundary (Reduced)
J5: Intermediate | M5: Final | AE5: Intermediate | AI5: Final | AM5: Intermediate | AQ5: Final | AW5: Intermediate | AZ5: Final | BE5: Intermediate | BI5: Final | BM5: Intermediate | BQ5: Final
A6: Bus Name | B6: Config | C6: Voc | D6: Ibf | E6: Gap | F6: WDist | G6: Width | H6: Height | I6: Depth | J6: Iarc_600 | K6: Iarc_2700 | L6: Iarc_14300 | M6: Iarc_1 | N6: Iarc_2 | O6: Iarc_3 | P6: Iarc | Q6: T | R6: Type | S6: A | T6: B | U6: Width11 | V6: Eq_11 | W6: Height12 | X6: Eq_12 | Y6: Width1 | Z6: Height1 | AA6: ESS | AB6: Eq_14 | AC6: Eq_15 | AD6: CF | AE6: E≤600 | AF6: E600 | AG6: E2700 | AH6: E14300 | AI6: E1 | AJ6: E2 | AK6: E3 | AL6: E | AM6: AFB≤600 | AN6: AFB600 | AO6: AFB2700 | AP6: AFB14300 | AQ6: AFB1 | AR6: AFB2 | AS6: AFB3 | AT6: AFB | AU6: VarCf | AV6: 1-0,5*VarCf | AW6: Iarc_600_min | AX6: Iarc_2700_min | AY6: Iarc_14300_min | AZ6: Iarc_1 | BA6: Iarc_2 | BB6: Iarc_3 | BC6: Iarc_min | BD6: T | BE6: E≤600 | BF6: E600 | BG6: E2700 | BH6: E14300 | BI6: E1 | BJ6: E2 | BK6: E3 | BL6: E | BM6: AFB≤600 | BN6: AFB600 | BO6: AFB2700 | BP6: AFB14300 | BQ6: AFB1 | BR6: AFB2 | BS6: AFB3 | BT6: AFB
C7: [kV] | D7: [kA] | E7: [mm] | F7: [mm] | G7: [mm] | H7: [mm] | I7: [mm] | J7: [kA] | K7: [kA] | L7: [kA] | M7: [kA] | N7: [kA] | O7: [kA] | P7: [kA] | Q7: [ms] | AE7: [J/cm²] | AF7: [J/cm²] | AG7: [J/cm²] | AH7: [J/cm²] | AI7: [J/cm²] | AJ7: [J/cm²] | AK7: [J/cm²] | AL7: [J/cm²] | AM7: [mm] | AN7: [mm] | AO7: [mm] | AP7: [mm] | AQ7: [mm] | AR7: [mm] | AS7: [mm] | AT7: [mm] | AW7: [kA] | AX7: [kA] | AY7: [kA] | AZ7: [kA] | BA7: [kA] | BB7: [kA] | BC7: [kA] | BD7: [ms] | BE7: [J/cm²] | BF7: [J/cm²] | BG7: [J/cm²] | BH7: [J/cm²] | BI7: [J/cm²] | BJ7: [J/cm²] | BK7: [J/cm²] | BL7: [J/cm²] | BM7: [mm] | BN7: [mm] | BO7: [mm] | BP7: [mm] | BQ7: [mm] | BR7: [mm] | BS7: [mm] | BT7: [mm]
A8: Annex D.1 | B8: VCB | C8: 4.16 | D8: 15 | E8: 104 | F8: 914.4 | G8: 762 | H8: 1143 | I8: 254 | J8: =10^(SUMIFS(Table1!$C:$C,Table1!$B:$B,600,Table1!$A:$A,$B8)+SUMIFS(Table1!$D:$D,Table1!$B:$B,600,Table1!$A:$A,$B8)*LOG10($D8)+SUMIFS(Table1!$E:$E,Table1!$B:$B,600,Table1!$A:$A,$B8)*LOG10($E8))*(SUMIFS(Table1!$F:$F,Table1!$B:$B,600,Table1!$A:$A,$B8)*$D8^6+SUMIFS(Table1!$G:$G,Table1!$B:$B,600,Table1!$A:$A,$B8)*$D8^5+SUMIFS(Table1!$H:$H,Table1!$B:$B,600,Table1!$A:$A,$B8)*$D8^4+SUMIFS(Table1!$I:$I,Table1!$B:$B,600,Table1!$A:$A,$B8)*$D8^3+SUMIFS(Table1!$J:$J,Table1!$B:$B,600,Table1!$A:$A,$B8)*$D8^2+SUMIFS(Table1!$K:$K,Table1!$B:$B,600,Table1!$A:$A,$B8)*$D8+SUMIFS(Table1!$L:$L,Table1!$B:$B,600,Table1!$A:$A,$B8)) -> 11.116701 | K8: =10^(SUMIFS(Table1!$C:$C,Table1!$B:$B,2700,Table1!$A:$A,$B8)+SUMIFS(Table1!$D:$D,Table1!$B:$B,2700,Table1!$A:$A,$B8)*LOG10($D8)+SUMIFS(Table1!$E:$E,Table1!$B:$B,2700,Table1!$A:$A,$B8)*LOG10($E8))*(SUMIFS(Table1!$F:$F,Table1!$B:$B,2700,Table1!$A:$A,$B8)*$D8^6+SUMIFS(Table1!$G:$G,Table1!$B:$B,2700,Table1!$A:$A,$B8)*$D8^5+SUMIFS(Table1!$H:$H,Table1!$B:$B,2700,Table1!$A:$A,$B8)*$D8^4+SUMIFS(Table1!$I:$I,Table1!$B:$B,2700,Table1!$A:$A,$B8)*$D8^3+SUMIFS(Table1!$J:$J,Table1!$B:$B,2700,Table1!$A:$A,$B8)*$D8^2+SUMIFS(Table1!$K:$K,Table1!$B:$B,2700,Table1!$A:$A,$B8)*$D8+SUMIFS(Table1!$L:$L,Table1!$B:$B,2700,Table1!$A:$A,$B8)) -> 12.815761 | L8: =10^(SUMIFS(Table1!$C:$C,Table1!$B:$B,14300,Table1!$A:$A,$B8)+SUMIFS(Table1!$D:$D,Table1!$B:$B,14300,Table1!$A:$A,$B8)*LOG10($D8)+SUMIFS(Table1!$E:$E,Table1!$B:$B,14300,Table1!$A:$A,$B8)*LOG10($E8))*(SUMIFS(Table1!$F:$F,Table1!$B:$B,14300,Table1!$A:$A,$B8)*$D8^6+SUMIFS(Table1!$G:$G,Table1!$B:$B,14300,Table1!$A:$A,$B8)*$D8^5+SUMIFS(Table1!$H:$H,Table1!$B:$B,14300,Table1!$A:$A,$B8)*$D8^4+SUMIFS(Table1!$I:$I,Table1!$B:$B,14300,Table1!$A:$A,$B8)*$D8^3+SUMIFS(Table1!$J:$J,Table1!$B:$B,14300,Table1!$A:$A,$B8)*$D8^2+SUMIFS(Table1!$K:$K,Table1!$B:$B,14300,Table1!$A:$A,$B8)*$D8+SUMIFS(Table1!$L:$L,Table1!$B:$B,14300,Table1!$A:$A,$B8)) -> 14.11647 | M8: =((K8-J8)/2.1)*($C8-2.7)+K8 -> 13.997012 | N8: =((L8-K8)/11.6)*($C8-14.3)+L8 -> 12.979471 | O8: =(M8*(2.7-$C8)/2.1)+(N8*($C8-0.6)/2.1) -> 12.272038 | P8: =IF(AND($C8>=0.208,$C8<=0.6),1/SQRT((0.6/$C8)^2*(1/(J8)^2-(0.6^2-($C8)^2)/(0.6^2*($D8)^2))),IF(AND($C8>0.6,$C8<=2.7),O8,IF($C8>2.7,N8,"Errado"))) -> 12.979471 | Q8: 197 | R8: =IF(AND($C8<0.6,$G8<508,$H8<508,$I8<=203.2),"Shallow","Typical") -> Typical | S8: =IF($B8="VCB",4,IF($B8="VCBB",10,IF($B8="HCB",10,0))) -> 4 | T8: =IF($B8="VCB",20,IF($B8="VCBB",24,IF($B8="HCB",22,0))) -> 20 | U8: =IF($G8<=1244.6,$G8,1244.6) -> 762 | V8: =(660.4+($U8-660.4)*($C8+$S8)/$T8)*(1/25.4) -> 27.632 | W8: =IF($H8<=1244.6,$H8,1244.6) -> 1143 | X8: =(660.4+($W8-660.4)*($C8+$S8)/$T8)*(1/25.4) -> 33.752 | Y8: =IF($G8<508,IF($R8="Typical",20,0.03937*$G8),IF($G8<=660.4,0.03937*$G8,IF($G8<=1244.6,$V8,$V8))) -> 27.632 | Z8: =IF($H8<508,IF($R8="Typical",20,0.03937*$H8),IF($H8<=660.4,0.03937*$H8,IF($H8<=1244.6,IF($B8="VCB",0.03937*$H8,$X8),IF($B8="VCB",49,$X8)))) -> 44.99991 | AA8: =(Z8+Y8)/2 -> 36.315955 | AB8: =SUMIFS(Table7!C:C,Table7!A:A,"Typical",Table7!B:B,$B8)*$AA8^2+SUMIFS(Table7!D:D,Table7!A:A,"Typical",Table7!B:B,$B8)*$AA8+SUMIFS(Table7!E:E,Table7!A:A,"Typical",Table7!B:B,$B8) -> 1.2838397 | AC8: =1/(SUMIFS(Table7!C:C,Table7!A:A,"Shallow",Table7!B:B,$B8)*$AA8^2+SUMIFS(Table7!D:D,Table7!A:A,"Shallow",Table7!B:B,$B8)*$AA8+SUMIFS(Table7!E:E,Table7!A:A,"Shallow",Table7!B:B,$B8)) -> 0.38103283 | AD8: =IF(R8="Typical",AB8,AC8) -> 1.2838397 | AE8: =(12.552/50)*Q8*10^(SUMIFS(Table3!$B:$B,Table3!$A:$A,$B8)+SUMIFS(Table3!$C:$C,Table3!$A:$A,$B8)*LOG10($E8)+SUMIFS(Table3!$D:$D,Table3!$A:$A,$B8)*$J8/(SUMIFS(Table3!$E:$E,Table3!$A:$A,$B8)*$D8^7+SUMIFS(Table3!$F:$F,Table3!$A:$A,$B8)*$D8^6+SUMIFS(Table3!$G:$G,Table3!$A:$A,$B8)*$D8^5+SUMIFS(Table3!$H:$H,Table3!$A:$A,$B8)*$D8^4+SUMIFS(Table3!$I:$I,Table3!$A:$A,$B8)*$D8^3+SUMIFS(Table3!$J:$J,Table3!$A:$A,$B8)*$D8^2+SUMIFS(Table3!$K:$K,Table3!$A:$A,$B8)*$D8)+SUMIFS(Table3!$L:$L,Table3!$A:$A,$B8)*LOG10($D8)+SUMIFS(Table3!$M:$M,Table3!$A:$A,$B8)*LOG10($F8)+SUMIFS(Table3!$N:$N,Table3!$A:$A,$B8)*LOG10(P8)+LOG10(1/$AD8)) -> 10.035146 | AF8: =(12.552/50)*Q8*10^(SUMIFS(Table3!$B:$B,Table3!$A:$A,$B8)+SUMIFS(Table3!$C:$C,Table3!$A:$A,$B8)*LOG10($E8)+SUMIFS(Table3!$D:$D,Table3!$A:$A,$B8)*J8/(SUMIFS(Table3!$E:$E,Table3!$A:$A,$B8)*$D8^7+SUMIFS(Table3!$F:$F,Table3!$A:$A,$B8)*$D8^6+SUMIFS(Table3!$G:$G,Table3!$A:$A,$B8)*$D8^5+SUMIFS(Table3!$H:$H,Table3!$A:$A,$B8)*$D8^4+SUMIFS(Table3!$I:$I,Table3!$A:$A,$B8)*$D8^3+SUMIFS(Table3!$J:$J,Table3!$A:$A,$B8)*$D8^2+SUMIFS(Table3!$K:$K,Table3!$A:$A,$B8)*$D8)+SUMIFS(Table3!$L:$L,Table3!$A:$A,$B8)*LOG10($D8)+SUMIFS(Table3!$M:$M,Table3!$A:$A,$B8)*LOG10($F8)+SUMIFS(Table3!$N:$N,Table3!$A:$A,$B8)*LOG10(J8)+LOG10(1/$AD8)) -> 8.6523829 | AG8: =(12.552/50)*Q8*10^(SUMIFS(Table4!$B:$B,Table4!$A:$A,$B8)+SUMIFS(Table4!$C:$C,Table4!$A:$A,$B8)*LOG10($E8)+SUMIFS(Table4!$D:$D,Table4!$A:$A,$B8)*K8/(SUMIFS(Table4!$E:$E,Table4!$A:$A,$B8)*$D8^7+SUMIFS(Table4!$F:$F,Table4!$A:$A,$B8)*$D8^6+SUMIFS(Table4!$G:$G,Table4!$A:$A,$B8)*$D8^5+SUMIFS(Table4!$H:$H,Table4!$A:$A,$B8)*$D8^4+SUMIFS(Table4!$I:$I,Table4!$A:$A,$B8)*$D8^3+SUMIFS(Table4!$J:$J,Table4!$A:$A,$B8)*$D8^2+SUMIFS(Table4!$K:$K,Table4!$A:$A,$B8)*$D8)+SUMIFS(Table4!$L:$L,Table4!$A:$A,$B8)*LOG10($D8)+SUMIFS(Table4!$M:$M,Table4!$A:$A,$B8)*LOG10($F8)+SUMIFS(Table4!$N:$N,Table4!$A:$A,$B8)*LOG10(K8)+LOG10(1/$AD8)) -> 11.976781 | AH8: =(12.552/50)*Q8*10^(SUMIFS(Table5!$B:$B,Table5!$A:$A,$B8)+SUMIFS(Table5!$C:$C,Table5!$A:$A,$B8)*LOG10($E8)+SUMIFS(Table5!$D:$D,Table5!$A:$A,$B8)*L8/(SUMIFS(Table5!$E:$E,Table5!$A:$A,$B8)*$D8^7+SUMIFS(Table5!$F:$F,Table5!$A:$A,$B8)*$D8^6+SUMIFS(Table5!$G:$G,Table5!$A:$A,$B8)*$D8^5+SUMIFS(Table5!$H:$H,Table5!$A:$A,$B8)*$D8^4+SUMIFS(Table5!$I:$I,Table5!$A:$A,$B8)*$D8^3+SUMIFS(Table5!$J:$J,Table5!$A:$A,$B8)*$D8^2+SUMIFS(Table5!$K:$K,Table5!$A:$A,$B8)*$D8)+SUMIFS(Table5!$L:$L,Table5!$A:$A,$B8)*LOG10($D8)+SUMIFS(Table5!$M:$M,Table5!$A:$A,$B8)*LOG10($F8)+SUMIFS(Table5!$N:$N,Table5!$A:$A,$B8)*LOG10(L8)+LOG10(1/$AD8)) -> 13.366814 | AI8: =((AG8-AF8)/2.1)*($C8-2.7)+AG8 -> 14.288029 | AJ8: =((AH8-AG8)/11.6)*($C8-14.3)+AH8 -> 12.151733 | AK8: =AI8*(2.7-$C8)/2.1+AJ8*($C8-0.6)/2.1 -> 10.666499 | AL8: =IF(AND($C8>=0.208,$C8<=0.6),AE8,IF($C8<=2.7,AK8,AJ8)) -> 12.151733 | AM8: =10^((SUMIFS(Table3!$B:$B,Table3!$A:$A,$B8)+SUMIFS(Table3!$C:$C,Table3!$A:$A,$B8)*LOG10($E8)+(SUMIFS(Table3!$D:$D,Table3!$A:$A,$B8)*$J8)/(SUMIFS(Table3!$E:$E,Table3!$A:$A,$B8)*$D8^7+SUMIFS(Table3!$F:$F,Table3!$A:$A,$B8)*$D8^6+SUMIFS(Table3!$G:$G,Table3!$A:$A,$B8)*$D8^5+SUMIFS(Table3!$H:$H,Table3!$A:$A,$B8)*$D8^4+SUMIFS(Table3!$I:$I,Table3!$A:$A,$B8)*$D8^3+SUMIFS(Table3!$J:$J,Table3!$A:$A,$B8)*$D8^2+SUMIFS(Table3!$K:$K,Table3!$A:$A,$B8)*$D8)+SUMIFS(Table3!$L:$L,Table3!$A:$A,$B8)*LOG10($D8)+SUMIFS(Table3!$N:$N,Table3!$A:$A,$B8)*LOG10(P8)+LOG10(1/$AD8)-LOG10(20/Q8))/-SUMIFS(Table3!$M:$M,Table3!$A:$A,$B8)) -> 1410.3948 | AN8: =10^((SUMIFS(Table3!$B:$B,Table3!$A:$A,$B8)+SUMIFS(Table3!$C:$C,Table3!$A:$A,$B8)*LOG10($E8)+(SUMIFS(Table3!$D:$D,Table3!$A:$A,$B8)*J8)/(SUMIFS(Table3!$E:$E,Table3!$A:$A,$B8)*$D8^7+SUMIFS(Table3!$F:$F,Table3!$A:$A,$B8)*$D8^6+SUMIFS(Table3!$G:$G,Table3!$A:$A,$B8)*$D8^5+SUMIFS(Table3!$H:$H,Table3!$A:$A,$B8)*$D8^4+SUMIFS(Table3!$I:$I,Table3!$A:$A,$B8)*$D8^3+SUMIFS(Table3!$J:$J,Table3!$A:$A,$B8)*$D8^2+SUMIFS(Table3!$K:$K,Table3!$A:$A,$B8)*$D8)+SUMIFS(Table3!$L:$L,Table3!$A:$A,$B8)*LOG10($D8)+SUMIFS(Table3!$N:$N,Table3!$A:$A,$B8)*LOG10(J8)+LOG10(1/$AD8)-LOG10(20/Q8))/-SUMIFS(Table3!$M:$M,Table3!$A:$A,$B8)) -> 1285.4283 | AO8: =10^((SUMIFS(Table4!$B:$B,Table4!$A:$A,$B8)+SUMIFS(Table4!$C:$C,Table4!$A:$A,$B8)*LOG10($E8)+(SUMIFS(Table4!$D:$D,Table4!$A:$A,$B8)*K8)/(SUMIFS(Table4!$E:$E,Table4!$A:$A,$B8)*$D8^7+SUMIFS(Table4!$F:$F,Table4!$A:$A,$B8)*$D8^6+SUMIFS(Table4!$G:$G,Table4!$A:$A,$B8)*$D8^5+SUMIFS(Table4!$H:$H,Table4!$A:$A,$B8)*$D8^4+SUMIFS(Table4!$I:$I,Table4!$A:$A,$B8)*$D8^3+SUMIFS(Table4!$J:$J,Table4!$A:$A,$B8)*$D8^2+SUMIFS(Table4!$K:$K,Table4!$A:$A,$B8)*$D8)+SUMIFS(Table4!$L:$L,Table4!$A:$A,$B8)*LOG10($D8)+SUMIFS(Table4!$N:$N,Table4!$A:$A,$B8)*LOG10(K8)+LOG10(1/$AD8)-LOG10(20/Q8))/-SUMIFS(Table4!$M:$M,Table4!$A:$A,$B8)) -> 1591.3956 | AP8: =10^((SUMIFS(Table5!$B:$B,Table5!$A:$A,$B8)+SUMIFS(Table5!$C:$C,Table5!$A:$A,$B8)*LOG10($E8)+(SUMIFS(Table5!$D:$D,Table5!$A:$A,$B8)*L8)/(SUMIFS(Table5!$E:$E,Table5!$A:$A,$B8)*$D8^7+SUMIFS(Table5!$F:$F,Table5!$A:$A,$B8)*$D8^6+SUMIFS(Table5!$G:$G,Table5!$A:$A,$B8)*$D8^5+SUMIFS(Table5!$H:$H,Table5!$A:$A,$B8)*$D8^4+SUMIFS(Table5!$I:$I,Table5!$A:$A,$B8)*$D8^3+SUMIFS(Table5!$J:$J,Table5!$A:$A,$B8)*$D8^2+SUMIFS(Table5!$K:$K,Table5!$A:$A,$B8)*$D8)+SUMIFS(Table5!$L:$L,Table5!$A:$A,$B8)*LOG10($D8)+SUMIFS(Table5!$N:$N,Table5!$A:$A,$B8)*LOG10(L8)+LOG10(1/$AD8)-LOG10(20/Q8))/-SUMIFS(Table5!$M:$M,Table5!$A:$A,$B8)) -> 1707.4373 | AQ8: =((AO8-AN8)/2.1)*($C8-2.7)+AO8 -> 1804.1157 | AR8: =((AP8-AO8)/11.6)*($C8-14.3)+AP8 -> 1606.0008 | AS8: =(AQ8*(2.7-$C8)/2.1)+(AR8*($C8-0.6)/2.1) -> 1468.2638 | AT8: =IF(AND($C8>=0.208,$C8<=0.6),AM8,IF($C8<=2.7,AS8,AR8)) -> 1606.0008 | AU8: =SUMIFS(Table2!$B:$B,Table2!$A:$A,$B8)*$C8^6+SUMIFS(Table2!$C:$C,Table2!$A:$A,$B8)*$C8^5+SUMIFS(Table2!$D:$D,Table2!$A:$A,$B8)*$C8^4+SUMIFS(Table2!$E:$E,Table2!$A:$A,$B8)*$C8^3+SUMIFS(Table2!$F:$F,Table2!$A:$A,$B8)*$C8^2+SUMIFS(Table2!$G:$G,Table2!$A:$A,$B8)*$C8+SUMIFS(Table2!$H:$H,Table2!$A:$A,$B8) -> 0.046871997 | AV8: =1-0.5*AU8 -> 0.976564 | AW8: =J8*$AV8 -> 10.85617 | AX8: =K8*$AV8 -> 12.515411 | AY8: =L8*$AV8 -> 13.785636 | AZ8: =((AX8-AW8)/2.1)*($C8-2.7)+AX8 -> 13.668978 | BA8: =((AY8-AX8)/11.6)*($C8-14.3)+AY8 -> 12.675284 | BB8: =(AZ8*(2.7-$C8)/2.1)+(BA8*($C8-0.6)/2.1) -> 11.98443 | BC8: =IF(AND($C8>=0.208,$C8<=0.6),1/SQRT((0.6/$C8)^2*(1/(J8)^2-(0.6^2-($C8)^2)/(0.6^2*($D8)^2)))*AV8,IF(AND($C8>0.6,$C8<=2.7),BB8,IF($C8>2.7,BA8,"Erro"))) -> 12.675284 | BD8: 223 | BE8: =(12.552/50)*BD8*10^(SUMIFS(Table3!$B:$B,Table3!$A:$A,$B8)+SUMIFS(Table3!$C:$C,Table3!$A:$A,$B8)*LOG10($E8)+SUMIFS(Table3!$D:$D,Table3!$A:$A,$B8)*$J8/(SUMIFS(Table3!$E:$E,Table3!$A:$A,$B8)*$D8^7+SUMIFS(Table3!$F:$F,Table3!$A:$A,$B8)*$D8^6+SUMIFS(Table3!$G:$G,Table3!$A:$A,$B8)*$D8^5+SUMIFS(Table3!$H:$H,Table3!$A:$A,$B8)*$D8^4+SUMIFS(Table3!$I:$I,Table3!$A:$A,$B8)*$D8^3+SUMIFS(Table3!$J:$J,Table3!$A:$A,$B8)*$D8^2+SUMIFS(Table3!$K:$K,Table3!$A:$A,$B8)*$D8)+SUMIFS(Table3!$L:$L,Table3!$A:$A,$B8)*LOG10($D8)+SUMIFS(Table3!$M:$M,Table3!$A:$A,$B8)*LOG10($F8)+SUMIFS(Table3!$N:$N,Table3!$A:$A,$B8)*LOG10(BC8)+LOG10(1/$AD8)) -> 11.104676 | BF8: =(12.552/50)*BD8*10^(SUMIFS(Table3!$B:$B,Table3!$A:$A,$B8)+SUMIFS(Table3!$C:$C,Table3!$A:$A,$B8)*LOG10($E8)+SUMIFS(Table3!$D:$D,Table3!$A:$A,$B8)*AW8/(SUMIFS(Table3!$E:$E,Table3!$A:$A,$B8)*$D8^7+SUMIFS(Table3!$F:$F,Table3!$A:$A,$B8)*$D8^6+SUMIFS(Table3!$G:$G,Table3!$A:$A,$B8)*$D8^5+SUMIFS(Table3!$H:$H,Table3!$A:$A,$B8)*$D8^4+SUMIFS(Table3!$I:$I,Table3!$A:$A,$B8)*$D8^3+SUMIFS(Table3!$J:$J,Table3!$A:$A,$B8)*$D8^2+SUMIFS(Table3!$K:$K,Table3!$A:$A,$B8)*$D8)+SUMIFS(Table3!$L:$L,Table3!$A:$A,$B8)*LOG10($D8)+SUMIFS(Table3!$M:$M,Table3!$A:$A,$B8)*LOG10($F8)+SUMIFS(Table3!$N:$N,Table3!$A:$A,$B8)*LOG10(AW8)+LOG10(1/$AD8)) -> 8.9803177 | BG8: =(12.552/50)*BD8*10^(SUMIFS(Table4!$B:$B,Table4!$A:$A,$B8)+SUMIFS(Table4!$C:$C,Table4!$A:$A,$B8)*LOG10($E8)+SUMIFS(Table4!$D:$D,Table4!$A:$A,$B8)*AX8/(SUMIFS(Table4!$E:$E,Table4!$A:$A,$B8)*$D8^7+SUMIFS(Table4!$F:$F,Table4!$A:$A,$B8)*$D8^6+SUMIFS(Table4!$G:$G,Table4!$A:$A,$B8)*$D8^5+SUMIFS(Table4!$H:$H,Table4!$A:$A,$B8)*$D8^4+SUMIFS(Table4!$I:$I,Table4!$A:$A,$B8)*$D8^3+SUMIFS(Table4!$J:$J,Table4!$A:$A,$B8)*$D8^2+SUMIFS(Table4!$K:$K,Table4!$A:$A,$B8)*$D8)+SUMIFS(Table4!$L:$L,Table4!$A:$A,$B8)*LOG10($D8)+SUMIFS(Table4!$M:$M,Table4!$A:$A,$B8)*LOG10($F8)+SUMIFS(Table4!$N:$N,Table4!$A:$A,$B8)*LOG10(AX8)+LOG10(1/$AD8)) -> 13.018177 | BH8: =(12.552/50)*BD8*10^(SUMIFS(Table5!$B:$B,Table5!$A:$A,$B8)+SUMIFS(Table5!$C:$C,Table5!$A:$A,$B8)*LOG10($E8)+SUMIFS(Table5!$D:$D,Table5!$A:$A,$B8)*AY8/(SUMIFS(Table5!$E:$E,Table5!$A:$A,$B8)*$D8^7+SUMIFS(Table5!$F:$F,Table5!$A:$A,$B8)*$D8^6+SUMIFS(Table5!$G:$G,Table5!$A:$A,$B8)*$D8^5+SUMIFS(Table5!$H:$H,Table5!$A:$A,$B8)*$D8^4+SUMIFS(Table5!$I:$I,Table5!$A:$A,$B8)*$D8^3+SUMIFS(Table5!$J:$J,Table5!$A:$A,$B8)*$D8^2+SUMIFS(Table5!$K:$K,Table5!$A:$A,$B8)*$D8)+SUMIFS(Table5!$L:$L,Table5!$A:$A,$B8)*LOG10($D8)+SUMIFS(Table5!$M:$M,Table5!$A:$A,$B8)*LOG10($F8)+SUMIFS(Table5!$N:$N,Table5!$A:$A,$B8)*LOG10(AY8)+LOG10(1/$AD8)) -> 15.601554 | BI8: =((BG8-BF8)/2.1)*($C8-2.7)+BG8 -> 15.825451 | BJ8: =((BH8-BG8)/11.6)*($C8-14.3)+BH8 -> 13.343327 | BK8: =BI8*(2.7-$C8)/2.1+BJ8*($C8-0.6)/2.1 -> 11.617659 | BL8: =IF(AND($C8>=0.208,$C8<=0.6),BE8,IF($C8<=2.7,BK8,BJ8)) -> 13.343327 | BM8: =10^((SUMIFS(Table3!$B:$B,Table3!$A:$A,$B8)+SUMIFS(Table3!$C:$C,Table3!$A:$A,$B8)*LOG10($E8)+(SUMIFS(Table3!$D:$D,Table3!$A:$A,$B8)*$J8)/(SUMIFS(Table3!$E:$E,Table3!$A:$A,$B8)*$D8^7+SUMIFS(Table3!$F:$F,Table3!$A:$A,$B8)*$D8^6+SUMIFS(Table3!$G:$G,Table3!$A:$A,$B8)*$D8^5+SUMIFS(Table3!$H:$H,Table3!$A:$A,$B8)*$D8^4+SUMIFS(Table3!$I:$I,Table3!$A:$A,$B8)*$D8^3+SUMIFS(Table3!$J:$J,Table3!$A:$A,$B8)*$D8^2+SUMIFS(Table3!$K:$K,Table3!$A:$A,$B8)*$D8)+SUMIFS(Table3!$L:$L,Table3!$A:$A,$B8)*LOG10($D8)+SUMIFS(Table3!$N:$N,Table3!$A:$A,$B8)*LOG10(BC8)+LOG10(1/$AD8)-LOG10(20/BD8))/-SUMIFS(Table3!$M:$M,Table3!$A:$A,$B8)) -> 1502.6713 | BN8: =10^((SUMIFS(Table3!$B:$B,Table3!$A:$A,$B8)+SUMIFS(Table3!$C:$C,Table3!$A:$A,$B8)*LOG10($E8)+(SUMIFS(Table3!$D:$D,Table3!$A:$A,$B8)*AW8)/(SUMIFS(Table3!$E:$E,Table3!$A:$A,$B8)*$D8^7+SUMIFS(Table3!$F:$F,Table3!$A:$A,$B8)*$D8^6+SUMIFS(Table3!$G:$G,Table3!$A:$A,$B8)*$D8^5+SUMIFS(Table3!$H:$H,Table3!$A:$A,$B8)*$D8^4+SUMIFS(Table3!$I:$I,Table3!$A:$A,$B8)*$D8^3+SUMIFS(Table3!$J:$J,Table3!$A:$A,$B8)*$D8^2+SUMIFS(Table3!$K:$K,Table3!$A:$A,$B8)*$D8)+SUMIFS(Table3!$L:$L,Table3!$A:$A,$B8)*LOG10($D8)+SUMIFS(Table3!$N:$N,Table3!$A:$A,$B8)*LOG10(AW8)+LOG10(1/$AD8)-LOG10(20/BD8))/-SUMIFS(Table3!$M:$M,Table3!$A:$A,$B8)) -> 1315.7034 | BO8: =10^((SUMIFS(Table4!$B:$B,Table4!$A:$A,$B8)+SUMIFS(Table4!$C:$C,Table4!$A:$A,$B8)*LOG10($E8)+(SUMIFS(Table4!$D:$D,Table4!$A:$A,$B8)*AX8)/(SUMIFS(Table4!$E:$E,Table4!$A:$A,$B8)*$D8^7+SUMIFS(Table4!$F:$F,Table4!$A:$A,$B8)*$D8^6+SUMIFS(Table4!$G:$G,Table4!$A:$A,$B8)*$D8^5+SUMIFS(Table4!$H:$H,Table4!$A:$A,$B8)*$D8^4+SUMIFS(Table4!$I:$I,Table4!$A:$A,$B8)*$D8^3+SUMIFS(Table4!$J:$J,Table4!$A:$A,$B8)*$D8^2+SUMIFS(Table4!$K:$K,Table4!$A:$A,$B8)*$D8)+SUMIFS(Table4!$L:$L,Table4!$A:$A,$B8)*LOG10($D8)+SUMIFS(Table4!$N:$N,Table4!$A:$A,$B8)*LOG10(AX8)+LOG10(1/$AD8)-LOG10(20/BD8))/-SUMIFS(Table4!$M:$M,Table4!$A:$A,$B8)) -> 1678.2497 | BP8: =10^((SUMIFS(Table5!$B:$B,Table5!$A:$A,$B8)+SUMIFS(Table5!$C:$C,Table5!$A:$A,$B8)*LOG10($E8)+(SUMIFS(Table5!$D:$D,Table5!$A:$A,$B8)*AY8)/(SUMIFS(Table5!$E:$E,Table5!$A:$A,$B8)*$D8^7+SUMIFS(Table5!$F:$F,Table5!$A:$A,$B8)*$D8^6+SUMIFS(Table5!$G:$G,Table5!$A:$A,$B8)*$D8^5+SUMIFS(Table5!$H:$H,Table5!$A:$A,$B8)*$D8^4+SUMIFS(Table5!$I:$I,Table5!$A:$A,$B8)*$D8^3+SUMIFS(Table5!$J:$J,Table5!$A:$A,$B8)*$D8^2+SUMIFS(Table5!$K:$K,Table5!$A:$A,$B8)*$D8)+SUMIFS(Table5!$L:$L,Table5!$A:$A,$B8)*LOG10($D8)+SUMIFS(Table5!$N:$N,Table5!$A:$A,$B8)*LOG10(AY8)+LOG10(1/$AD8)-LOG10(20/BD8))/-SUMIFS(Table5!$M:$M,Table5!$A:$A,$B8)) -> 1884.3588 | BQ8: =((BO8-BN8)/2.1)*($C8-2.7)+BO8 -> 1930.3058 | BR8: =((BP8-BO8)/11.6)*($C8-14.3)+BP8 -> 1704.1911 | BS8: =(BQ8*(2.7-$C8)/2.1)+(BR8*($C8-0.6)/2.1) -> 1546.9875 | BT8: =IF(AND($C8>=0.208,$C8<=0.6),BM8,IF($C8<=2.7,BS8,BR8)) -> 1704.1911
A9: Annex D.2 | B9: VCB | C9: 0.48 | D9: 45 | E9: 32 | F9: 609.6 | G9: 610 | H9: 610 | I9: 254 | J9: =10^(SUMIFS(Table1!$C:$C,Table1!$B:$B,600,Table1!$A:$A,$B9)+SUMIFS(Table1!$D:$D,Table1!$B:$B,600,Table1!$A:$A,$B9)*LOG10($D9)+SUMIFS(Table1!$E:$E,Table1!$B:$B,600,Table1!$A:$A,$B9)*LOG10($E9))*(SUMIFS(Table1!$F:$F,Table1!$B:$B,600,Table1!$A:$A,$B9)*$D9^6+SUMIFS(Table1!$G:$G,Table1!$B:$B,600,Table1!$A:$A,$B9)*$D9^5+SUMIFS(Table1!$H:$H,Table1!$B:$B,600,Table1!$A:$A,$B9)*$D9^4+SUMIFS(Table1!$I:$I,Table1!$B:$B,600,Table1!$A:$A,$B9)*$D9^3+SUMIFS(Table1!$J:$J,Table1!$B:$B,600,Table1!$A:$A,$B9)*$D9^2+SUMIFS(Table1!$K:$K,Table1!$B:$B,600,Table1!$A:$A,$B9)*$D9+SUMIFS(Table1!$L:$L,Table1!$B:$B,600,Table1!$A:$A,$B9)) -> 32.448669 | K9: =10^(SUMIFS(Table1!$C:$C,Table1!$B:$B,2700,Table1!$A:$A,$B9)+SUMIFS(Table1!$D:$D,Table1!$B:$B,2700,Table1!$A:$A,$B9)*LOG10($D9)+SUMIFS(Table1!$E:$E,Table1!$B:$B,2700,Table1!$A:$A,$B9)*LOG10($E9))*(SUMIFS(Table1!$F:$F,Table1!$B:$B,2700,Table1!$A:$A,$B9)*$D9^6+SUMIFS(Table1!$G:$G,Table1!$B:$B,2700,Table1!$A:$A,$B9)*$D9^5+SUMIFS(Table1!$H:$H,Table1!$B:$B,2700,Table1!$A:$A,$B9)*$D9^4+SUMIFS(Table1!$I:$I,Table1!$B:$B,2700,Table1!$A:$A,$B9)*$D9^3+SUMIFS(Table1!$J:$J,Table1!$B:$B,2700,Table1!$A:$A,$B9)*$D9^2+SUMIFS(Table1!$K:$K,Table1!$B:$B,2700,Table1!$A:$A,$B9)*$D9+SUMIFS(Table1!$L:$L,Table1!$B:$B,2700,Table1!$A:$A,$B9)) -> 38.642963 | L9: =10^(SUMIFS(Table1!$C:$C,Table1!$B:$B,14300,Table1!$A:$A,$B9)+SUMIFS(Table1!$D:$D,Table1!$B:$B,14300,Table1!$A:$A,$B9)*LOG10($D9)+SUMIFS(Table1!$E:$E,Table1!$B:$B,14300,Table1!$A:$A,$B9)*LOG10($E9))*(SUMIFS(Table1!$F:$F,Table1!$B:$B,14300,Table1!$A:$A,$B9)*$D9^6+SUMIFS(Table1!$G:$G,Table1!$B:$B,14300,Table1!$A:$A,$B9)*$D9^5+SUMIFS(Table1!$H:$H,Table1!$B:$B,14300,Table1!$A:$A,$B9)*$D9^4+SUMIFS(Table1!$I:$I,Table1!$B:$B,14300,Table1!$A:$A,$B9)*$D9^3+SUMIFS(Table1!$J:$J,Table1!$B:$B,14300,Table1!$A:$A,$B9)*$D9^2+SUMIFS(Table1!$K:$K,Table1!$B:$B,14300,Table1!$A:$A,$B9)*$D9+SUMIFS(Table1!$L:$L,Table1!$B:$B,14300,Table1!$A:$A,$B9)) -> 42.567421 | M9: =((K9-J9)/2.1)*($C9-2.7)+K9 -> 32.094709 | N9: =((L9-K9)/11.6)*($C9-14.3)+L9 -> 37.891903 | O9: =(M9*(2.7-$C9)/2.1)+(N9*($C9-0.6)/2.1) -> 31.763441 | P9: =IF(AND($C9>=0.208,$C9<=0.6),1/SQRT((0.6/$C9)^2*(1/(J9)^2-(0.6^2-($C9)^2)/(0.6^2*($D9)^2))),IF(AND($C9>0.6,$C9<=2.7),O9,IF($C9>2.7,N9,"Errado"))) -> 28.793273 | Q9: 61.3 | R9: =IF(AND($C9<0.6,$G9<508,$H9<508,$I9<=203.2),"Shallow","Typical") -> Typical | S9: =IF($B9="VCB",4,IF($B9="VCBB",10,IF($B9="HCB",10,0))) -> 4 | T9: =IF($B9="VCB",20,IF($B9="VCBB",24,IF($B9="HCB",22,0))) -> 20 | U9: =IF($G9<=1244.6,$G9,1244.6) -> 610 | V9: =(660.4+($U9-660.4)*($C9+$S9)/$T9)*(1/25.4) -> 25.555528 | W9: =IF($H9<=1244.6,$H9,1244.6) -> 610 | X9: =(660.4+($W9-660.4)*($C9+$S9)/$T9)*(1/25.4) -> 25.555528 | Y9: =IF($G9<508,IF($R9="Typical",20,0.03937*$G9),IF($G9<=660.4,0.03937*$G9,IF($G9<=1244.6,$V9,$V9))) -> 24.0157 | Z9: =IF($H9<508,IF($R9="Typical",20,0.03937*$H9),IF($H9<=660.4,0.03937*$H9,IF($H9<=1244.6,IF($B9="VCB",0.03937*$H9,$X9),IF($B9="VCB",49,$X9)))) -> 24.0157 | AA9: =(Z9+Y9)/2 -> 24.0157 | AB9: =SUMIFS(Table7!C:C,Table7!A:A,"Typical",Table7!B:B,$B9)*$AA9^2+SUMIFS(Table7!D:D,Table7!A:A,"Typical",Table7!B:B,$B9)*$AA9+SUMIFS(Table7!E:E,Table7!A:A,"Typical",Table7!B:B,$B9) -> 1.0847006 | AC9: =1/(SUMIFS(Table7!C:C,Table7!A:A,"Shallow",Table7!B:B,$B9)*$AA9^2+SUMIFS(Table7!D:D,Table7!A:A,"Shallow",Table7!B:B,$B9)*$AA9+SUMIFS(Table7!E:E,Table7!A:A,"Shallow",Table7!B:B,$B9)) -> 0.77525044 | AD9: =IF(R9="Typical",AB9,AC9) -> 1.0847006 | AE9: =(12.552/50)*Q9*10^(SUMIFS(Table3!$B:$B,Table3!$A:$A,$B9)+SUMIFS(Table3!$C:$C,Table3!$A:$A,$B9)*LOG10($E9)+SUMIFS(Table3!$D:$D,Table3!$A:$A,$B9)*$J9/(SUMIFS(Table3!$E:$E,Table3!$A:$A,$B9)*$D9^7+SUMIFS(Table3!$F:$F,Table3!$A:$A,$B9)*$D9^6+SUMIFS(Table3!$G:$G,Table3!$A:$A,$B9)*$D9^5+SUMIFS(Table3!$H:$H,Table3!$A:$A,$B9)*$D9^4+SUMIFS(Table3!$I:$I,Table3!$A:$A,$B9)*$D9^3+SUMIFS(Table3!$J:$J,Table3!$A:$A,$B9)*$D9^2+SUMIFS(Table3!$K:$K,Table3!$A:$A,$B9)*$D9)+SUMIFS(Table3!$L:$L,Table3!$A:$A,$B9)*LOG10($D9)+SUMIFS(Table3!$M:$M,Table3!$A:$A,$B9)*LOG10($F9)+SUMIFS(Table3!$N:$N,Table3!$A:$A,$B9)*LOG10(P9)+LOG10(1/$AD9)) -> 11.584955 | AF9: =(12.552/50)*Q9*10^(SUMIFS(Table3!$B:$B,Table3!$A:$A,$B9)+SUMIFS(Table3!$C:$C,Table3!$A:$A,$B9)*LOG10($E9)+SUMIFS(Table3!$D:$D,Table3!$A:$A,$B9)*J9/(SUMIFS(Table3!$E:$E,Table3!$A:$A,$B9)*$D9^7+SUMIFS(Table3!$F:$F,Table3!$A:$A,$B9)*$D9^6+SUMIFS(Table3!$G:$G,Table3!$A:$A,$B9)*$D9^5+SUMIFS(Table3!$H:$H,Table3!$A:$A,$B9)*$D9^4+SUMIFS(Table3!$I:$I,Table3!$A:$A,$B9)*$D9^3+SUMIFS(Table3!$J:$J,Table3!$A:$A,$B9)*$D9^2+SUMIFS(Table3!$K:$K,Table3!$A:$A,$B9)*$D9)+SUMIFS(Table3!$L:$L,Table3!$A:$A,$B9)*LOG10($D9)+SUMIFS(Table3!$M:$M,Table3!$A:$A,$B9)*LOG10($F9)+SUMIFS(Table3!$N:$N,Table3!$A:$A,$B9)*LOG10(J9)+LOG10(1/$AD9)) -> 12.988776 | AG9: =(12.552/50)*Q9*10^(SUMIFS(Table4!$B:$B,Table4!$A:$A,$B9)+SUMIFS(Table4!$C:$C,Table4!$A:$A,$B9)*LOG10($E9)+SUMIFS(Table4!$D:$D,Table4!$A:$A,$B9)*K9/(SUMIFS(Table4!$E:$E,Table4!$A:$A,$B9)*$D9^7+SUMIFS(Table4!$F:$F,Table4!$A:$A,$B9)*$D9^6+SUMIFS(Table4!$G:$G,Table4!$A:$A,$B9)*$D9^5+SUMIFS(Table4!$H:$H,Table4!$A:$A,$B9)*$D9^4+SUMIFS(Table4!$I:$I,Table4!$A:$A,$B9)*$D9^3+SUMIFS(Table4!$J:$J,Table4!$A:$A,$B9)*$D9^2+SUMIFS(Table4!$K:$K,Table4!$A:$A,$B9)*$D9)+SUMIFS(Table4!$L:$L,Table4!$A:$A,$B9)*LOG10($D9)+SUMIFS(Table4!$M:$M,Table4!$A:$A,$B9)*LOG10($F9)+SUMIFS(Table4!$N:$N,Table4!$A:$A,$B9)*LOG10(K9)+LOG10(1/$AD9)) -> 20.637837 | AH9: =(12.552/50)*Q9*10^(SUMIFS(Table5!$B:$B,Table5!$A:$A,$B9)+SUMIFS(Table5!$C:$C,Table5!$A:$A,$B9)*LOG10($E9)+SUMIFS(Table5!$D:$D,Table5!$A:$A,$B9)*L9/(SUMIFS(Table5!$E:$E,Table5!$A:$A,$B9)*$D9^7+SUMIFS(Table5!$F:$F,Table5!$A:$A,$B9)*$D9^6+SUMIFS(Table5!$G:$G,Table5!$A:$A,$B9)*$D9^5+SUMIFS(Table5!$H:$H,Table5!$A:$A,$B9)*$D9^4+SUMIFS(Table5!$I:$I,Table5!$A:$A,$B9)*$D9^3+SUMIFS(Table5!$J:$J,Table5!$A:$A,$B9)*$D9^2+SUMIFS(Table5!$K:$K,Table5!$A:$A,$B9)*$D9)+SUMIFS(Table5!$L:$L,Table5!$A:$A,$B9)*LOG10($D9)+SUMIFS(Table5!$M:$M,Table5!$A:$A,$B9)*LOG10($F9)+SUMIFS(Table5!$N:$N,Table5!$A:$A,$B9)*LOG10(L9)+LOG10(1/$AD9)) -> 22.731288 | AI9: =((AG9-AF9)/2.1)*($C9-2.7)+AG9 -> 12.551687 | AJ9: =((AH9-AG9)/11.6)*($C9-14.3)+AH9 -> 20.237194 | AK9: =AI9*(2.7-$C9)/2.1+AJ9*($C9-0.6)/2.1 -> 12.112515 | AL9: =IF(AND($C9>=0.208,$C9<=0.6),AE9,IF($C9<=2.7,AK9,AJ9)) -> 11.584955 | AM9: =10^((SUMIFS(Table3!$B:$B,Table3!$A:$A,$B9)+SUMIFS(Table3!$C:$C,Table3!$A:$A,$B9)*LOG10($E9)+(SUMIFS(Table3!$D:$D,Table3!$A:$A,$B9)*$J9)/(SUMIFS(Table3!$E:$E,Table3!$A:$A,$B9)*$D9^7+SUMIFS(Table3!$F:$F,Table3!$A:$A,$B9)*$D9^6+SUMIFS(Table3!$G:$G,Table3!$A:$A,$B9)*$D9^5+SUMIFS(Table3!$H:$H,Table3!$A:$A,$B9)*$D9^4+SUMIFS(Table3!$I:$I,Table3!$A:$A,$B9)*$D9^3+SUMIFS(Table3!$J:$J,Table3!$A:$A,$B9)*$D9^2+SUMIFS(Table3!$K:$K,Table3!$A:$A,$B9)*$D9)+SUMIFS(Table3!$L:$L,Table3!$A:$A,$B9)*LOG10($D9)+SUMIFS(Table3!$N:$N,Table3!$A:$A,$B9)*LOG10(P9)+LOG10(1/$AD9)-LOG10(20/Q9))/-SUMIFS(Table3!$M:$M,Table3!$A:$A,$B9)) -> 1028.679 | AN9: =10^((SUMIFS(Table3!$B:$B,Table3!$A:$A,$B9)+SUMIFS(Table3!$C:$C,Table3!$A:$A,$B9)*LOG10($E9)+(SUMIFS(Table3!$D:$D,Table3!$A:$A,$B9)*J9)/(SUMIFS(Table3!$E:$E,Table3!$A:$A,$B9)*$D9^7+SUMIFS(Table3!$F:$F,Table3!$A:$A,$B9)*$D9^6+SUMIFS(Table3!$G:$G,Table3!$A:$A,$B9)*$D9^5+SUMIFS(Table3!$H:$H,Table3!$A:$A,$B9)*$D9^4+SUMIFS(Table3!$I:$I,Table3!$A:$A,$B9)*$D9^3+SUMIFS(Table3!$J:$J,Table3!$A:$A,$B9)*$D9^2+SUMIFS(Table3!$K:$K,Table3!$A:$A,$B9)*$D9)+SUMIFS(Table3!$L:$L,Table3!$A:$A,$B9)*LOG10($D9)+SUMIFS(Table3!$N:$N,Table3!$A:$A,$B9)*LOG10(J9)+LOG10(1/$AD9)-LOG10(20/Q9))/-SUMIFS(Table3!$M:$M,Table3!$A:$A,$B9)) -> 1105.0068 | AO9: =10^((SUMIFS(Table4!$B:$B,Table4!$A:$A,$B9)+SUMIFS(Table4!$C:$C,Table4!$A:$A,$B9)*LOG10($E9)+(SUMIFS(Table4!$D:$D,Table4!$A:$A,$B9)*K9)/(SUMIFS(Table4!$E:$E,Table4!$A:$A,$B9)*$D9^7+SUMIFS(Table4!$F:$F,Table4!$A:$A,$B9)*$D9^6+SUMIFS(Table4!$G:$G,Table4!$A:$A,$B9)*$D9^5+SUMIFS(Table4!$H:$H,Table4!$A:$A,$B9)*$D9^4+SUMIFS(Table4!$I:$I,Table4!$A:$A,$B9)*$D9^3+SUMIFS(Table4!$J:$J,Table4!$A:$A,$B9)*$D9^2+SUMIFS(Table4!$K:$K,Table4!$A:$A,$B9)*$D9)+SUMIFS(Table4!$L:$L,Table4!$A:$A,$B9)*LOG10($D9)+SUMIFS(Table4!$N:$N,Table4!$A:$A,$B9)*LOG10(K9)+LOG10(1/$AD9)-LOG10(20/Q9))/-SUMIFS(Table4!$M:$M,Table4!$A:$A,$B9)) -> 1500.7478 | AP9: =10^((SUMIFS(Table5!$B:$B,Table5!$A:$A,$B9)+SUMIFS(Table5!$C:$C,Table5!$A:$A,$B9)*LOG10($E9)+(SUMIFS(Table5!$D:$D,Table5!$A:$A,$B9)*L9)/(SUMIFS(Table5!$E:$E,Table5!$A:$A,$B9)*$D9^7+SUMIFS(Table5!$F:$F,Table5!$A:$A,$B9)*$D9^6+SUMIFS(Table5!$G:$G,Table5!$A:$A,$B9)*$D9^5+SUMIFS(Table5!$H:$H,Table5!$A:$A,$B9)*$D9^4+SUMIFS(Table5!$I:$I,Table5!$A:$A,$B9)*$D9^3+SUMIFS(Table5!$J:$J,Table5!$A:$A,$B9)*$D9^2+SUMIFS(Table5!$K:$K,Table5!$A:$A,$B9)*$D9)+SUMIFS(Table5!$L:$L,Table5!$A:$A,$B9)*LOG10($D9)+SUMIFS(Table5!$N:$N,Table5!$A:$A,$B9)*LOG10(L9)+LOG10(1/$AD9)-LOG10(20/Q9))/-SUMIFS(Table5!$M:$M,Table5!$A:$A,$B9)) -> 1597.0458 | AQ9: =((AO9-AN9)/2.1)*($C9-2.7)+AO9 -> 1082.393 | AR9: =((AP9-AO9)/11.6)*($C9-14.3)+AP9 -> 1482.3183 | AS9: =(AQ9*(2.7-$C9)/2.1)+(AR9*($C9-0.6)/2.1) -> 1059.5401 | AT9: =IF(AND($C9>=0.208,$C9<=0.6),AM9,IF($C9<=2.7,AS9,AR9)) -> 1028.679 | AU9: =SUMIFS(Table2!$B:$B,Table2!$A:$A,$B9)*$C9^6+SUMIFS(Table2!$C:$C,Table2!$A:$A,$B9)*$C9^5+SUMIFS(Table2!$D:$D,Table2!$A:$A,$B9)*$C9^4+SUMIFS(Table2!$E:$E,Table2!$A:$A,$B9)*$C9^3+SUMIFS(Table2!$F:$F,Table2!$A:$A,$B9)*$C9^2+SUMIFS(Table2!$G:$G,Table2!$A:$A,$B9)*$C9+SUMIFS(Table2!$H:$H,Table2!$A:$A,$B9) -> 0.24650715 | AV9: =1-0.5*AU9 -> 0.87674642 | AW9: =J9*$AV9 -> 28.449254 | AX9: =K9*$AV9 -> 33.88008 | AY9: =L9*$AV9 -> 37.320835 | AZ9: =((AX9-AW9)/2.1)*($C9-2.7)+AX9 -> 28.138922 | BA9: =((AY9-AX9)/11.6)*($C9-14.3)+AY9 -> 33.22159 | BB9: =(AZ9*(2.7-$C9)/2.1)+(BA9*($C9-0.6)/2.1) -> 27.848483 | BC9: =IF(AND($C9>=0.208,$C9<=0.6),1/SQRT((0.6/$C9)^2*(1/(J9)^2-(0.6^2-($C9)^2)/(0.6^2*($D9)^2)))*AV9,IF(AND($C9>0.6,$C9<=2.7),BB9,IF($C9>2.7,BA9,"Erro"))) -> 25.2444 | BD9: 319 | BE9: =(12.552/50)*BD9*10^(SUMIFS(Table3!$B:$B,Table3!$A:$A,$B9)+SUMIFS(Table3!$C:$C,Table3!$A:$A,$B9)*LOG10($E9)+SUMIFS(Table3!$D:$D,Table3!$A:$A,$B9)*$J9/(SUMIFS(Table3!$E:$E,Table3!$A:$A,$B9)*$D9^7+SUMIFS(Table3!$F:$F,Table3!$A:$A,$B9)*$D9^6+SUMIFS(Table3!$G:$G,Table3!$A:$A,$B9)*$D9^5+SUMIFS(Table3!$H:$H,Table3!$A:$A,$B9)*$D9^4+SUMIFS(Table3!$I:$I,Table3!$A:$A,$B9)*$D9^3+SUMIFS(Table3!$J:$J,Table3!$A:$A,$B9)*$D9^2+SUMIFS(Table3!$K:$K,Table3!$A:$A,$B9)*$D9)+SUMIFS(Table3!$L:$L,Table3!$A:$A,$B9)*LOG10($D9)+SUMIFS(Table3!$M:$M,Table3!$A:$A,$B9)*LOG10($F9)+SUMIFS(Table3!$N:$N,Table3!$A:$A,$B9)*LOG10(BC9)+LOG10(1/$AD9)) -> 53.156328 | BF9: =(12.552/50)*BD9*10^(SUMIFS(Table3!$B:$B,Table3!$A:$A,$B9)+SUMIFS(Table3!$C:$C,Table3!$A:$A,$B9)*LOG10($E9)+SUMIFS(Table3!$D:$D,Table3!$A:$A,$B9)*AW9/(SUMIFS(Table3!$E:$E,Table3!$A:$A,$B9)*$D9^7+SUMIFS(Table3!$F:$F,Table3!$A:$A,$B9)*$D9^6+SUMIFS(Table3!$G:$G,Table3!$A:$A,$B9)*$D9^5+SUMIFS(Table3!$H:$H,Table3!$A:$A,$B9)*$D9^4+SUMIFS(Table3!$I:$I,Table3!$A:$A,$B9)*$D9^3+SUMIFS(Table3!$J:$J,Table3!$A:$A,$B9)*$D9^2+SUMIFS(Table3!$K:$K,Table3!$A:$A,$B9)*$D9)+SUMIFS(Table3!$L:$L,Table3!$A:$A,$B9)*LOG10($D9)+SUMIFS(Table3!$M:$M,Table3!$A:$A,$B9)*LOG10($F9)+SUMIFS(Table3!$N:$N,Table3!$A:$A,$B9)*LOG10(AW9)+LOG10(1/$AD9)) -> 40.506052 | BG9: =(12.552/50)*BD9*10^(SUMIFS(Table4!$B:$B,Table4!$A:$A,$B9)+SUMIFS(Table4!$C:$C,Table4!$A:$A,$B9)*LOG10($E9)+SUMIFS(Table4!$D:$D,Table4!$A:$A,$B9)*AX9/(SUMIFS(Table4!$E:$E,Table4!$A:$A,$B9)*$D9^7+SUMIFS(Table4!$F:$F,Table4!$A:$A,$B9)*$D9^6+SUMIFS(Table4!$G:$G,Table4!$A:$A,$B9)*$D9^5+SUMIFS(Table4!$H:$H,Table4!$A:$A,$B9)*$D9^4+SUMIFS(Table4!$I:$I,Table4!$A:$A,$B9)*$D9^3+SUMIFS(Table4!$J:$J,Table4!$A:$A,$B9)*$D9^2+SUMIFS(Table4!$K:$K,Table4!$A:$A,$B9)*$D9)+SUMIFS(Table4!$L:$L,Table4!$A:$A,$B9)*LOG10($D9)+SUMIFS(Table4!$M:$M,Table4!$A:$A,$B9)*LOG10($F9)+SUMIFS(Table4!$N:$N,Table4!$A:$A,$B9)*LOG10(AX9)+LOG10(1/$AD9)) -> 85.941507 | BH9: =(12.552/50)*BD9*10^(SUMIFS(Table5!$B:$B,Table5!$A:$A,$B9)+SUMIFS(Table5!$C:$C,Table5!$A:$A,$B9)*LOG10($E9)+SUMIFS(Table5!$D:$D,Table5!$A:$A,$B9)*AY9/(SUMIFS(Table5!$E:$E,Table5!$A:$A,$B9)*$D9^7+SUMIFS(Table5!$F:$F,Table5!$A:$A,$B9)*$D9^6+SUMIFS(Table5!$G:$G,Table5!$A:$A,$B9)*$D9^5+SUMIFS(Table5!$H:$H,Table5!$A:$A,$B9)*$D9^4+SUMIFS(Table5!$I:$I,Table5!$A:$A,$B9)*$D9^3+SUMIFS(Table5!$J:$J,Table5!$A:$A,$B9)*$D9^2+SUMIFS(Table5!$K:$K,Table5!$A:$A,$B9)*$D9)+SUMIFS(Table5!$L:$L,Table5!$A:$A,$B9)*LOG10($D9)+SUMIFS(Table5!$M:$M,Table5!$A:$A,$B9)*LOG10($F9)+SUMIFS(Table5!$N:$N,Table5!$A:$A,$B9)*LOG10(AY9)+LOG10(1/$AD9)) -> 139.2098 | BI9: =((BG9-BF9)/2.1)*($C9-2.7)+BG9 -> 37.90974 | BJ9: =((BH9-BG9)/11.6)*($C9-14.3)+BH9 -> 75.747057 | BK9: =BI9*(2.7-$C9)/2.1+BJ9*($C9-0.6)/2.1 -> 35.747608 | BL9: =IF(AND($C9>=0.208,$C9<=0.6),BE9,IF($C9<=2.7,BK9,BJ9)) -> 53.156328 | BM9: =10^((SUMIFS(Table3!$B:$B,Table3!$A:$A,$B9)+SUMIFS(Table3!$C:$C,Table3!$A:$A,$B9)*LOG10($E9)+(SUMIFS(Table3!$D:$D,Table3!$A:$A,$B9)*$J9)/(SUMIFS(Table3!$E:$E,Table3!$A:$A,$B9)*$D9^7+SUMIFS(Table3!$F:$F,Table3!$A:$A,$B9)*$D9^6+SUMIFS(Table3!$G:$G,Table3!$A:$A,$B9)*$D9^5+SUMIFS(Table3!$H:$H,Table3!$A:$A,$B9)*$D9^4+SUMIFS(Table3!$I:$I,Table3!$A:$A,$B9)*$D9^3+SUMIFS(Table3!$J:$J,Table3!$A:$A,$B9)*$D9^2+SUMIFS(Table3!$K:$K,Table3!$A:$A,$B9)*$D9)+SUMIFS(Table3!$L:$L,Table3!$A:$A,$B9)*LOG10($D9)+SUMIFS(Table3!$N:$N,Table3!$A:$A,$B9)*LOG10(BC9)+LOG10(1/$AD9)-LOG10(20/BD9))/-SUMIFS(Table3!$M:$M,Table3!$A:$A,$B9)) -> 2668.9188 | BN9: =10^((SUMIFS(Table3!$B:$B,Table3!$A:$A,$B9)+SUMIFS(Table3!$C:$C,Table3!$A:$A,$B9)*LOG10($E9)+(SUMIFS(Table3!$D:$D,Table3!$A:$A,$B9)*AW9)/(SUMIFS(Table3!$E:$E,Table3!$A:$A,$B9)*$D9^7+SUMIFS(Table3!$F:$F,Table3!$A:$A,$B9)*$D9^6+SUMIFS(Table3!$G:$G,Table3!$A:$A,$B9)*$D9^5+SUMIFS(Table3!$H:$H,Table3!$A:$A,$B9)*$D9^4+SUMIFS(Table3!$I:$I,Table3!$A:$A,$B9)*$D9^3+SUMIFS(Table3!$J:$J,Table3!$A:$A,$B9)*$D9^2+SUMIFS(Table3!$K:$K,Table3!$A:$A,$B9)*$D9)+SUMIFS(Table3!$L:$L,Table3!$A:$A,$B9)*LOG10($D9)+SUMIFS(Table3!$N:$N,Table3!$A:$A,$B9)*LOG10(AW9)+LOG10(1/$AD9)-LOG10(20/BD9))/-SUMIFS(Table3!$M:$M,Table3!$A:$A,$B9)) -> 2251.4956 | BO9: =10^((SUMIFS(Table4!$B:$B,Table4!$A:$A,$B9)+SUMIFS(Table4!$C:$C,Table4!$A:$A,$B9)*LOG10($E9)+(SUMIFS(Table4!$D:$D,Table4!$A:$A,$B9)*AX9)/(SUMIFS(Table4!$E:$E,Table4!$A:$A,$B9)*$D9^7+SUMIFS(Table4!$F:$F,Table4!$A:$A,$B9)*$D9^6+SUMIFS(Table4!$G:$G,Table4!$A:$A,$B9)*$D9^5+SUMIFS(Table4!$H:$H,Table4!$A:$A,$B9)*$D9^4+SUMIFS(Table4!$I:$I,Table4!$A:$A,$B9)*$D9^3+SUMIFS(Table4!$J:$J,Table4!$A:$A,$B9)*$D9^2+SUMIFS(Table4!$K:$K,Table4!$A:$A,$B9)*$D9)+SUMIFS(Table4!$L:$L,Table4!$A:$A,$B9)*LOG10($D9)+SUMIFS(Table4!$N:$N,Table4!$A:$A,$B9)*LOG10(AX9)+LOG10(1/$AD9)-LOG10(20/BD9))/-SUMIFS(Table4!$M:$M,Table4!$A:$A,$B9)) -> 3725.3742 | BP9: =10^((SUMIFS(Table5!$B:$B,Table5!$A:$A,$B9)+SUMIFS(Table5!$C:$C,Table5!$A:$A,$B9)*LOG10($E9)+(SUMIFS(Table5!$D:$D,Table5!$A:$A,$B9)*AY9)/(SUMIFS(Table5!$E:$E,Table5!$A:$A,$B9)*$D9^7+SUMIFS(Table5!$F:$F,Table5!$A:$A,$B9)*$D9^6+SUMIFS(Table5!$G:$G,Table5!$A:$A,$B9)*$D9^5+SUMIFS(Table5!$H:$H,Table5!$A:$A,$B9)*$D9^4+SUMIFS(Table5!$I:$I,Table5!$A:$A,$B9)*$D9^3+SUMIFS(Table5!$J:$J,Table5!$A:$A,$B9)*$D9^2+SUMIFS(Table5!$K:$K,Table5!$A:$A,$B9)*$D9)+SUMIFS(Table5!$L:$L,Table5!$A:$A,$B9)*LOG10($D9)+SUMIFS(Table5!$N:$N,Table5!$A:$A,$B9)*LOG10(AY9)+LOG10(1/$AD9)-LOG10(20/BD9))/-SUMIFS(Table5!$M:$M,Table5!$A:$A,$B9)) -> 5072.941 | BQ9: =((BO9-BN9)/2.1)*($C9-2.7)+BO9 -> 2167.274 | BR9: =((BP9-BO9)/11.6)*($C9-14.3)+BP9 -> 3467.4778 | BS9: =(BQ9*(2.7-$C9)/2.1)+(BR9*($C9-0.6)/2.1) -> 2092.9767 | BT9: =IF(AND($C9>=0.208,$C9<=0.6),BM9,IF($C9<=2.7,BS9,BR9)) -> 2668.9188
A10: PN-01A | B10: VCBB | C10: 13.8 | D10: 17.563 | E10: 153 | F10: 914.4 | G10: 800 | H10: 1135 | I10: 900 | J10: =10^(SUMIFS(Table1!$C:$C,Table1!$B:$B,600,Table1!$A:$A,$B10)+SUMIFS(Table1!$D:$D,Table1!$B:$B,600,Table1!$A:$A,$B10)*LOG10($D10)+SUMIFS(Table1!$E:$E,Table1!$B:$B,600,Table1!$A:$A,$B10)*LOG10($E10))*(SUMIFS(Table1!$F:$F,Table1!$B:$B,600,Table1!$A:$A,$B10)*$D10^6+SUMIFS(Table1!$G:$G,Table1!$B:$B,600,Table1!$A:$A,$B10)*$D10^5+SUMIFS(Table1!$H:$H,Table1!$B:$B,600,Table1!$A:$A,$B10)*$D10^4+SUMIFS(Table1!$I:$I,Table1!$B:$B,600,Table1!$A:$A,$B10)*$D10^3+SUMIFS(Table1!$J:$J,Table1!$B:$B,600,Table1!$A:$A,$B10)*$D10^2+SUMIFS(Table1!$K:$K,Table1!$B:$B,600,Table1!$A:$A,$B10)*$D10+SUMIFS(Table1!$L:$L,Table1!$B:$B,600,Table1!$A:$A,$B10)) -> 13.996248 | K10: =10^(SUMIFS(Table1!$C:$C,Table1!$B:$B,2700,Table1!$A:$A,$B10)+SUMIFS(Table1!$D:$D,Table1!$B:$B,2700,Table1!$A:$A,$B10)*LOG10($D10)+SUMIFS(Table1!$E:$E,Table1!$B:$B,2700,Table1!$A:$A,$B10)*LOG10($E10))*(SUMIFS(Table1!$F:$F,Table1!$B:$B,2700,Table1!$A:$A,$B10)*$D10^6+SUMIFS(Table1!$G:$G,Table1!$B:$B,2700,Table1!$A:$A,$B10)*$D10^5+SUMIFS(Table1!$H:$H,Table1!$B:$B,2700,Table1!$A:$A,$B10)*$D10^4+SUMIFS(Table1!$I:$I,Table1!$B:$B,2700,Table1!$A:$A,$B10)*$D10^3+SUMIFS(Table1!$J:$J,Table1!$B:$B,2700,Table1!$A:$A,$B10)*$D10^2+SUMIFS(Table1!$K:$K,Table1!$B:$B,2700,Table1!$A:$A,$B10)*$D10+SUMIFS(Table1!$L:$L,Table1!$B:$B,2700,Table1!$A:$A,$B10)) -> 15.472628 | L10: =10^(SUMIFS(Table1!$C:$C,Table1!$B:$B,14300,Table1!$A:$A,$B10)+SUMIFS(Table1!$D:$D,Table1!$B:$B,14300,Table1!$A:$A,$B10)*LOG10($D10)+SUMIFS(Table1!$E:$E,Table1!$B:$B,14300,Table1!$A:$A,$B10)*LOG10($E10))*(SUMIFS(Table1!$F:$F,Table1!$B:$B,14300,Table1!$A:$A,$B10)*$D10^6+SUMIFS(Table1!$G:$G,Table1!$B:$B,14300,Table1!$A:$A,$B10)*$D10^5+SUMIFS(Table1!$H:$H,Table1!$B:$B,14300,Table1!$A:$A,$B10)*$D10^4+SUMIFS(Table1!$I:$I,Table1!$B:$B,14300,Table1!$A:$A,$B10)*$D10^3+SUMIFS(Table1!$J:$J,Table1!$B:$B,14300,Table1!$A:$A,$B10)*$D10^2+SUMIFS(Table1!$K:$K,Table1!$B:$B,14300,Table1!$A:$A,$B10)*$D10+SUMIFS(Table1!$L:$L,Table1!$B:$B,14300,Table1!$A:$A,$B10)) -> 16.815074 | M10: =((K10-J10)/2.1)*($C10-2.7)+K10 -> 23.276347 | N10: =((L10-K10)/11.6)*($C10-14.3)+L10 -> 16.75721 | O10: =(M10*(2.7-$C10)/2.1)+(N10*($C10-0.6)/2.1) -> -17.701086 | P10: =IF(AND($C10>=0.208,$C10<=0.6),1/SQRT((0.6/$C10)^2*(1/(J10)^2-(0.6^2-($C10)^2)/(0.6^2*($D10)^2))),IF(AND($C10>0.6,$C10<=2.7),O10,IF($C10>2.7,N10,"Errado"))) -> 16.75721 | Q10: 180 | R10: =IF(AND($C10<0.6,$G10<508,$H10<508,$I10<=203.2),"Shallow","Typical") -> Typical | S10: =IF($B10="VCB",4,IF($B10="VCBB",10,IF($B10="HCB",10,0))) -> 10 | T10: =IF($B10="VCB",20,IF($B10="VCBB",24,IF($B10="HCB",22,0))) -> 24 | U10: =IF($G10<=1244.6,$G10,1244.6) -> 800 | V10: =(660.4+($U10-660.4)*($C10+$S10)/$T10)*(1/25.4) -> 31.450262 | W10: =IF($H10<=1244.6,$H10,1244.6) -> 1135 | X10: =(660.4+($W10-660.4)*($C10+$S10)/$T10)*(1/25.4) -> 44.529331 | Y10: =IF($G10<508,IF($R10="Typical",20,0.03937*$G10),IF($G10<=660.4,0.03937*$G10,IF($G10<=1244.6,$V10,$V10))) -> 31.450262 | Z10: =IF($H10<508,IF($R10="Typical",20,0.03937*$H10),IF($H10<=660.4,0.03937*$H10,IF($H10<=1244.6,IF($B10="VCB",0.03937*$H10,$X10),IF($B10="VCB",49,$X10)))) -> 44.529331 | AA10: =(Z10+Y10)/2 -> 37.989797 | AB10: =SUMIFS(Table7!C:C,Table7!A:A,"Typical",Table7!B:B,$B10)*$AA10^2+SUMIFS(Table7!D:D,Table7!A:A,"Typical",Table7!B:B,$B10)*$AA10+SUMIFS(Table7!E:E,Table7!A:A,"Typical",Table7!B:B,$B10) -> 1.2651698 | AC10: =1/(SUMIFS(Table7!C:C,Table7!A:A,"Shallow",Table7!B:B,$B10)*$AA10^2+SUMIFS(Table7!D:D,Table7!A:A,"Shallow",Table7!B:B,$B10)*$AA10+SUMIFS(Table7!E:E,Table7!A:A,"Shallow",Table7!B:B,$B10)) -> 4.0176189 | AD10: =IF(R10="Typical",AB10,AC10) -> 1.2651698 | AE10: =(12.552/50)*Q10*10^(SUMIFS(Table3!$B:$B,Table3!$A:$A,$B10)+SUMIFS(Table3!$C:$C,Table3!$A:$A,$B10)*LOG10($E10)+SUMIFS(Table3!$D:$D,Table3!$A:$A,$B10)*$J10/(SUMIFS(Table3!$E:$E,Table3!$A:$A,$B10)*$D10^7+SUMIFS(Table3!$F:$F,Table3!$A:$A,$B10)*$D10^6+SUMIFS(Table3!$G:$G,Table3!$A:$A,$B10)*$D10^5+SUMIFS(Table3!$H:$H,Table3!$A:$A,$B10)*$D10^4+SUMIFS(Table3!$I:$I,Table3!$A:$A,$B10)*$D10^3+SUMIFS(Table3!$J:$J,Table3!$A:$A,$B10)*$D10^2+SUMIFS(Table3!$K:$K,Table3!$A:$A,$B10)*$D10)+SUMIFS(Table3!$L:$L,Table3!$A:$A,$B10)*LOG10($D10)+SUMIFS(Table3!$M:$M,Table3!$A:$A,$B10)*LOG10($F10)+SUMIFS(Table3!$N:$N,Table3!$A:$A,$B10)*LOG10(P10)+LOG10(1/$AD10)) -> 13.981972 | AF10: =(12.552/50)*Q10*10^(SUMIFS(Table3!$B:$B,Table3!$A:$A,$B10)+SUMIFS(Table3!$C:$C,Table3!$A:$A,$B10)*LOG10($E10)+SUMIFS(Table3!$D:$D,Table3!$A:$A,$B10)*J10/(SUMIFS(Table3!$E:$E,Table3!$A:$A,$B10)*$D10^7+SUMIFS(Table3!$F:$F,Table3!$A:$A,$B10)*$D10^6+SUMIFS(Table3!$G:$G,Table3!$A:$A,$B10)*$D10^5+SUMIFS(Table3!$H:$H,Table3!$A:$A,$B10)*$D10^4+SUMIFS(Table3!$I:$I,Table3!$A:$A,$B10)*$D10^3+SUMIFS(Table3!$J:$J,Table3!$A:$A,$B10)*$D10^2+SUMIFS(Table3!$K:$K,Table3!$A:$A,$B10)*$D10)+SUMIFS(Table3!$L:$L,Table3!$A:$A,$B10)*LOG10($D10)+SUMIFS(Table3!$M:$M,Table3!$A:$A,$B10)*LOG10($F10)+SUMIFS(Table3!$N:$N,Table3!$A:$A,$B10)*LOG10(J10)+LOG10(1/$AD10)) -> 11.285538 | AG10: =(12.552/50)*Q10*10^(SUMIFS(Table4!$B:$B,Table4!$A:$A,$B10)+SUMIFS(Table4!$C:$C,Table4!$A:$A,$B10)*LOG10($E10)+SUMIFS(Table4!$D:$D,Table4!$A:$A,$B10)*K10/(SUMIFS(Table4!$E:$E,Table4!$A:$A,$B10)*$D10^7+SUMIFS(Table4!$F:$F,Table4!$A:$A,$B10)*$D10^6+SUMIFS(Table4!$G:$G,Table4!$A:$A,$B10)*$D10^5+SUMIFS(Table4!$H:$H,Table4!$A:$A,$B10)*$D10^4+SUMIFS(Table4!$I:$I,Table4!$A:$A,$B10)*$D10^3+SUMIFS(Table4!$J:$J,Table4!$A:$A,$B10)*$D10^2+SUMIFS(Table4!$K:$K,Table4!$A:$A,$B10)*$D10)+SUMIFS(Table4!$L:$L,Table4!$A:$A,$B10)*LOG10($D10)+SUMIFS(Table4!$M:$M,Table4!$A:$A,$B10)*LOG10($F10)+SUMIFS(Table4!$N:$N,Table4!$A:$A,$B10)*LOG10(K10)+LOG10(1/$AD10)) -> 19.037984 | AH10: =(12.552/50)*Q10*10^(SUMIFS(Table5!$B:$B,Table5!$A:$A,$B10)+SUMIFS(Table5!$C:$C,Table5!$A:$A,$B10)*LOG10($E10)+SUMIFS(Table5!$D:$D,Table5!$A:$A,$B10)*L10/(SUMIFS(Table5!$E:$E,Table5!$A:$A,$B10)*$D10^7+SUMIFS(Table5!$F:$F,Table5!$A:$A,$B10)*$D10^6+SUMIFS(Table5!$G:$G,Table5!$A:$A,$B10)*$D10^5+SUMIFS(Table5!$H:$H,Table5!$A:$A,$B10)*$D10^4+SUMIFS(Table5!$I:$I,Table5!$A:$A,$B10)*$D10^3+SUMIFS(Table5!$J:$J,Table5!$A:$A,$B10)*$D10^2+SUMIFS(Table5!$K:$K,Table5!$A:$A,$B10)*$D10)+SUMIFS(Table5!$L:$L,Table5!$A:$A,$B10)*LOG10($D10)+SUMIFS(Table5!$M:$M,Table5!$A:$A,$B10)*LOG10($F10)+SUMIFS(Table5!$N:$N,Table5!$A:$A,$B10)*LOG10(L10)+LOG10(1/$AD10)) -> 25.551484 | AI10: =((AG10-AF10)/2.1)*($C10-2.7)+AG10 -> 60.015198 | AJ10: =((AH10-AG10)/11.6)*($C10-14.3)+AH10 -> 25.27073 | AK10: =AI10*(2.7-$C10)/2.1+AJ10*($C10-0.6)/2.1 -> -158.3786 | AL10: =IF(AND($C10>=0.208,$C10<=0.6),AE10,IF($C10<=2.7,AK10,AJ10)) -> 25.27073 | AM10: =10^((SUMIFS(Table3!$B:$B,Table3!$A:$A,$B10)+SUMIFS(Table3!$C:$C,Table3!$A:$A,$B10)*LOG10($E10)+(SUMIFS(Table3!$D:$D,Table3!$A:$A,$B10)*$J10)/(SUMIFS(Table3!$E:$E,Table3!$A:$A,$B10)*$D10^7+SUMIFS(Table3!$F:$F,Table3!$A:$A,$B10)*$D10^6+SUMIFS(Table3!$G:$G,Table3!$A:$A,$B10)*$D10^5+SUMIFS(Table3!$H:$H,Table3!$A:$A,$B10)*$D10^4+SUMIFS(Table3!$I:$I,Table3!$A:$A,$B10)*$D10^3+SUMIFS(Table3!$J:$J,Table3!$A:$A,$B10)*$D10^2+SUMIFS(Table3!$K:$K,Table3!$A:$A,$B10)*$D10)+SUMIFS(Table3!$L:$L,Table3!$A:$A,$B10)*LOG10($D10)+SUMIFS(Table3!$N:$N,Table3!$A:$A,$B10)*LOG10(P10)+LOG10(1/$AD10)-LOG10(20/Q10))/-SUMIFS(Table3!$M:$M,Table3!$A:$A,$B10)) -> 1610.7029 | AN10: =10^((SUMIFS(Table3!$B:$B,Table3!$A:$A,$B10)+SUMIFS(Table3!$C:$C,Table3!$A:$A,$B10)*LOG10($E10)+(SUMIFS(Table3!$D:$D,Table3!$A:$A,$B10)*J10)/(SUMIFS(Table3!$E:$E,Table3!$A:$A,$B10)*$D10^7+SUMIFS(Table3!$F:$F,Table3!$A:$A,$B10)*$D10^6+SUMIFS(Table3!$G:$G,Table3!$A:$A,$B10)*$D10^5+SUMIFS(Table3!$H:$H,Table3!$A:$A,$B10)*$D10^4+SUMIFS(Table3!$I:$I,Table3!$A:$A,$B10)*$D10^3+SUMIFS(Table3!$J:$J,Table3!$A:$A,$B10)*$D10^2+SUMIFS(Table3!$K:$K,Table3!$A:$A,$B10)*$D10)+SUMIFS(Table3!$L:$L,Table3!$A:$A,$B10)*LOG10($D10)+SUMIFS(Table3!$N:$N,Table3!$A:$A,$B10)*LOG10(J10)+LOG10(1/$AD10)-LOG10(20/Q10))/-SUMIFS(Table3!$M:$M,Table3!$A:$A,$B10)) -> 1430.8045 | AO10: =10^((SUMIFS(Table4!$B:$B,Table4!$A:$A,$B10)+SUMIFS(Table4!$C:$C,Table4!$A:$A,$B10)*LOG10($E10)+(SUMIFS(Table4!$D:$D,Table4!$A:$A,$B10)*K10)/(SUMIFS(Table4!$E:$E,Table4!$A:$A,$B10)*$D10^7+SUMIFS(Table4!$F:$F,Table4!$A:$A,$B10)*$D10^6+SUMIFS(Table4!$G:$G,Table4!$A:$A,$B10)*$D10^5+SUMIFS(Table4!$H:$H,Table4!$A:$A,$B10)*$D10^4+SUMIFS(Table4!$I:$I,Table4!$A:$A,$B10)*$D10^3+SUMIFS(Table4!$J:$J,Table4!$A:$A,$B10)*$D10^2+SUMIFS(Table4!$K:$K,Table4!$A:$A,$B10)*$D10)+SUMIFS(Table4!$L:$L,Table4!$A:$A,$B10)*LOG10($D10)+SUMIFS(Table4!$N:$N,Table4!$A:$A,$B10)*LOG10(K10)+LOG10(1/$AD10)-LOG10(20/Q10))/-SUMIFS(Table4!$M:$M,Table4!$A:$A,$B10)) -> 1965.2851 | AP10: =10^((SUMIFS(Table5!$B:$B,Table5!$A:$A,$B10)+SUMIFS(Table5!$C:$C,Table5!$A:$A,$B10)*LOG10($E10)+(SUMIFS(Table5!$D:$D,Table5!$A:$A,$B10)*L10)/(SUMIFS(Table5!$E:$E,Table5!$A:$A,$B10)*$D10^7+SUMIFS(Table5!$F:$F,Table5!$A:$A,$B10)*$D10^6+SUMIFS(Table5!$G:$G,Table5!$A:$A,$B10)*$D10^5+SUMIFS(Table5!$H:$H,Table5!$A:$A,$B10)*$D10^4+SUMIFS(Table5!$I:$I,Table5!$A:$A,$B10)*$D10^3+SUMIFS(Table5!$J:$J,Table5!$A:$A,$B10)*$D10^2+SUMIFS(Table5!$K:$K,Table5!$A:$A,$B10)*$D10)+SUMIFS(Table5!$L:$L,Table5!$A:$A,$B10)*LOG10($D10)+SUMIFS(Table5!$N:$N,Table5!$A:$A,$B10)*LOG10(L10)+LOG10(1/$AD10)-LOG10(20/Q10))/-SUMIFS(Table5!$M:$M,Table5!$A:$A,$B10)) -> 2412.735 | AQ10: =((AO10-AN10)/2.1)*($C10-2.7)+AO10 -> 4790.3968 | AR10: =((AP10-AO10)/11.6)*($C10-14.3)+AP10 -> 2393.4484 | AS10: =(AQ10*(2.7-$C10)/2.1)+(AR10*($C10-0.6)/2.1) -> -10276.136 | AT10: =IF(AND($C10>=0.208,$C10<=0.6),AM10,IF($C10<=2.7,AS10,AR10)) -> 2393.4484 | AU10: =SUMIFS(Table2!$B:$B,Table2!$A:$A,$B10)*$C10^6+SUMIFS(Table2!$C:$C,Table2!$A:$A,$B10)*$C10^5+SUMIFS(Table2!$D:$D,Table2!$A:$A,$B10)*$C10^4+SUMIFS(Table2!$E:$E,Table2!$A:$A,$B10)*$C10^3+SUMIFS(Table2!$F:$F,Table2!$A:$A,$B10)*$C10^2+SUMIFS(Table2!$G:$G,Table2!$A:$A,$B10)*$C10+SUMIFS(Table2!$H:$H,Table2!$A:$A,$B10) -> 0.037875333 | AV10: =1-0.5*AU10 -> 0.98106233 | AW10: =J10*$AV10 -> 13.731192 | AX10: =K10*$AV10 -> 15.179612 | AY10: =L10*$AV10 -> 16.496636 | AZ10: =((AX10-AW10)/2.1)*($C10-2.7)+AX10 -> 22.835547 | BA10: =((AY10-AX10)/11.6)*($C10-14.3)+AY10 -> 16.439867 | BB10: =(AZ10*(2.7-$C10)/2.1)+(BA10*($C10-0.6)/2.1) -> -17.365869 | BC10: =IF(AND($C10>=0.208,$C10<=0.6),1/SQRT((0.6/$C10)^2*(1/(J10)^2-(0.6^2-($C10)^2)/(0.6^2*($D10)^2)))*AV10,IF(AND($C10>0.6,$C10<=2.7),BB10,IF($C10>2.7,BA10,"Erro"))) -> 16.439867 | BD10: 180 | BE10: =(12.552/50)*BD10*10^(SUMIFS(Table3!$B:$B,Table3!$A:$A,$B10)+SUMIFS(Table3!$C:$C,Table3!$A:$A,$B10)*LOG10($E10)+SUMIFS(Table3!$D:$D,Table3!$A:$A,$B10)*$J10/(SUMIFS(Table3!$E:$E,Table3!$A:$A,$B10)*$D10^7+SUMIFS(Table3!$F:$F,Table3!$A:$A,$B10)*$D10^6+SUMIFS(Table3!$G:$G,Table3!$A:$A,$B10)*$D10^5+SUMIFS(Table3!$H:$H,Table3!$A:$A,$B10)*$D10^4+SUMIFS(Table3!$I:$I,Table3!$A:$A,$B10)*$D10^3+SUMIFS(Table3!$J:$J,Table3!$A:$A,$B10)*$D10^2+SUMIFS(Table3!$K:$K,Table3!$A:$A,$B10)*$D10)+SUMIFS(Table3!$L:$L,Table3!$A:$A,$B10)*LOG10($D10)+SUMIFS(Table3!$M:$M,Table3!$A:$A,$B10)*LOG10($F10)+SUMIFS(Table3!$N:$N,Table3!$A:$A,$B10)*LOG10(BC10)+LOG10(1/$AD10)) -> 13.667447 | BF10: =(12.552/50)*BD10*10^(SUMIFS(Table3!$B:$B,Table3!$A:$A,$B10)+SUMIFS(Table3!$C:$C,Table3!$A:$A,$B10)*LOG10($E10)+SUMIFS(Table3!$D:$D,Table3!$A:$A,$B10)*AW10/(SUMIFS(Table3!$E:$E,Table3!$A:$A,$B10)*$D10^7+SUMIFS(Table3!$F:$F,Table3!$A:$A,$B10)*$D10^6+SUMIFS(Table3!$G:$G,Table3!$A:$A,$B10)*$D10^5+SUMIFS(Table3!$H:$H,Table3!$A:$A,$B10)*$D10^4+SUMIFS(Table3!$I:$I,Table3!$A:$A,$B10)*$D10^3+SUMIFS(Table3!$J:$J,Table3!$A:$A,$B10)*$D10^2+SUMIFS(Table3!$K:$K,Table3!$A:$A,$B10)*$D10)+SUMIFS(Table3!$L:$L,Table3!$A:$A,$B10)*LOG10($D10)+SUMIFS(Table3!$M:$M,Table3!$A:$A,$B10)*LOG10($F10)+SUMIFS(Table3!$N:$N,Table3!$A:$A,$B10)*LOG10(AW10)+LOG10(1/$AD10)) -> 11.06501 | BG10: =(12.552/50)*BD10*10^(SUMIFS(Table4!$B:$B,Table4!$A:$A,$B10)+SUMIFS(Table4!$C:$C,Table4!$A:$A,$B10)*LOG10($E10)+SUMIFS(Table4!$D:$D,Table4!$A:$A,$B10)*AX10/(SUMIFS(Table4!$E:$E,Table4!$A:$A,$B10)*$D10^7+SUMIFS(Table4!$F:$F,Table4!$A:$A,$B10)*$D10^6+SUMIFS(Table4!$G:$G,Table4!$A:$A,$B10)*$D10^5+SUMIFS(Table4!$H:$H,Table4!$A:$A,$B10)*$D10^4+SUMIFS(Table4!$I:$I,Table4!$A:$A,$B10)*$D10^3+SUMIFS(Table4!$J:$J,Table4!$A:$A,$B10)*$D10^2+SUMIFS(Table4!$K:$K,Table4!$A:$A,$B10)*$D10)+SUMIFS(Table4!$L:$L,Table4!$A:$A,$B10)*LOG10($D10)+SUMIFS(Table4!$M:$M,Table4!$A:$A,$B10)*LOG10($F10)+SUMIFS(Table4!$N:$N,Table4!$A:$A,$B10)*LOG10(AX10)+LOG10(1/$AD10)) -> 19.211787 | BH10: =(12.552/50)*BD10*10^(SUMIFS(Table5!$B:$B,Table5!$A:$A,$B10)+SUMIFS(Table5!$C:$C,Table5!$A:$A,$B10)*LOG10($E10)+SUMIFS(Table5!$D:$D,Table5!$A:$A,$B10)*AY10/(SUMIFS(Table5!$E:$E,Table5!$A:$A,$B10)*$D10^7+SUMIFS(Table5!$F:$F,Table5!$A:$A,$B10)*$D10^6+SUMIFS(Table5!$G:$G,Table5!$A:$A,$B10)*$D10^5+SUMIFS(Table5!$H:$H,Table5!$A:$A,$B10)*$D10^4+SUMIFS(Table5!$I:$I,Table5!$A:$A,$B10)*$D10^3+SUMIFS(Table5!$J:$J,Table5!$A:$A,$B10)*$D10^2+SUMIFS(Table5!$K:$K,Table5!$A:$A,$B10)*$D10)+SUMIFS(Table5!$L:$L,Table5!$A:$A,$B10)*LOG10($D10)+SUMIFS(Table5!$M:$M,Table5!$A:$A,$B10)*LOG10($F10)+SUMIFS(Table5!$N:$N,Table5!$A:$A,$B10)*LOG10(AY10)+LOG10(1/$AD10)) -> 25.694629 | BI10: =((BG10-BF10)/2.1)*($C10-2.7)+BG10 -> 62.273321 | BJ10: =((BH10-BG10)/11.6)*($C10-14.3)+BH10 -> 25.415197 | BK10: =BI10*(2.7-$C10)/2.1+BJ10*($C10-0.6)/2.1 -> -169.40632 | BL10: =IF(AND($C10>=0.208,$C10<=0.6),BE10,IF($C10<=2.7,BK10,BJ10)) -> 25.415197 | BM10: =10^((SUMIFS(Table3!$B:$B,Table3!$A:$A,$B10)+SUMIFS(Table3!$C:$C,Table3!$A:$A,$B10)*LOG10($E10)+(SUMIFS(Table3!$D:$D,Table3!$A:$A,$B10)*$J10)/(SUMIFS(Table3!$E:$E,Table3!$A:$A,$B10)*$D10^7+SUMIFS(Table3!$F:$F,Table3!$A:$A,$B10)*$D10^6+SUMIFS(Table3!$G:$G,Table3!$A:$A,$B10)*$D10^5+SUMIFS(Table3!$H:$H,Table3!$A:$A,$B10)*$D10^4+SUMIFS(Table3!$I:$I,Table3!$A:$A,$B10)*$D10^3+SUMIFS(Table3!$J:$J,Table3!$A:$A,$B10)*$D10^2+SUMIFS(Table3!$K:$K,Table3!$A:$A,$B10)*$D10)+SUMIFS(Table3!$L:$L,Table3!$A:$A,$B10)*LOG10($D10)+SUMIFS(Table3!$N:$N,Table3!$A:$A,$B10)*LOG10(BC10)+LOG10(1/$AD10)-LOG10(20/BD10))/-SUMIFS(Table3!$M:$M,Table3!$A:$A,$B10)) -> 1590.5718 | BN10: =10^((SUMIFS(Table3!$B:$B,Table3!$A:$A,$B10)+SUMIFS(Table3!$C:$C,Table3!$A:$A,$B10)*LOG10($E10)+(SUMIFS(Table3!$D:$D,Table3!$A:$A,$B10)*AW10)/(SUMIFS(Table3!$E:$E,Table3!$A:$A,$B10)*$D10^7+SUMIFS(Table3!$F:$F,Table3!$A:$A,$B10)*$D10^6+SUMIFS(Table3!$G:$G,Table3!$A:$A,$B10)*$D10^5+SUMIFS(Table3!$H:$H,Table3!$A:$A,$B10)*$D10^4+SUMIFS(Table3!$I:$I,Table3!$A:$A,$B10)*$D10^3+SUMIFS(Table3!$J:$J,Table3!$A:$A,$B10)*$D10^2+SUMIFS(Table3!$K:$K,Table3!$A:$A,$B10)*$D10)+SUMIFS(Table3!$L:$L,Table3!$A:$A,$B10)*LOG10($D10)+SUMIFS(Table3!$N:$N,Table3!$A:$A,$B10)*LOG10(AW10)+LOG10(1/$AD10)-LOG10(20/BD10))/-SUMIFS(Table3!$M:$M,Table3!$A:$A,$B10)) -> 1415.2808 | BO10: =10^((SUMIFS(Table4!$B:$B,Table4!$A:$A,$B10)+SUMIFS(Table4!$C:$C,Table4!$A:$A,$B10)*LOG10($E10)+(SUMIFS(Table4!$D:$D,Table4!$A:$A,$B10)*AX10)/(SUMIFS(Table4!$E:$E,Table4!$A:$A,$B10)*$D10^7+SUMIFS(Table4!$F:$F,Table4!$A:$A,$B10)*$D10^6+SUMIFS(Table4!$G:$G,Table4!$A:$A,$B10)*$D10^5+SUMIFS(Table4!$H:$H,Table4!$A:$A,$B10)*$D10^4+SUMIFS(Table4!$I:$I,Table4!$A:$A,$B10)*$D10^3+SUMIFS(Table4!$J:$J,Table4!$A:$A,$B10)*$D10^2+SUMIFS(Table4!$K:$K,Table4!$A:$A,$B10)*$D10)+SUMIFS(Table4!$L:$L,Table4!$A:$A,$B10)*LOG10($D10)+SUMIFS(Table4!$N:$N,Table4!$A:$A,$B10)*LOG10(AX10)+LOG10(1/$AD10)-LOG10(20/BD10))/-SUMIFS(Table4!$M:$M,Table4!$A:$A,$B10)) -> 1975.5646 | BP10: =10^((SUMIFS(Table5!$B:$B,Table5!$A:$A,$B10)+SUMIFS(Table5!$C:$C,Table5!$A:$A,$B10)*LOG10($E10)+(SUMIFS(Table5!$D:$D,Table5!$A:$A,$B10)*AY10)/(SUMIFS(Table5!$E:$E,Table5!$A:$A,$B10)*$D10^7+SUMIFS(Table5!$F:$F,Table5!$A:$A,$B10)*$D10^6+SUMIFS(Table5!$G:$G,Table5!$A:$A,$B10)*$D10^5+SUMIFS(Table5!$H:$H,Table5!$A:$A,$B10)*$D10^4+SUMIFS(Table5!$I:$I,Table5!$A:$A,$B10)*$D10^3+SUMIFS(Table5!$J:$J,Table5!$A:$A,$B10)*$D10^2+SUMIFS(Table5!$K:$K,Table5!$A:$A,$B10)*$D10)+SUMIFS(Table5!$L:$L,Table5!$A:$A,$B10)*LOG10($D10)+SUMIFS(Table5!$N:$N,Table5!$A:$A,$B10)*LOG10(AY10)+LOG10(1/$AD10)-LOG10(20/BD10))/-SUMIFS(Table5!$M:$M,Table5!$A:$A,$B10)) -> 2420.786 | BQ10: =((BO10-BN10)/2.1)*($C10-2.7)+BO10 -> 4937.0645 | BR10: =((BP10-BO10)/11.6)*($C10-14.3)+BP10 -> 2401.5954 | BS10: =(BQ10*(2.7-$C10)/2.1)+(BR10*($C10-0.6)/2.1) -> -11000.17 | BT10: =IF(AND($C10>=0.208,$C10<=0.6),BM10,IF($C10<=2.7,BS10,BR10)) -> 2401.5954
