Workbook

Sheet Complete
A1: Annex D.1 eq# | B1: (D.1) | C1: (D.2) | D1: (D.3) | E1: (D.4) | F1: (D.5) | G1: (D.6) | H1: (D.7) | J1: (D.9) | K1: (D.11) | L1: (D.13) | M1: (D.14) | N1: (D.15) | O1: (D.16) | P1: (D.17) | Q1: (D.18) | Y1: (D.19) | Z1: (D.20) | AA1: (D.21) | AD1: (D.22) | AF1: (D.24) | AG1: (D.26) | AH1: (D.28) | AI1: (D.29) | AJ1: (D.30) | AK1: (D.31) | AL1: (D.32) | AN1: (D.34) | AO1: (D.36) | AP1: (D.38) | AQ1: (D.39) | AR1: (D.40) | AS1: (D.41) | AT1: (D.42) | AU1: (D.43) | AV1: (D.44) | AW1: (D.45) | AX1: (D.46) | AY1: (D.47) | AZ1: (D.48) | BA1: (D.49) | BB1: (D.50) | BC1: (D.51) | BD1: (D.52) | BF1: (D.54) | BG1: (D.56) | BH1: (D.58) | BI1: (D.59) | BJ1: (D.60) | BK1: (D.61) | BL1: (D.62) | BN1: (D.64) | BO1: (D.66) | BP1: (D.68) | BQ1: (D.69) | BR1: (D.70) | BS1: (D.71) | BT1: (D.72)
A2: Annex D.2 eq# | B2: (D.73) | C2: (D.74) | D2: (D.75) | E2: (D.76) | F2: (D.77) | G2: (D.78) | H2: (D.79) | I2: (D.80) | J2: (D.82) | P2: (D.84) | Q2: (D.85) | Y2: (D.86) | Z2: (D.87) | AA2: (D.88) | AD2: (D.89) | AE2: (D.91) | AL2: (D.92) | AM2: (D.94) | AT2: (D.95) | AU2: (D.96) | AV2: (D.97) | BC2: (D.99) | BD2: (D.100) | BE2: (D.102) | BL2: (D.103) | BM2: (D.105) | BT2: (D.106)
A4: Input parameters | J4: Arcing Current | Q4: Tarc | R4: Enclosure Size Correction Factor | AE4: Incident Energy | AM4: Arc-Flash Boundary | AU4: Correction Factor | AW4: Arcing Current (Reduced) | BD4: Tarc | BE4: Incident Energy (Reduced) | BM4: Arc-Flash Boundary (Reduced)
J5: Intermediate | M5: Final | AE5: Intermediate | AI5: Final | AM5: Intermediate | AQ5: Final | AW5: Intermediate | AZ5: Final | BE5: Intermediate | BI5: Final | BM5: Intermediate | BQ5: Final
A6: Bus Name | B6: Config | C6: Voc | D6: Ibf | E6: Gap | F6: WDist | G6: Width | H6: Height | I6: Depth | J6: Iarc_600 | K6: Iarc_2700 | L6: Iarc_14300 | M6: Iarc_1 | N6: Iarc_2 | O6: Iarc_3 | P6: Iarc | Q6: T | R6: Type | S6: A | T6: B | U6: Width11 | V6: Eq_11 | W6: Height12 | X6: Eq_12 | Y6: Width1 | Z6: Height1 | AA6: ESS | AB6: Eq_14 | AC6: Eq_15 | AD6: CF | AE6: E≤600 | AF6: E600 | AG6: E2700 | AH6: E14300 | AI6: E1 | AJ6: E2 | AK6: E3 | AL6: E | AM6: AFB≤600 | AN6: AFB600 | AO6: AFB2700 | AP6: AFB14300 | AQ6: AFB1 | AR6: AFB2 | AS6: AFB3 | AT6: AFB | AU6: VarCf | AV6: 1-0,5*VarCf | AW6: Iarc_600_min | AX6: Iarc_2700_min | AY6: Iarc_14300_min | AZ6: Iarc_1 | BA6: Iarc_2 | BB6: Iarc_3 | BC6: Iarc_min | BD6: T | BE6: E≤600 | BF6: E600 | BG6: E2700 | BH6: E14300 | BI6: E1 | BJ6: E2 | BK6: E3 | BL6: E | BM6: AFB≤600 | BN6: AFB600 | BO6: AFB2700 | BP6: AFB14300 | BQ6: AFB1 | BR6: AFB2 | BS6: AFB3 | BT6: AFB
C7: [kV] | D7: [kA] | E7: [mm] | F7: [mm] | G7: [mm] | H7: [mm] | I7: [mm] | J7: [kA] | K7: [kA] | L7: [kA] | M7: [kA] | N7: [kA] | O7: [kA] | P7: [kA] | Q7: [ms] | AE7: [J/cm²] | AF7: [J/cm²] | AG7: [J/cm²] | AH7: [J/cm²] | AI7: [J/cm²] | AJ7: [J/cm²] | AK7: [J/cm²] | AL7: [J/cm²] | AM7: [mm] | AN7: [mm] | AO7: [mm] | AP7: [mm] | AQ7: [mm] | AR7: [mm] | AS7: [mm] | AT7: [mm] | AW7: [kA] | AX7: [kA] | AY7: [kA] | AZ7: [kA] | BA7: [kA] | BB7: [kA] | BC7: [kA] | BD7: [ms] | BE7: [J/cm²] | BF7: [J/cm²] | BG7: [J/cm²] | BH7: [J/cm²] | BI7: [J/cm²] | BJ7: [J/cm²] | BK7: [J/cm²] | BL7: [J/cm²] | BM7: [mm] | BN7: [mm] | BO7: [mm] | BP7: [mm] | BQ7: [mm] | BR7: [mm] | BS7: [mm] | BT7: [mm]
A8: Annex D.1 | B8: VCB | C8: 4.16 | D8: 15 | E8: 104 | F8: 914.4 | G8: 762 | H8: 1143 | I8: 254 | J8: =10^(SUMIFS(Table1!$C:$C,Table1!$B:$B,600,Table1!$A:$A,$B8)+SUMIFS(Table1!$D:$D,Table1!$B:$B,600,Table1!$A:$A,$B8)*LOG10($D8)+SUMIFS(Table1!$E:$E,Table1!$B:$B,600,Table1!$A:$A,$B8)*LOG10($E8))*(SUMIFS(Table1!$F:$F,Table1!$B:$B,600,Table1!$A:$A,$B8)*$D8^6+SUMIFS(Table1!$G:$G,Table1!$B:$B,600,Table1!$A:$A,$B8)*$D8^5+SUMIFS(Table1!$H:$H,Table1!$B:$B,600,Table1!$A:$A,$B8)*$D8^4+SUMIFS(Table1!$I:$I,Table1!$B:$B,600,Table1!$A:$A,$B8)*$D8^3+SUMIFS(Table1!$J:$J,Table1!$B:$B,600,Table1!$A:$A,$B8)*$D8^2+SUMIFS(Table1!$K:$K,Table1!$B:$B,600,Table1!$A:$A,$B8)*$D8+SUMIFS(Table1!$L:$L,Table1!$B:$B,600,Table1!$A:$A,$B8)) -> 11.116701 | K8: =10^(SUMIFS(Table1!$C:$C,Table1!$B:$B,2700,Table1!$A:$A,$B8)+SUMIFS(Table1!$D:$D,Table1!$B:$B,2700,Table1!$A:$A,$B8)*LOG10($D8)+SUMIFS(Table1!$E:$E,Table1!$B:$B,2700,Table1!$A:$A,$B8)*LOG10($E8))*(SUMIFS(Table1!$F:$F,Table1!$B:$B,2700,Table1!$A:$A,$B8)*$D8^6+SUMIFS(Table1!$G:$G,Table1!$B:$B,2700,Table1!$A:$A,$B8)*$D8^5+SUMIFS(Table1!$H:$H,Table1!$B:$B,2700,Table1!$A:$A,$B8)*$D8^4+SUMIFS(Table1!$I:$I,Table1!$B:$B,2700,Table1!$A:$A,$B8)*$D8^3+SUMIFS(Table1!$J:$J,Table1!$B:$B,2700,Table1!$A:$A,$B8)*$D8^2+SUMIFS(Table1!$K:$K,Table1!$B:$B,2700,Table1!$A:$A,$B8)*$D8+SUMIFS(Table1!$L:$L,Table1!$B:$B,2700,Table1!$A:$A,$B8)) -> 12.815761 | L8: =10^(SUMIFS(Table1!$C:$C,Table1!$B:$B,14300,Table1!$A:$A,$B8)+SUMIFS(Table1!$D:$D,Table1!$B:$B,14300,Table1!$A:$A,$B8)*LOG10($D8)+SUMIFS(Table1!$E:$E,Table1!$B:$B,14300,Table1!$A:$A,$B8)*LOG10($E8))*(SUMIFS(Table1!$F:$F,Table1!$B:$B,14300,Table1!$A:$A,$B8)*$D8^6+SUMIFS(Table1!$G:$G,Table1!$B:$B,14300,Table1!$A:$A,$B8)*$D8^5+SUMIFS(Table1!$H:$H,Table1!$B:$B,14300,Table1!$A:$A,$B8)*$D8^4+SUMIFS(Table1!$I:$I,Table1!$B:$B,14300,Table1!$A:$A,$B8)*$D8^3+SUMIFS(Table1!$J:$J,Table1!$B:$B,14300,Table1!$A:$A,$B8)*$D8^2+SUMIFS(Table1!$K:$K,Table1!$B:$B,14300,Table1!$A:$A,$B8)*$D8+SUMIFS(Table1!$L:$L,Table1!$B:$B,14300,Table1!$A:$A,$B8)) -> 14.11647 | M8: =((K8-J8)/2.1)*($C8-2.7)+K8 -> 13.997012 | N8: =((L8-K8)/11.6)*($C8-14.3)+L8 -> 12.979471 | O8: =(M8*(2.7-$C8)/2.1)+(N8*($C8-0.6)/2.1) -> 12.272038 | P8: =IF(AND($C8>=0.208,$C8<=0.6),1/SQRT((0.6/$C8)^2*(1/(J8)^2-(0.6^2-($C8)^2)/(0.6^2*($D8)^2))),IF(AND($C8>0.6,$C8<=2.7),O8,IF($C8>2.7,N8,"Errado"))) -> 12.979471 | Q8: 197 | R8: =IF(AND($C8<0.6,$G8<508,$H8<508,$I8<=203.2),"Shallow","Typical") -> Typical | S8: =IF($B8="VCB",4,IF($B8="VCBB",10,IF($B8="HCB",10,0))) -> 4 | T8: =IF($B8="VCB",20,IF($B8="VCBB",24,IF($B8="HCB",22,0))) -> 20 | U8: =IF($G8<=1244.6,$G8,1244.6) -> 762 | V8: =(660.4+($U8-660.4)*($C8+$S8)/$T8)*(1/25.4) -> 27.632 | W8: =IF($H8<=1244.6,$H8,1244.6) -> 1143 | X8: =(660.4+($W8-660.4)*($C8+$S8)/$T8)*(1/25.4) -> 33.752 | Y8: =IF($G8<508,IF($R8="Typical",20,0.03937*$G8),IF($G8<=660.4,0.03937*$G8,IF($G8<=1244.6,$V8,$V8))) -> 27.632 | Z8: =IF($H8<508,IF($R8="Typical",20,0.03937*$H8),IF($H8<=660.4,0.03937*$H8,IF($H8<=1244.6,IF($B8="VCB",0.03937*$H8,$X8),IF($B8="VCB",49,$X8)))) -> 44.99991 | AA8: =(Z8+Y8)/2 -> 36.315955 | AB8: =SUMIFS(Table7!C:C,Table7!A:A,"Typical",Table7!B:B,$B8)*$AA8^2+SUMIFS(Table7!D:D,Table7!A:A,"Typical",Table7!B:B,$B8)*$AA8+SUMIFS(Table7!E:E,Table7!A:A,"Typical",Table7!B:B,$B8) -> 1.2838397 | AC8: =1/(SUMIFS(Table7!C:C,Table7!A:A,"Shallow",Table7!B:B,$B8)*$AA8^2+SUMIFS(Table7!D:D,Table7!A:A,"Shallow",Table7!B:B,$B8)*$AA8+SUMIFS(Table7!E:E,Table7!A:A,"Shallow",Table7!B:B,$B8)) -> 0.38103283 | AD8: =IF(R8="Typical",AB8,AC8) -> 1.2838397 | AE8: =(12.552/50)*Q8*10^(SUMIFS(Table3!$B:$B,Table3!$A:$A,$B8)+SUMIFS(Table3!$C:$C,Table3!$A:$A,$B8)*LOG10($E8)+SUMIFS(Table3!$D:$D,Table3!$A:$A,$B8)*$J8/(SUMIFS(Table3!$E:$E,Table3!$A:$A,$B8)*$D8^7+SUMIFS(Table3!$F:$F,Table3!$A:$A,$B8)*$D8^6+SUMIFS(Table3!$G:$G,Table3!$A:$A,$B8)*$D8^5+SUMIFS(Table3!$H:$H,Table3!$A:$A,$B8)*$D8^4+SUMIFS(Table3!$I:$I,Table3!$A:$A,$B8)*$D8^3+SUMIFS(Table3!$J:$J,Table3!$A:$A,$B8)*$D8^2+SUMIFS(Table3!$K:$K,Table3!$A:$A,$B8)*$D8)+SUMIFS(Table3!$L:$L,Table3!$A:$A,$B8)*LOG10($D8)+SUMIFS(Table3!$M:$M,Table3!$A:$A,$B8)*LOG10($F8)+SUMIFS(Table3!$N:$N,Table3!$A:$A,$B8)*LOG10(P8)+LOG10(1/$AD8)) -> 10.035146 | AF8: =(12.552/50)*Q8*10^(SUMIFS(Table3!$B:$B,Table3!$A:$A,$B8)+SUMIFS(Table3!$C:$C,Table3!$A:$A,$B8)*LOG10($E8)+SUMIFS(Table3!$D:$D,Table3!$A:$A,$B8)*J8/(SUMIFS(Table3!$E:$E,Table3!$A:$A,$B8)*$D8^7+SUMIFS(Table3!$F:$F,Table3!$A:$A,$B8)*$D8^6+SUMIFS(Table3!$G:$G,Table3!$A:$A,$B8)*$D8^5+SUMIFS(Table3!$H:$H,Table3!$A:$A,$B8)*$D8^4+SUMIFS(Table3!$I:$I,Table3!$A:$A,$B8)*$D8^3+SUMIFS(Table3!$J:$J,Table3!$A:$A,$B8)*$D8^2+SUMIFS(Table3!$K:$K,Table3!$A:$A,$B8)*$D8)+SUMIFS(Table3!$L:$L,Table3!$A:$A,$B8)*LOG10($D8)+SUMIFS(Table3!$M:$M,Table3!$A:$A,$B8)*LOG10($F8)+SUMIFS(Table3!$N:$N,Table3!$A:$A,$B8)*LOG10(J8)+LOG10(1/$AD8)) -> 8.6523829 | AG8: =(12.552/50)*Q8*10^(SUMIFS(Table4!$B:$B,Table4!$A:$A,$B8)+SUMIFS(Table4!$C:$C,Table4!$A:$A,$B8)*LOG10($E8)+SUMIFS(Table4!$D:$D,Table4!$A:$A,$B8)*K8/(SUMIFS(Table4!$E:$E,Table4!$A:$A,$B8)*$D8^7+SUMIFS(Table4!$F:$F,Table4!$A:$A,$B8)*$D8^6+SUMIFS(Table4!$G:$G,Table4!$A:$A,$B8)*$D8^5+SUMIFS(Table4!$H:$H,Table4!$A:$A,$B8)*$D8^4+SUMIFS(Table4!$I:$I,Table4!$A:$A,$B8)*$D8^3+SUMIFS(Table4!$J:$J,Table4!$A:$A,$B8)*$D8^2+SUMIFS(Table4!$K:$K,Table4!$A:$A,$B8)*$D8)+SUMIFS(Table4!$L:$L,Table4!$A:$A,$B8)*LOG10($D8)+SUMIFS(Table4!$M:$M,Table4!$A:$A,$B8)*LOG10($F8)+SUMIFS(Table4!$N:$N,Table4!$A:$A,$B8)*LOG10(K8)+LOG10(1/$AD8)) -> 11.976781 | AH8: =(12.552/50)*Q8*10^(SUMIFS(Table5!$B:$B,Table5!$A:$A,$B8)+SUMIFS(Table5!$C:$C,Table5!$A:$A,$B8)*LOG10($E8)+SUMIFS(Table5!$D:$D,Table5!$A:$A,$B8)*L8/(SUMIFS(Table5!$E:$E,Table5!$A:$A,$B8)*$D8^7+SUMIFS(Table5!$F:$F,Table5!$A:$A,$B8)*$D8^6+SUMIFS(Table5!$G:$G,Table5!$A:$A,$B8)*$D8^5+SUMIFS(Table5!$H:$H,Table5!$A:$A,$B8)*$D8^4+SUMIFS(Table5!$I:$I,Table5!$A:$A,$B8)*$D8^3+SUMIFS(Table5!$J:$J,Table5!$A:$A,$B8)*$D8^2+SUMIFS(Table5!$K:$K,Table5!$A:$A,$B8)*$D8)+SUMIFS(Table5!$L:$L,Table5!$A:$A,$B8)*LOG10($D8)+SUMIFS(Table5!$M:$M,Table5!$A:$A,$B8)*LOG10($F8)+SUMIFS(Table5!$N:$N,Table5!$A:$A,$B8)*LOG10(L8)+LOG10(1/$AD8)) -> 13.366814 | AI8: =((AG8-AF8)/2.1)*($C8-2.7)+AG8 -> 14.288029 | AJ8: =((AH8-AG8)/11.6)*($C8-14.3)+AH8 -> 12.151733 | AK8: =AI8*(2.7-$C8)/2.1+AJ8*($C8-0.6)/2.1 -> 10.666499 | AL8: =IF(AND($C8>=0.208,$C8<=0.6),AE8,IF($C8<=2.7,AK8,AJ8)) -> 12.151733 | AM8: =10^((SUMIFS(Table3!$B:$B,Table3!$A:$A,$B8)+SUMIFS(Table3!$C:$C,Table3!$A:$A,$B8)*LOG10($E8)+(SUMIFS(Table3!$D:$D,Table3!$A:$A,$B8)*$J8)/(SUMIFS(Table3!$E:$E,Table3!$A:$A,$B8)*$D8^7+SUMIFS(Table3!$F:$F,Table3!$A:$A,$B8)*$D8^6+SUMIFS(Table3!$G:$G,Table3!$A:$A,$B8)*$D8^5+SUMIFS(Table3!$H:$H,Table3!$A:$A,$B8)*$D8^4+SUMIFS(Table3!$I:$I,Table3!$A:$A,$B8)*$D8^3+SUMIFS(Table3!$J:$J,Table3!$A:$A,$B8)*$D8^2+SUMIFS(Table3!$K:$K,Table3!$A:$A,$B8)*$D8)+SUMIFS(Table3!$L:$L,Table3!$A:$A,$B8)*LOG10($D8)+SUMIFS(Table3!$N:$N,Table3!$A:$A,$B8)*LOG10(P8)+LOG10(1/$AD8)-LOG10(20/Q8))/-SUMIFS(Table3!$M:$M,Table3!$A:$A,$B8)) -> 1410.3948 | AN8: =10^((SUMIFS(Table3!$B:$B,Table3!$A:$A,$B8)+SUMIFS(Table3!$C:$C,Table3!$A:$A,$B8)*LOG10($E8)+(SUMIFS(Table3!$D:$D,Table3!$A:$A,$B8)*J8)/(SUMIFS(Table3!$E:$E,Table3!$A:$A,$B8)*$D8^7+SUMIFS(Table3!$F:$F,Table3!$A:$A,$B8)*$D8^6+SUMIFS(Table3!$G:$G,Table3!$A:$A,$B8)*$D8^5+SUMIFS(Table3!$H:$H,Table3!$A:$A,$B8)*$D8^4+SUMIFS(Table3!$I:$I,Table3!$A:$A,$B8)*$D8^3+SUMIFS(Table3!$J:$J,Table3!$A:$A,$B8)*$D8^2+SUMIFS(Table3!$K:$K,Table3!$A:$A,$B8)*$D8)+SUMIFS(Table3!$L:$L,Table3!$A:$A,$B8)*LOG10($D8)+SUMIFS(Table3!$N:$N,Table3!$A:$A,$B8)*LOG10(J8)+LOG10(1/$AD8)-LOG10(20/Q8))/-SUMIFS(Table3!$M:$M,Table3!$A:$A,$B8)) -> 1285.4283 | AO8: =10^((SUMIFS(Table4!$B:$B,Table4!$A:$A,$B8)+SUMIFS(Table4!$C:$C,Table4!$A:$A,$B8)*LOG10($E8)+(SUMIFS(Table4!$D:$D,Table4!$A:$A,$B8)*K8)/(SUMIFS(Table4!$E:$E,Table4!$A:$A,$B8)*$D8^7+SUMIFS(Table4!$F:$F,Table4!$A:$A,$B8)*$D8^6+SUMIFS(Table4!$G:$G,Table4!$A:$A,$B8)*$D8^5+SUMIFS(Table4!$H:$H,Table4!$A:$A,$B8)*$D8^4+SUMIFS(Table4!$I:$I,Table4!$A:$A,$B8)*$D8^3+SUMIFS(Table4!$J:$J,Table4!$A:$A,$B8)*$D8^2+SUMIFS(Table4!$K:$K,Table4!$A:$A,$B8)*$D8)+SUMIFS(Table4!$L:$L,Table4!$A:$A,$B8)*LOG10($D8)+SUMIFS(Table4!$N:$N,Table4!$A:$A,$B8)*LOG10(K8)+LOG10(1/$AD8)-LOG10(20/Q8))/-SUMIFS(Table4!$M:$M,Table4!$A:$A,$B8)) -> 1591.3956 | AP8: =10^((SUMIFS(Table5!$B:$B,Table5!$A:$A,$B8)+SUMIFS(Table5!$C:$C,Table5!$A:$A,$B8)*LOG10($E8)+(SUMIFS(Table5!$D:$D,Table5!$A:$A,$B8)*L8)/(SUMIFS(Table5!$E:$E,Table5!$A:$A,$B8)*$D8^7+SUMIFS(Table5!$F:$F,Table5!$A:$A,$B8)*$D8^6+SUMIFS(Table5!$G:$G,Table5!$A:$A,$B8)*$D8^5+SUMIFS(Table5!$H:$H,Table5!$A:$A,$B8)*$D8^4+SUMIFS(Table5!$I:$I,Table5!$A:$A,$B8)*$D8^3+SUMIFS(Table5!$J:$J,Table5!$A:$A,$B8)*$D8^2+SUMIFS(Table5!$K:$K,Table5!$A:$A,$B8)*$D8)+SUMIFS(Table5!$L:$L,Table5!$A:$A,$B8)*LOG10($D8)+SUMIFS(Table5!$N:$N,Table5!$A:$A,$B8)*LOG10(L8)+LOG10(1/$AD8)-LOG10(20/Q8))/-SUMIFS(Table5!$M:$M,Table5!$A:$A,$B8)) -> 1707.4373 | AQ8: =((AO8-AN8)/2.1)*($C8-2.7)+AO8 -> 1804.1157 | AR8: =((AP8-AO8)/11.6)*($C8-14.3)+AP8 -> 1606.0008 | AS8: =(AQ8*(2.7-$C8)/2.1)+(AR8*($C8-0.6)/2.1) -> 1468.2638 | AT8: =IF(AND($C8>=0.208,$C8<=0.6),AM8,IF($C8<=2.7,AS8,AR8)) -> 1606.0008 | AU8: =SUMIFS(Table2!$B:$B,Table2!$A:$A,$B8)*$C8^6+SUMIFS(Table2!$C:$C,Table2!$A:$A,$B8)*$C8^5+SUMIFS(Table2!$D:$D,Table2!$A:$A,$B8)*$C8^4+SUMIFS(Table2!$E:$E,Table2!$A:$A,$B8)*$C8^3+SUMIFS(Table2!$F:$F,Table2!$A:$A,$B8)*$C8^2+SUMIFS(Table2!$G:$G,Table2!$A:$A,$B8)*$C8+SUMIFS(Table2!$H:$H,Table2!$A:$A,$B8) -> 0.046871997 | AV8: =1-0.5*AU8 -> 0.976564 | AW8: =J8*$AV8 -> 10.85617 | AX8: =K8*$AV8 -> 12.515411 | AY8: =L8*$AV8 -> 13.785636 | AZ8: =((AX8-AW8)/2.1)*($C8-2.7)+AX8 -> 13.668978 | BA8: =((AY8-AX8)/11.6)*($C8-14.3)+AY8 -> 12.675284 | BB8: =(AZ8*(2.7-$C8)/2.1)+(BA8*($C8-0.6)/2.1) -> 11.98443 | BC8: =IF(AND($C8>=0.208,$C8<=0.6),1/SQRT((0.6/$C8)^2*(1/(J8)^2-(0.6^2-($C8)^2)/(0.6^2*($D8)^2)))*AV8,IF(AND($C8>0.6,$C8<=2.7),BB8,IF($C8>2.7,BA8,"Erro"))) -> 12.675284 | BD8: 223 | BE8: =(12.552/50)*BD8*10^(SUMIFS(Table3!$B:$B,Table3!$A:$A,$B8)+SUMIFS(Table3!$C:$C,Table3!$A:$A,$B8)*LOG10($E8)+SUMIFS(Table3!$D:$D,Table3!$A:$A,$B8)*$J8/(SUMIFS(Table3!$E:$E,Table3!$A:$A,$B8)*$D8^7+SUMIFS(Table3!$F:$F,Table3!$A:$A,$B8)*$D8^6+SUMIFS(Table3!$G:$G,Table3!$A:$A,$B8)*$D8^5+SUMIFS(Table3!$H:$H,Table3!$A:$A,$B8)*$D8^4+SUMIFS(Table3!$I:$I,Table3!$A:$A,$B8)*$D8^3+SUMIFS(Table3!$J:$J,Table3!$A:$A,$B8)*$D8^2+SUMIFS(Table3!$K:$K,Table3!$A:$A,$B8)*$D8)+SUMIFS(Table3!$L:$L,Table3!$A:$A,$B8)*LOG10($D8)+SUMIFS(Table3!$M:$M,Table3!$A:$A,$B8)*LOG10($F8)+SUMIFS(Table3!$N:$N,Table3!$A:$A,$B8)*LOG10(BC8)+LOG10(1/$AD8)) -> 11.104676 | BF8: =(12.552/50)*BD8*10^(SUMIFS(Table3!$B:$B,Table3!$A:$A,$B8)+SUMIFS(Table3!$C:$C,Table3!$A:$A,$B8)*LOG10($E8)+SUMIFS(Table3!$D:$D,Table3!$A:$A,$B8)*AW8/(SUMIFS(Table3!$E:$E,Table3!$A:$A,$B8)*$D8^7+SUMIFS(Table3!$F:$F,Table3!$A:$A,$B8)*$D8^6+SUMIFS(Table3!$G:$G,Table3!$A:$A,$B8)*$D8^5+SUMIFS(Table3!$H:$H,Table3!$A:$A,$B8)*$D8^4+SUMIFS(Table3!$I:$I,Table3!$A:$A,$B8)*$D8^3+SUMIFS(Table3!$J:$J,Table3!$A:$A,$B8)*$D8^2+SUMIFS(Table3!$K:$K,Table3!$A:$A,$B8)*$D8)+SUMIFS(Table3!$L:$L,Table3!$A:$A,$B8)*LOG10($D8)+SUMIFS(Table3!$M:$M,Table3!$A:$A,$B8)*LOG10($F8)+SUMIFS(Table3!$N:$N,Table3!$A:$A,$B8)*LOG10(AW8)+LOG10(1/$AD8)) -> 8.9803177 | BG8: =(12.552/50)*BD8*10^(SUMIFS(Table4!$B:$B,Table4!$A:$A,$B8)+SUMIFS(Table4!$C:$C,Table4!$A:$A,$B8)*LOG10($E8)+SUMIFS(Table4!$D:$D,Table4!$A:$A,$B8)*AX8/(SUMIFS(Table4!$E:$E,Table4!$A:$A,$B8)*$D8^7+SUMIFS(Table4!$F:$F,Table4!$A:$A,$B8)*$D8^6+SUMIFS(Table4!$G:$G,Table4!$A:$A,$B8)*$D8^5+SUMIFS(Table4!$H:$H,Table4!$A:$A,$B8)*$D8^4+SUMIFS(Table4!$I:$I,Table4!$A:$A,$B8)*$D8^3+SUMIFS(Table4!$J:$J,Table4!$A:$A,$B8)*$D8^2+SUMIFS(Table4!$K:$K,Table4!$A:$A,$B8)*$D8)+SUMIFS(Table4!$L:$L,Table4!$A:$A,$B8)*LOG10($D8)+SUMIFS(Table4!$M:$M,Table4!$A:$A,$B8)*LOG10($F8)+SUMIFS(Table4!$N:$N,Table4!$A:$A,$B8)*LOG10(AX8)+LOG10(1/$AD8)) -> 13.018177 | BH8: =(12.552/50)*BD8*10^(SUMIFS(Table5!$B:$B,Table5!$A:$A,$B8)+SUMIFS(Table5!$C:$C,Table5!$A:$A,$B8)*LOG10($E8)+SUMIFS(Table5!$D:$D,Table5!$A:$A,$B8)*AY8/(SUMIFS(Table5!$E:$E,Table5!$A:$A,$B8)*$D8^7+SUMIFS(Table5!$F:$F,Table5!$A:$A,$B8)*$D8^6+SUMIFS(Table5!$G:$G,Table5!$A:$A,$B8)*$D8^5+SUMIFS(Table5!$H:$H,Table5!$A:$A,$B8)*$D8^4+SUMIFS(Table5!$I:$I,Table5!$A:$A,$B8)*$D8^3+SUMIFS(Table5!$J:$J,Table5!$A:$A,$B8)*$D8^2+SUMIFS(Table5!$K:$K,Table5!$A:$A,$B8)*$D8)+SUMIFS(Table5!$L:$L,Table5!$A:$A,$B8)*LOG10($D8)+SUMIFS(Table5!$M:$M,Table5!$A:$A,$B8)*LOG10($F8)+SUMIFS(Table5!$N:$N,Table5!$A:$A,$B8)*LOG10(AY8)+LOG10(1/$AD8)) -> 15.601554 | BI8: =((BG8-BF8)/2.1)*($C8-2.7)+BG8 -> 15.825451 | BJ8: =((BH8-BG8)/11.6)*($C8-14.3)+BH8 -> 13.343327 | BK8: =BI8*(2.7-$C8)/2.1+BJ8*($C8-0.6)/2.1 -> 11.617659 | BL8: =IF(AND($C8>=0.208,$C8<=0.6),BE8,IF($C8<=2.7,BK8,BJ8)) -> 13.343327 | BM8: =10^((SUMIFS(Table3!$B:$B,Table3!$A:$A,$B8)+SUMIFS(Table3!$C:$C,Table3!$A:$A,$B8)*LOG10($E8)+(SUMIFS(Table3!$D:$D,Table3!$A:$A,$B8)*$J8)/(SUMIFS(Table3!$E:$E,Table3!$A:$A,$B8)*$D8^7+SUMIFS(Table3!$F:$F,Table3!$A:$A,$B8)*$D8^6+SUMIFS(Table3!$G:$G,Table3!$A:$A,$B8)*$D8^5+SUMIFS(Table3!$H:$H,Table3!$A:$A,$B8)*$D8^4+SUMIFS(Table3!$I:$I,Table3!$A:$A,$B8)*$D8^3+SUMIFS(Table3!$J:$J,Table3!$A:$A,$B8)*$D8^2+SUMIFS(Table3!$K:$K,Table3!$A:$A,$B8)*$D8)+SUMIFS(Table3!$L:$L,Table3!$A:$A,$B8)*LOG10($D8)+SUMIFS(Table3!$N:$N,Table3!$A:$A,$B8)*LOG10(BC8)+LOG10(1/$AD8)-LOG10(20/BD8))/-SUMIFS(Table3!$M:$M,Table3!$A:$A,$B8)) -> 1502.6713 | BN8: =10^((SUMIFS(Table3!$B:$B,Table3!$A:$A,$B8)+SUMIFS(Table3!$C:$C,Table3!$A:$A,$B8)*LOG10($E8)+(SUMIFS(Table3!$D:$D,Table3!$A:$A,$B8)*AW8)/(SUMIFS(Table3!$E:$E,Table3!$A:$A,$B8)*$D8^7+SUMIFS(Table3!$F:$F,Table3!$A:$A,$B8)*$D8^6+SUMIFS(Table3!$G:$G,Table3!$A:$A,$B8)*$D8^5+SUMIFS(Table3!$H:$H,Table3!$A:$A,$B8)*$D8^4+SUMIFS(Table3!$I:$I,Table3!$A:$A,$B8)*$D8^3+SUMIFS(Table3!$J:$J,Table3!$A:$A,$B8)*$D8^2+SUMIFS(Table3!$K:$K,Table3!$A:$A,$B8)*$D8)+SUMIFS(Table3!$L:$L,Table3!$A:$A,$B8)*LOG10($D8)+SUMIFS(Table3!$N:$N,Table3!$A:$A,$B8)*LOG10(AW8)+LOG10(1/$AD8)-LOG10(20/BD8))/-SUMIFS(Table3!$M:$M,Table3!$A:$A,$B8)) -> 1315.7034 | BO8: =10^((SUMIFS(Table4!$B:$B,Table4!$A:$A,$B8)+SUMIFS(Table4!$C:$C,Table4!$A:$A,$B8)*LOG10($E8)+(SUMIFS(Table4!$D:$D,Table4!$A:$A,$B8)*AX8)/(SUMIFS(Table4!$E:$E,Table4!$A:$A,$B8)*$D8^7+SUMIFS(Table4!$F:$F,Table4!$A:$A,$B8)*$D8^6+SUMIFS(Table4!$G:$G,Table4!$A:$A,$B8)*$D8^5+SUMIFS(Table4!$H:$H,Table4!$A:$A,$B8)*$D8^4+SUMIFS(Table4!$I:$I,Table4!$A:$A,$B8)*$D8^3+SUMIFS(Table4!$J:$J,Table4!$A:$A,$B8)*$D8^2+SUMIFS(Table4!$K:$K,Table4!$A:$A,$B8)*$D8)+SUMIFS(Table4!$L:$L,Table4!$A:$A,$B8)*LOG10($D8)+SUMIFS(Table4!$N:$N,Table4!$A:$A,$B8)*LOG10(AX8)+LOG10(1/$AD8)-LOG10(20/BD8))/-SUMIFS(Table4!$M:$M,Table4!$A:$A,$B8)) -> 1678.2497 | BP8: =10^((SUMIFS(Table5!$B:$B,Table5!$A:$A,$B8)+SUMIFS(Table5!$C:$C,Table5!$A:$A,$B8)*LOG10($E8)+(SUMIFS(Table5!$D:$D,Table5!$A:$A,$B8)*AY8)/(SUMIFS(Table5!$E:$E,Table5!$A:$A,$B8)*$D8^7+SUMIFS(Table5!$F:$F,Table5!$A:$A,$B8)*$D8^6+SUMIFS(Table5!$G:$G,Table5!$A:$A,$B8)*$D8^5+SUMIFS(Table5!$H:$H,Table5!$A:$A,$B8)*$D8^4+SUMIFS(Table5!$I:$I,Table5!$A:$A,$B8)*$D8^3+SUMIFS(Table5!$J:$J,Table5!$A:$A,$B8)*$D8^2+SUMIFS(Table5!$K:$K,Table5!$A:$A,$B8)*$D8)+SUMIFS(Table5!$L:$L,Table5!$A:$A,$B8)*LOG10($D8)+SUMIFS(Table5!$N:$N,Table5!$A:$A,$B8)*LOG10(AY8)+LOG10(1/$AD8)-LOG10(20/BD8))/-SUMIFS(Table5!$M:$M,Table5!$A:$A,$B8)) -> 1884.3588 | BQ8: =((BO8-BN8)/2.1)*($C8-2.7)+BO8 -> 1930.3058 | BR8: =((BP8-BO8)/11.6)*($C8-14.3)+BP8 -> 1704.1911 | BS8: =(BQ8*(2.7-$C8)/2.1)+(BR8*($C8-0.6)/2.1) -> 1546.9875 | BT8: =IF(AND($C8>=0.208,$C8<=0.6),BM8,IF($C8<=2.7,BS8,BR8)) -> 1704.1911
A9: Annex D.2 | B9: VCB | C9: 0.48 | D9: 45 | E9: 32 | F9: 609.6 | G9: 610 | H9: 610 | I9: 254 | J9: =10^(SUMIFS(Table1!$C:$C,Table1!$B:$B,600,Table1!$A:$A,$B9)+SUMIFS(Table1!$D:$D,Table1!$B:$B,600,Table1!$A:$A,$B9)*LOG10($D9)+SUMIFS(Table1!$E:$E,Table1!$B:$B,600,Table1!$A:$A,$B9)*LOG10($E9))*(SUMIFS(Table1!$F:$F,Table1!$B:$B,600,Table1!$A:$A,$B9)*$D9^6+SUMIFS(Table1!$G:$G,Table1!$B:$B,600,Table1!$A:$A,$B9)*$D9^5+SUMIFS(Table1!$H:$H,Table1!$B:$B,600,Table1!$A:$A,$B9)*$D9^4+SUMIFS(Table1!$I:$I,Table1!$B:$B,600,Table1!$A:$A,$B9)*$D9^3+SUMIFS(Table1!$J:$J,Table1!$B:$B,600,Table1!$A:$A,$B9)*$D9^2+SUMIFS(Table1!$K:$K,Table1!$B:$B,600,Table1!$A:$A,$B9)*$D9+SUMIFS(Table1!$L:$L,Table1!$B:$B,600,Table1!$A:$A,$B9)) -> 32.448669 | K9: =10^(SUMIFS(Table1!$C:$C,Table1!$B:$B,2700,Table1!$A:$A,$B9)+SUMIFS(Table1!$D:$D,Table1!$B:$B,2700,Table1!$A:$A,$B9)*LOG10($D9)+SUMIFS(Table1!$E:$E,Table1!$B:$B,2700,Table1!$A:$A,$B9)*LOG10($E9))*(SUMIFS(Table1!$F:$F,Table1!$B:$B,2700,Table1!$A:$A,$B9)*$D9^6+SUMIFS(Table1!$G:$G,Table1!$B:$B,2700,Table1!$A:$A,$B9)*$D9^5+SUMIFS(Table1!$H:$H,Table1!$B:$B,2700,Table1!$A:$A,$B9)*$D9^4+SUMIFS(Table1!$I:$I,Table1!$B:$B,2700,Table1!$A:$A,$B9)*$D9^3+SUMIFS(Table1!$J:$J,Table1!$B:$B,2700,Table1!$A:$A,$B9)*$D9^2+SUMIFS(Table1!$K:$K,Table1!$B:$B,2700,Table1!$A:$A,$B9)*$D9+SUMIFS(Table1!$L:$L,Table1!$B:$B,2700,Table1!$A:$A,$B9)) -> 38.642963 | L9: =10^(SUMIFS(Table1!$C:$C,Table1!$B:$B,14300,Table1!$A:$A,$B9)+SUMIFS(Table1!$D:$D,Table1!$B:$B,14300,Table1!$A:$A,$B9)*LOG10($D9)+SUMIFS(Table1!$E:$E,Table1!$B:$B,14300,Table1!$A:$A,$B9)*LOG10($E9))*(SUMIFS(Table1!$F:$F,Table1!$B:$B,14300,Table1!$A:$A,$B9)*$D9^6+SUMIFS(Table1!$G:$G,Table1!$B:$B,14300,Table1!$A:$A,$B9)*$D9^5+SUMIFS(Table1!$H:$H,Table1!$B:$B,14300,Table1!$A:$A,$B9)*$D9^4+SUMIFS(Table1!$I:$I,Table1!$B:$B,14300,Table1!$A:$A,$B9)*$D9^3+SUMIFS(Table1!$J:$J,Table1!$B:$B,14300,Table1!$A:$A,$B9)*$D9^2+SUMIFS(Table1!$K:$K,Table1!$B:$B,14300,Table1!$A:$A,$B9)*$D9+SUMIFS(Table1!$L:$L,Table1!$B:$B,14300,Table1!$A:$A,$B9)) -> 42.567421 | M9: =((K9-J9)/2.1)*($C9-2.7)+K9 -> 32.094709 | N9: =((L9-K9)/11.6)*($C9-14.3)+L9 -> 37.891903 | O9: =(M9*(2.7-$C9)/2.1)+(N9*($C9-0.6)/2.1) -> 31.763441 | P9: =IF(AND($C9>=0.208,$C9<=0.6),1/SQRT((0.6/$C9)^2*(1/(J9)^2-(0.6^2-($C9)^2)/(0.6^2*($D9)^2))),IF(AND($C9>0.6,$C9<=2.7),O9,IF($C9>2.7,N9,"Errado"))) -> 28.793273 | Q9: 61.3 | R9: =IF(AND($C9<0.6,$G9<508,$H9<508,$I9<=203.2),"Shallow","Typical") -> Typical | S9: =IF($B9="VCB",4,IF($B9="VCBB",10,IF($B9="HCB",10,0))) -> 4 | T9: =IF($B9="VCB",20,IF($B9="VCBB",24,IF($B9="HCB",22,0))) -> 20 | U9: =IF($G9<=1244.6,$G9,1244.6) -> 610 | V9: =(660.4+($U9-660.4)*($C9+$S9)/$T9)*(1/25.4) -> 25.555528 | W9: =IF($H9<=1244.6,$H9,1244.6) -> 610 | X9: =(660.4+($W9-660.4)*($C9+$S9)/$T9)*(1/25.4) -> 25.555528 | Y9: =IF($G9<508,IF($R9="Typical",20,0.03937*$G9),IF($G9<=660.4,0.03937*$G9,IF($G9<=1244.6,$V9,$V9))) -> 24.0157 | Z9: =IF($H9<508,IF($R9="Typical",20,0.03937*$H9),IF($H9<=660.4,0.03937*$H9,IF($H9<=1244.6,IF($B9="VCB",0.03937*$H9,$X9),IF($B9="VCB",49,$X9)))) -> 24.0157 | AA9: =(Z9+Y9)/2 -> 24.0157 | AB9: =SUMIFS(Table7!C:C,Table7!A:A,"Typical",Table7!B:B,$B9)*$AA9^2+SUMIFS(Table7!D:D,Table7!A:A,"Typical",Table7!B:B,$B9)*$AA9+SUMIFS(Table7!E:E,Table7!A:A,"Typical",Table7!B:B,$B9) -> 1.0847006 | AC9: =1/(SUMIFS(Table7!C:C,Table7!A:A,"Shallow",Table7!B:B,$B9)*$AA9^2+SUMIFS(Table7!D:D,Table7!A:A,"Shallow",Table7!B:B,$B9)*$AA9+SUMIFS(Table7!E:E,Table7!A:A,"Shallow",Table7!B:B,$B9)) -> 0.77525044 | AD9: =IF(R9="Typical",AB9,AC9) -> 1.0847006 | AE9: =(12.552/50)*Q9*10^(SUMIFS(Table3!$B:$B,Table3!$A:$A,$B9)+SUMIFS(Table3!$C:$C,Table3!$A:$A,$B9)*LOG10($E9)+SUMIFS(Table3!$D:$D,Table3!$A:$A,$B9)*$J9/(SUMIFS(Table3!$E:$E,Table3!$A:$A,$B9)*$D9^7+SUMIFS(Table3!$F:$F,Table3!$A:$A,$B9)*$D9^6+SUMIFS(Table3!$G:$G,Table3!$A:$A,$B9)*$D9^5+SUMIFS(Table3!$H:$H,Table3!$A:$A,$B9)*$D9^4+SUMIFS(Table3!$I:$I,Table3!$A:$A,$B9)*$D9^3+SUMIFS(Table3!$J:$J,Table3!$A:$A,$B9)*$D9^2+SUMIFS(Table3!$K:$K,Table3!$A:$A,$B9)*$D9)+SUMIFS(Table3!$L:$L,Table3!$A:$A,$B9)*LOG10($D9)+SUMIFS(Table3!$M:$M,Table3!$A:$A,$B9)*LOG10($F9)+SUMIFS(Table3!$N:$N,Table3!$A:$A,$B9)*LOG10(P9)+LOG10(1/$AD9)) -> 11.584955 | AF9: =(12.552/50)*Q9*10^(SUMIFS(Table3!$B:$B,Table3!$A:$A,$B9)+SUMIFS(Table3!$C:$C,Table3!$A:$A,$B9)*LOG10($E9)+SUMIFS(Table3!$D:$D,Table3!$A:$A,$B9)*J9/(SUMIFS(Table3!$E:$E,Table3!$A:$A,$B9)*$D9^7+SUMIFS(Table3!$F:$F,Table3!$A:$A,$B9)*$D9^6+SUMIFS(Table3!$G:$G,Table3!$A:$A,$B9)*$D9^5+SUMIFS(Table3!$H:$H,Table3!$A:$A,$B9)*$D9^4+SUMIFS(Table3!$I:$I,Table3!$A:$A,$B9)*$D9^3+SUMIFS(Table3!$J:$J,Table3!$A:$A,$B9)*$D9^2+SUMIFS(Table3!$K:$K,Table3!$A:$A,$B9)*$D9)+SUMIFS(Table3!$L:$L,Table3!$A:$A,$B9)*LOG10($D9)+SUMIFS(Table3!$M:$M,Table3!$A:$A,$B9)*LOG10($F9)+SUMIFS(Table3!$N:$N,Table3!$A:$A,$B9)*LOG10(J9)+LOG10(1/$AD9)) -> 12.988776 | AG9: =(12.552/50)*Q9*10^(SUMIFS(Table4!$B:$B,Table4!$A:$A,$B9)+SUMIFS(Table4!$C:$C,Table4!$A:$A,$B9)*LOG10($E9)+SUMIFS(Table4!$D:$D,Table4!$A:$A,$B9)*K9/(SUMIFS(Table4!$E:$E,Table4!$A:$A,$B9)*$D9^7+SUMIFS(Table4!$F:$F,Table4!$A:$A,$B9)*$D9^6+SUMIFS(Table4!$G:$G,Table4!$A:$A,$B9)*$D9^5+SUMIFS(Table4!$H:$H,Table4!$A:$A,$B9)*$D9^4+SUMIFS(Table4!$I:$I,Table4!$A:$A,$B9)*$D9^3+SUMIFS(Table4!$J:$J,Table4!$A:$A,$B9)*$D9^2+SUMIFS(Table4!$K:$K,Table4!$A:$A,$B9)*$D9)+SUMIFS(Table4!$L:$L,Table4!$A:$A,$B9)*LOG10($D9)+SUMIFS(Table4!$M:$M,Table4!$A:$A,$B9)*LOG10($F9)+SUMIFS(Table4!$N:$N,Table4!$A:$A,$B9)*LOG10(K9)+LOG10(1/$AD9)) -> 20.637837 | AH9: =(12.552/50)*Q9*10^(SUMIFS(Table5!$B:$B,Table5!$A:$A,$B9)+SUMIFS(Table5!$C:$C,Table5!$A:$A,$B9)*LOG10($E9)+SUMIFS(Table5!$D:$D,Table5!$A:$A,$B9)*L9/(SUMIFS(Table5!$E:$E,Table5!$A:$A,$B9)*$D9^7+SUMIFS(Table5!$F:$F,Table5!$A:$A,$B9)*$D9^6+SUMIFS(Table5!$G:$G,Table5!$A:$A,$B9)*$D9^5+SUMIFS(Table5!$H:$H,Table5!$A:$A,$B9)*$D9^4+SUMIFS(Table5!$I:$I,Table5!$A:$A,$B9)*$D9^3+SUMIFS(Table5!$J:$J,Table5!$A:$A,$B9)*$D9^2+SUMIFS(Table5!$K:$K,Table5!$A:$A,$B9)*$D9)+SUMIFS(Table5!$L:$L,Table5!$A:$A,$B9)*LOG10($D9)+SUMIFS(Table5!$M:$M,Table5!$A:$A,$B9)*LOG10($F9)+SUMIFS(Table5!$N:$N,Table5!$A:$A,$B9)*LOG10(L9)+LOG10(1/$AD9)) -> 22.731288 | AI9: =((AG9-AF9)/2.1)*($C9-2.7)+AG9 -> 12.551687 | AJ9: =((AH9-AG9)/11.6)*($C9-14.3)+AH9 -> 20.237194 | AK9: =AI9*(2.7-$C9)/2.1+AJ9*($C9-0.6)/2.1 -> 12.112515 | AL9: =IF(AND($C9>=0.208,$C9<=0.6),AE9,IF($C9<=2.7,AK9,AJ9)) -> 11.584955 | AM9: =10^((SUMIFS(Table3!$B:$B,Table3!$A:$A,$B9)+SUMIFS(Table3!$C:$C,Table3!$A:$A,$B9)*LOG10($E9)+(SUMIFS(Table3!$D:$D,Table3!$A:$A,$B9)*$J9)/(SUMIFS(Table3!$E:$E,Table3!$A:$A,$B9)*$D9^7+SUMIFS(Table3!$F:$F,Table3!$A:$A,$B9)*$D9^6+SUMIFS(Table3!$G:$G,Table3!$A:$A,$B9)*$D9^5+SUMIFS(Table3!$H:$H,Table3!$A:$A,$B9)*$D9^4+SUMIFS(Table3!$I:$I,Table3!$A:$A,$B9)*$D9^3+SUMIFS(Table3!$J:$J,Table3!$A:$A,$B9)*$D9^2+SUMIFS(Table3!$K:$K,Table3!$A:$A,$B9)*$D9)+SUMIFS(Table3!$L:$L,Table3!$A:$A,$B9)*LOG10($D9)+SUMIFS(Table3!$N:$N,Table3!$A:$A,$B9)*LOG10(P9)+LOG10(1/$AD9)-LOG10(20/Q9))/-SUMIFS(Table3!$M:$M,Table3!$A:$A,$B9)) -> 1028.679 | AN9: =10^((SUMIFS(Table3!$B:$B,Table3!$A:$A,$B9)+SUMIFS(Table3!$C:$C,Table3!$A:$A,$B9)*LOG10($E9)+(SUMIFS(Table3!$D:$D,Table3!$A:$A,$B9)*J9)/(SUMIFS(Table3!$E:$E,Table3!$A:$A,$B9)*$D9^7+SUMIFS(Table3!$F:$F,Table3!$A:$A,$B9)*$D9^6+SUMIFS(Table3!$G:$G,Table3!$A:$A,$B9)*$D9^5+SUMIFS(Table3!$H:$H,Table3!$A:$A,$B9)*$D9^4+SUMIFS(Table3!$I:$I,Table3!$A:$A,$B9)*$D9^3+SUMIFS(Table3!$J:$J,Table3!$A:$A,$B9)*$D9^2+SUMIFS(Table3!$K:$K,Table3!$A:$A,$B9)*$D9)+SUMIFS(Table3!$L:$L,Table3!$A:$A,$B9)*LOG10($D9)+SUMIFS(Table3!$N:$N,Table3!$A:$A,$B9)*LOG10(J9)+LOG10(1/$AD9)-LOG10(20/Q9))/-SUMIFS(Table3!$M:$M,Table3!$A:$A,$B9)) -> 1105.0068 | AO9: =10^((SUMIFS(Table4!$B:$B,Table4!$A:$A,$B9)+SUMIFS(Table4!$C:$C,Table4!$A:$A,$B9)*LOG10($E9)+(SUMIFS(Table4!$D:$D,Table4!$A:$A,$B9)*K9)/(SUMIFS(Table4!$E:$E,Table4!$A:$A,$B9)*$D9^7+SUMIFS(Table4!$F:$F,Table4!$A:$A,$B9)*$D9^6+SUMIFS(Table4!$G:$G,Table4!$A:$A,$B9)*$D9^5+SUMIFS(Table4!$H:$H,Table4!$A:$A,$B9)*$D9^4+SUMIFS(Table4!$I:$I,Table4!$A:$A,$B9)*$D9^3+SUMIFS(Table4!$J:$J,Table4!$A:$A,$B9)*$D9^2+SUMIFS(Table4!$K:$K,Table4!$A:$A,$B9)*$D9)+SUMIFS(Table4!$L:$L,Table4!$A:$A,$B9)*LOG10($D9)+SUMIFS(Table4!$N:$N,Table4!$A:$A,$B9)*LOG10(K9)+LOG10(1/$AD9)-LOG10(20/Q9))/-SUMIFS(Table4!$M:$M,Table4!$A:$A,$B9)) -> 1500.7478 | AP9: =10^((SUMIFS(Table5!$B:$B,Table5!$A:$A,$B9)+SUMIFS(Table5!$C:$C,Table5!$A:$A,$B9)*LOG10($E9)+(SUMIFS(Table5!$D:$D,Table5!$A:$A,$B9)*L9)/(SUMIFS(Table5!$E:$E,Table5!$A:$A,$B9)*$D9^7+SUMIFS(Table5!$F:$F,Table5!$A:$A,$B9)*$D9^6+SUMIFS(Table5!$G:$G,Table5!$A:$A,$B9)*$D9^5+SUMIFS(Table5!$H:$H,Table5!$A:$A,$B9)*$D9^4+SUMIFS(Table5!$I:$I,Table5!$A:$A,$B9)*$D9^3+SUMIFS(Table5!$J:$J,Table5!$A:$A,$B9)*$D9^2+SUMIFS(Table5!$K:$K,Table5!$A:$A,$B9)*$D9)+SUMIFS(Table5!$L:$L,Table5!$A:$A,$B9)*LOG10($D9)+SUMIFS(Table5!$N:$N,Table5!$A:$A,$B9)*LOG10(L9)+LOG10(1/$AD9)-LOG10(20/Q9))/-SUMIFS(Table5!$M:$M,Table5!$A:$A,$B9)) -> 1597.0458 | AQ9: =((AO9-AN9)/2.1)*($C9-2.7)+AO9 -> 1082.393 | AR9: =((AP9-AO9)/11.6)*($C9-14.3)+AP9 -> 1482.3183 | AS9: =(AQ9*(2.7-$C9)/2.1)+(AR9*($C9-0.6)/2.1) -> 1059.5401 | AT9: =IF(AND($C9>=0.208,$C9<=0.6),AM9,IF($C9<=2.7,AS9,AR9)) -> 1028.679 | AU9: =SUMIFS(Table2!$B:$B,Table2!$A:$A,$B9)*$C9^6+SUMIFS(Table2!$C:$C,Table2!$A:$A,$B9)*$C9^5+SUMIFS(Table2!$D:$D,Table2!$A:$A,$B9)*$C9^4+SUMIFS(Table2!$E:$E,Table2!$A:$A,$B9)*$C9^3+SUMIFS(Table2!$F:$F,Table2!$A:$A,$B9)*$C9^2+SUMIFS(Table2!$G:$G,Table2!$A:$A,$B9)*$C9+SUMIFS(Table2!$H:$H,Table2!$A:$A,$B9) -> 0.24650715 | AV9: =1-0.5*AU9 -> 0.87674642 | AW9: =J9*$AV9 -> 28.449254 | AX9: =K9*$AV9 -> 33.88008 | AY9: =L9*$AV9 -> 37.320835 | AZ9: =((AX9-AW9)/2.1)*($C9-2.7)+AX9 -> 28.138922 | BA9: =((AY9-AX9)/11.6)*($C9-14.3)+AY9 -> 33.22159 | BB9: =(AZ9*(2.7-$C9)/2.1)+(BA9*($C9-0.6)/2.1) -> 27.848483 | BC9: =IF(AND($C9>=0.208,$C9<=0.6),1/SQRT((0.6/$C9)^2*(1/(J9)^2-(0.6^2-($C9)^2)/(0.6^2*($D9)^2)))*AV9,IF(AND($C9>0.6,$C9<=2.7),BB9,IF($C9>2.7,BA9,"Erro"))) -> 25.2444 | BD9: 319 | BE9: =(12.552/50)*BD9*10^(SUMIFS(Table3!$B:$B,Table3!$A:$A,$B9)+SUMIFS(Table3!$C:$C,Table3!$A:$A,$B9)*LOG10($E9)+SUMIFS(Table3!$D:$D,Table3!$A:$A,$B9)*$J9/(SUMIFS(Table3!$E:$E,Table3!$A:$A,$B9)*$D9^7+SUMIFS(Table3!$F:$F,Table3!$A:$A,$B9)*$D9^6+SUMIFS(Table3!$G:$G,Table3!$A:$A,$B9)*$D9^5+SUMIFS(Table3!$H:$H,Table3!$A:$A,$B9)*$D9^4+SUMIFS(Table3!$I:$I,Table3!$A:$A,$B9)*$D9^3+SUMIFS(Table3!$J:$J,Table3!$A:$A,$B9)*$D9^2+SUMIFS(Table3!$K:$K,Table3!$A:$A,$B9)*$D9)+SUMIFS(Table3!$L:$L,Table3!$A:$A,$B9)*LOG10($D9)+SUMIFS(Table3!$M:$M,Table3!$A:$A,$B9)*LOG10($F9)+SUMIFS(Table3!$N:$N,Table3!$A:$A,$B9)*LOG10(BC9)+LOG10(1/$AD9)) -> 53.156328 | BF9: =(12.552/50)*BD9*10^(SUMIFS(Table3!$B:$B,Table3!$A:$A,$B9)+SUMIFS(Table3!$C:$C,Table3!$A:$A,$B9)*LOG10($E9)+SUMIFS(Table3!$D:$D,Table3!$A:$A,$B9)*AW9/(SUMIFS(Table3!$E:$E,Table3!$A:$A,$B9)*$D9^7+SUMIFS(Table3!$F:$F,Table3!$A:$A,$B9)*$D9^6+SUMIFS(Table3!$G:$G,Table3!$A:$A,$B9)*$D9^5+SUMIFS(Table3!$H:$H,Table3!$A:$A,$B9)*$D9^4+SUMIFS(Table3!$I:$I,Table3!$A:$A,$B9)*$D9^3+SUMIFS(Table3!$J:$J,Table3!$A:$A,$B9)*$D9^2+SUMIFS(Table3!$K:$K,Table3!$A:$A,$B9)*$D9)+SUMIFS(Table3!$L:$L,Table3!$A:$A,$B9)*LOG10($D9)+SUMIFS(Table3!$M:$M,Table3!$A:$A,$B9)*LOG10($F9)+SUMIFS(Table3!$N:$N,Table3!$A:$A,$B9)*LOG10(AW9)+LOG10(1/$AD9)) -> 40.506052 | BG9: =(12.552/50)*BD9*10^(SUMIFS(Table4!$B:$B,Table4!$A:$A,$B9)+SUMIFS(Table4!$C:$C,Table4!$A:$A,$B9)*LOG10($E9)+SUMIFS(Table4!$D:$D,Table4!$A:$A,$B9)*AX9/(SUMIFS(Table4!$E:$E,Table4!$A:$A,$B9)*$D9^7+SUMIFS(Table4!$F:$F,Table4!$A:$A,$B9)*$D9^6+SUMIFS(Table4!$G:$G,Table4!$A:$A,$B9)*$D9^5+SUMIFS(Table4!$H:$H,Table4!$A:$A,$B9)*$D9^4+SUMIFS(Table4!$I:$I,Table4!$A:$A,$B9)*$D9^3+SUMIFS(Table4!$J:$J,Table4!$A:$A,$B9)*$D9^2+SUMIFS(Table4!$K:$K,Table4!$A:$A,$B9)*$D9)+SUMIFS(Table4!$L:$L,Table4!$A:$A,$B9)*LOG10($D9)+SUMIFS(Table4!$M:$M,Table4!$A:$A,$B9)*LOG10($F9)+SUMIFS(Table4!$N:$N,Table4!$A:$A,$B9)*LOG10(AX9)+LOG10(1/$AD9)) -> 85.941507 | BH9: =(12.552/50)*BD9*10^(SUMIFS(Table5!$B:$B,Table5!$A:$A,$B9)+SUMIFS(Table5!$C:$C,Table5!$A:$A,$B9)*LOG10($E9)+SUMIFS(Table5!$D:$D,Table5!$A:$A,$B9)*AY9/(SUMIFS(Table5!$E:$E,Table5!$A:$A,$B9)*$D9^7+SUMIFS(Table5!$F:$F,Table5!$A:$A,$B9)*$D9^6+SUMIFS(Table5!$G:$G,Table5!$A:$A,$B9)*$D9^5+SUMIFS(Table5!$H:$H,Table5!$A:$A,$B9)*$D9^4+SUMIFS(Table5!$I:$I,Table5!$A:$A,$B9)*$D9^3+SUMIFS(Table5!$J:$J,Table5!$A:$A,$B9)*$D9^2+SUMIFS(Table5!$K:$K,Table5!$A:$A,$B9)*$D9)+SUMIFS(Table5!$L:$L,Table5!$A:$A,$B9)*LOG10($D9)+SUMIFS(Table5!$M:$M,Table5!$A:$A,$B9)*LOG10($F9)+SUMIFS(Table5!$N:$N,Table5!$A:$A,$B9)*LOG10(AY9)+LOG10(1/$AD9)) -> 139.2098 | BI9: =((BG9-BF9)/2.1)*($C9-2.7)+BG9 -> 37.90974 | BJ9: =((BH9-BG9)/11.6)*($C9-14.3)+BH9 -> 75.747057 | BK9: =BI9*(2.7-$C9)/2.1+BJ9*($C9-0.6)/2.1 -> 35.747608 | BL9: =IF(AND($C9>=0.208,$C9<=0.6),BE9,IF($C9<=2.7,BK9,BJ9)) -> 53.156328 | BM9: =10^((SUMIFS(Table3!$B:$B,Table3!$A:$A,$B9)+SUMIFS(Table3!$C:$C,Table3!$A:$A,$B9)*LOG10($E9)+(SUMIFS(Table3!$D:$D,Table3!$A:$A,$B9)*$J9)/(SUMIFS(Table3!$E:$E,Table3!$A:$A,$B9)*$D9^7+SUMIFS(Table3!$F:$F,Table3!$A:$A,$B9)*$D9^6+SUMIFS(Table3!$G:$G,Table3!$A:$A,$B9)*$D9^5+SUMIFS(Table3!$H:$H,Table3!$A:$A,$B9)*$D9^4+SUMIFS(Table3!$I:$I,Table3!$A:$A,$B9)*$D9^3+SUMIFS(Table3!$J:$J,Table3!$A:$A,$B9)*$D9^2+SUMIFS(Table3!$K:$K,Table3!$A:$A,$B9)*$D9)+SUMIFS(Table3!$L:$L,Table3!$A:$A,$B9)*LOG10($D9)+SUMIFS(Table3!$N:$N,Table3!$A:$A,$B9)*LOG10(BC9)+LOG10(1/$AD9)-LOG10(20/BD9))/-SUMIFS(Table3!$M:$M,Table3!$A:$A,$B9)) -> 2668.9188 | BN9: =10^((SUMIFS(Table3!$B:$B,Table3!$A:$A,$B9)+SUMIFS(Table3!$C:$C,Table3!$A:$A,$B9)*LOG10($E9)+(SUMIFS(Table3!$D:$D,Table3!$A:$A,$B9)*AW9)/(SUMIFS(Table3!$E:$E,Table3!$A:$A,$B9)*$D9^7+SUMIFS(Table3!$F:$F,Table3!$A:$A,$B9)*$D9^6+SUMIFS(Table3!$G:$G,Table3!$A:$A,$B9)*$D9^5+SUMIFS(Table3!$H:$H,Table3!$A:$A,$B9)*$D9^4+SUMIFS(Table3!$I:$I,Table3!$A:$A,$B9)*$D9^3+SUMIFS(Table3!$J:$J,Table3!$A:$A,$B9)*$D9^2+SUMIFS(Table3!$K:$K,Table3!$A:$A,$B9)*$D9)+SUMIFS(Table3!$L:$L,Table3!$A:$A,$B9)*LOG10($D9)+SUMIFS(Table3!$N:$N,Table3!$A:$A,$B9)*LOG10(AW9)+LOG10(1/$AD9)-LOG10(20/BD9))/-SUMIFS(Table3!$M:$M,Table3!$A:$A,$B9)) -> 2251.4956 | BO9: =10^((SUMIFS(Table4!$B:$B,Table4!$A:$A,$B9)+SUMIFS(Table4!$C:$C,Table4!$A:$A,$B9)*LOG10($E9)+(SUMIFS(Table4!$D:$D,Table4!$A:$A,$B9)*AX9)/(SUMIFS(Table4!$E:$E,Table4!$A:$A,$B9)*$D9^7+SUMIFS(Table4!$F:$F,Table4!$A:$A,$B9)*$D9^6+SUMIFS(Table4!$G:$G,Table4!$A:$A,$B9)*$D9^5+SUMIFS(Table4!$H:$H,Table4!$A:$A,$B9)*$D9^4+SUMIFS(Table4!$I:$I,Table4!$A:$A,$B9)*$D9^3+SUMIFS(Table4!$J:$J,Table4!$A:$A,$B9)*$D9^2+SUMIFS(Table4!$K:$K,Table4!$A:$A,$B9)*$D9)+SUMIFS(Table4!$L:$L,Table4!$A:$A,$B9)*LOG10($D9)+SUMIFS(Table4!$N:$N,Table4!$A:$A,$B9)*LOG10(AX9)+LOG10(1/$AD9)-LOG10(20/BD9))/-SUMIFS(Table4!$M:$M,Table4!$A:$A,$B9)) -> 3725.3742 | BP9: =10^((SUMIFS(Table5!$B:$B,Table5!$A:$A,$B9)+SUMIFS(Table5!$C:$C,Table5!$A:$A,$B9)*LOG10($E9)+(SUMIFS(Table5!$D:$D,Table5!$A:$A,$B9)*AY9)/(SUMIFS(Table5!$E:$E,Table5!$A:$A,$B9)*$D9^7+SUMIFS(Table5!$F:$F,Table5!$A:$A,$B9)*$D9^6+SUMIFS(Table5!$G:$G,Table5!$A:$A,$B9)*$D9^5+SUMIFS(Table5!$H:$H,Table5!$A:$A,$B9)*$D9^4+SUMIFS(Table5!$I:$I,Table5!$A:$A,$B9)*$D9^3+SUMIFS(Table5!$J:$J,Table5!$A:$A,$B9)*$D9^2+SUMIFS(Table5!$K:$K,Table5!$A:$A,$B9)*$D9)+SUMIFS(Table5!$L:$L,Table5!$A:$A,$B9)*LOG10($D9)+SUMIFS(Table5!$N:$N,Table5!$A:$A,$B9)*LOG10(AY9)+LOG10(1/$AD9)-LOG10(20/BD9))/-SUMIFS(Table5!$M:$M,Table5!$A:$A,$B9)) -> 5072.941 | BQ9: =((BO9-BN9)/2.1)*($C9-2.7)+BO9 -> 2167.274 | BR9: =((BP9-BO9)/11.6)*($C9-14.3)+BP9 -> 3467.4778 | BS9: =(BQ9*(2.7-$C9)/2.1)+(BR9*($C9-0.6)/2.1) -> 2092.9767 | BT9: =IF(AND($C9>=0.208,$C9<=0.6),BM9,IF($C9<=2.7,BS9,BR9)) -> 2668.9188
A10: PN-01A | B10: VCBB | C10: 13.8 | D10: 17.563 | E10: 153 | F10: 914.4 | G10: 800 | H10: 1135 | I10: 900 | J10: =10^(SUMIFS(Table1!$C:$C,Table1!$B:$B,600,Table1!$A:$A,$B10)+SUMIFS(Table1!$D:$D,Table1!$B:$B,600,Table1!$A:$A,$B10)*LOG10($D10)+SUMIFS(Table1!$E:$E,Table1!$B:$B,600,Table1!$A:$A,$B10)*LOG10($E10))*(SUMIFS(Table1!$F:$F,Table1!$B:$B,600,Table1!$A:$A,$B10)*$D10^6+SUMIFS(Table1!$G:$G,Table1!$B:$B,600,Table1!$A:$A,$B10)*$D10^5+SUMIFS(Table1!$H:$H,Table1!$B:$B,600,Table1!$A:$A,$B10)*$D10^4+SUMIFS(Table1!$I:$I,Table1!$B:$B,600,Table1!$A:$A,$B10)*$D10^3+SUMIFS(Table1!$J:$J,Table1!$B:$B,600,Table1!$A:$A,$B10)*$D10^2+SUMIFS(Table1!$K:$K,Table1!$B:$B,600,Table1!$A:$A,$B10)*$D10+SUMIFS(Table1!$L:$L,Table1!$B:$B,600,Table1!$A:$A,$B10)) -> 13.996248 | K10: =10^(SUMIFS(Table1!$C:$C,Table1!$B:$B,2700,Table1!$A:$A,$B10)+SUMIFS(Table1!$D:$D,Table1!$B:$B,2700,Table1!$A:$A,$B10)*LOG10($D10)+SUMIFS(Table1!$E:$E,Table1!$B:$B,2700,Table1!$A:$A,$B10)*LOG10($E10))*(SUMIFS(Table1!$F:$F,Table1!$B:$B,2700,Table1!$A:$A,$B10)*$D10^6+SUMIFS(Table1!$G:$G,Table1!$B:$B,2700,Table1!$A:$A,$B10)*$D10^5+SUMIFS(Table1!$H:$H,Table1!$B:$B,2700,Table1!$A:$A,$B10)*$D10^4+SUMIFS(Table1!$I:$I,Table1!$B:$B,2700,Table1!$A:$A,$B10)*$D10^3+SUMIFS(Table1!$J:$J,Table1!$B:$B,2700,Table1!$A:$A,$B10)*$D10^2+SUMIFS(Table1!$K:$K,Table1!$B:$B,2700,Table1!$A:$A,$B10)*$D10+SUMIFS(Table1!$L:$L,Table1!$B:$B,2700,Table1!$A:$A,$B10)) -> 15.472628 | L10: =10^(SUMIFS(Table1!$C:$C,Table1!$B:$B,14300,Table1!$A:$A,$B10)+SUMIFS(Table1!$D:$D,Table1!$B:$B,14300,Table1!$A:$A,$B10)*LOG10($D10)+SUMIFS(Table1!$E:$E,Table1!$B:$B,14300,Table1!$A:$A,$B10)*LOG10($E10))*(SUMIFS(Table1!$F:$F,Table1!$B:$B,14300,Table1!$A:$A,$B10)*$D10^6+SUMIFS(Table1!$G:$G,Table1!$B:$B,14300,Table1!$A:$A,$B10)*$D10^5+SUMIFS(Table1!$H:$H,Table1!$B:$B,14300,Table1!$A:$A,$B10)*$D10^4+SUMIFS(Table1!$I:$I,Table1!$B:$B,14300,Table1!$A:$A,$B10)*$D10^3+SUMIFS(Table1!$J:$J,Table1!$B:$B,14300,Table1!$A:$A,$B10)*$D10^2+SUMIFS(Table1!$K:$K,Table1!$B:$B,14300,Table1!$A:$A,$B10)*$D10+SUMIFS(Table1!$L:$L,Table1!$B:$B,14300,Table1!$A:$A,$B10)) -> 16.815074 | M10: =((K10-J10)/2.1)*($C10-2.7)+K10 -> 23.276347 | N10: =((L10-K10)/11.6)*($C10-14.3)+L10 -> 16.75721 | O10: =(M10*(2.7-$C10)/2.1)+(N10*($C10-0.6)/2.1) -> -17.701086 | P10: =IF(AND($C10>=0.208,$C10<=0.6),1/SQRT((0.6/$C10)^2*(1/(J10)^2-(0.6^2-($C10)^2)/(0.6^2*($D10)^2))),IF(AND($C10>0.6,$C10<=2.7),O10,IF($C10>2.7,N10,"Errado"))) -> 16.75721 | Q10: 180 | R10: =IF(AND($C10<0.6,$G10<508,$H10<508,$I10<=203.2),"Shallow","Typical") -> Typical | S10: =IF($B10="VCB",4,IF($B10="VCBB",10,IF($B10="HCB",10,0))) -> 10 | T10: =IF($B10="VCB",20,IF($B10="VCBB",24,IF($B10="HCB",22,0))) -> 24 | U10: =IF($G10<=1244.6,$G10,1244.6) -> 800 | V10: =(660.4+($U10-660.4)*($C10+$S10)/$T10)*(1/25.4) -> 31.450262 | W10: =IF($H10<=1244.6,$H10,1244.6) -> 1135 | X10: =(660.4+($W10-660.4)*($C10+$S10)/$T10)*(1/25.4) -> 44.529331 | Y10: =IF($G10<508,IF($R10="Typical",20,0.03937*$G10),IF($G10<=660.4,0.03937*$G10,IF($G10<=1244.6,$V10,$V10))) -> 31.450262 | Z10: =IF($H10<508,IF($R10="Typical",20,0.03937*$H10),IF($H10<=660.4,0.03937*$H10,IF($H10<=1244.6,IF($B10="VCB",0.03937*$H10,$X10),IF($B10="VCB",49,$X10)))) -> 44.529331 | AA10: =(Z10+Y10)/2 -> 37.989797 | AB10: =SUMIFS(Table7!C:C,Table7!A:A,"Typical",Table7!B:B,$B10)*$AA10^2+SUMIFS(Table7!D:D,Table7!A:A,"Typical",Table7!B:B,$B10)*$AA10+SUMIFS(Table7!E:E,Table7!A:A,"Typical",Table7!B:B,$B10) -> 1.2651698 | AC10: =1/(SUMIFS(Table7!C:C,Table7!A:A,"Shallow",Table7!B:B,$B10)*$AA10^2+SUMIFS(Table7!D:D,Table7!A:A,"Shallow",Table7!B:B,$B10)*$AA10+SUMIFS(Table7!E:E,Table7!A:A,"Shallow",Table7!B:B,$B10)) -> 4.0176189 | AD10: =IF(R10="Typical",AB10,AC10) -> 1.2651698 | AE10: =(12.552/50)*Q10*10^(SUMIFS(Table3!$B:$B,Table3!$A:$A,$B10)+SUMIFS(Table3!$C:$C,Table3!$A:$A,$B10)*LOG10($E10)+SUMIFS(Table3!$D:$D,Table3!$A:$A,$B10)*$J10/(SUMIFS(Table3!$E:$E,Table3!$A:$A,$B10)*$D10^7+SUMIFS(Table3!$F:$F,Table3!$A:$A,$B10)*$D10^6+SUMIFS(Table3!$G:$G,Table3!$A:$A,$B10)*$D10^5+SUMIFS(Table3!$H:$H,Table3!$A:$A,$B10)*$D10^4+SUMIFS(Table3!$I:$I,Table3!$A:$A,$B10)*$D10^3+SUMIFS(Table3!$J:$J,Table3!$A:$A,$B10)*$D10^2+SUMIFS(Table3!$K:$K,Table3!$A:$A,$B10)*$D10)+SUMIFS(Table3!$L:$L,Table3!$A:$A,$B10)*LOG10($D10)+SUMIFS(Table3!$M:$M,Table3!$A:$A,$B10)*LOG10($F10)+SUMIFS(Table3!$N:$N,Table3!$A:$A,$B10)*LOG10(P10)+LOG10(1/$AD10)) -> 13.981972 | AF10: =(12.552/50)*Q10*10^(SUMIFS(Table3!$B:$B,Table3!$A:$A,$B10)+SUMIFS(Table3!$C:$C,Table3!$A:$A,$B10)*LOG10($E10)+SUMIFS(Table3!$D:$D,Table3!$A:$A,$B10)*J10/(SUMIFS(Table3!$E:$E,Table3!$A:$A,$B10)*$D10^7+SUMIFS(Table3!$F:$F,Table3!$A:$A,$B10)*$D10^6+SUMIFS(Table3!$G:$G,Table3!$A:$A,$B10)*$D10^5+SUMIFS(Table3!$H:$H,Table3!$A:$A,$B10)*$D10^4+SUMIFS(Table3!$I:$I,Table3!$A:$A,$B10)*$D10^3+SUMIFS(Table3!$J:$J,Table3!$A:$A,$B10)*$D10^2+SUMIFS(Table3!$K:$K,Table3!$A:$A,$B10)*$D10)+SUMIFS(Table3!$L:$L,Table3!$A:$A,$B10)*LOG10($D10)+SUMIFS(Table3!$M:$M,Table3!$A:$A,$B10)*LOG10($F10)+SUMIFS(Table3!$N:$N,Table3!$A:$A,$B10)*LOG10(J10)+LOG10(1/$AD10)) -> 11.285538 | AG10: =(12.552/50)*Q10*10^(SUMIFS(Table4!$B:$B,Table4!$A:$A,$B10)+SUMIFS(Table4!$C:$C,Table4!$A:$A,$B10)*LOG10($E10)+SUMIFS(Table4!$D:$D,Table4!$A:$A,$B10)*K10/(SUMIFS(Table4!$E:$E,Table4!$A:$A,$B10)*$D10^7+SUMIFS(Table4!$F:$F,Table4!$A:$A,$B10)*$D10^6+SUMIFS(Table4!$G:$G,Table4!$A:$A,$B10)*$D10^5+SUMIFS(Table4!$H:$H,Table4!$A:$A,$B10)*$D10^4+SUMIFS(Table4!$I:$I,Table4!$A:$A,$B10)*$D10^3+SUMIFS(Table4!$J:$J,Table4!$A:$A,$B10)*$D10^2+SUMIFS(Table4!$K:$K,Table4!$A:$A,$B10)*$D10)+SUMIFS(Table4!$L:$L,Table4!$A:$A,$B10)*LOG10($D10)+SUMIFS(Table4!$M:$M,Table4!$A:$A,$B10)*LOG10($F10)+SUMIFS(Table4!$N:$N,Table4!$A:$A,$B10)*LOG10(K10)+LOG10(1/$AD10)) -> 19.037984 | AH10: =(12.552/50)*Q10*10^(SUMIFS(Table5!$B:$B,Table5!$A:$A,$B10)+SUMIFS(Table5!$C:$C,Table5!$A:$A,$B10)*LOG10($E10)+SUMIFS(Table5!$D:$D,Table5!$A:$A,$B10)*L10/(SUMIFS(Table5!$E:$E,Table5!$A:$A,$B10)*$D10^7+SUMIFS(Table5!$F:$F,Table5!$A:$A,$B10)*$D10^6+SUMIFS(Table5!$G:$G,Table5!$A:$A,$B10)*$D10^5+SUMIFS(Table5!$H:$H,Table5!$A:$A,$B10)*$D10^4+SUMIFS(Table5!$I:$I,Table5!$A:$A,$B10)*$D10^3+SUMIFS(Table5!$J:$J,Table5!$A:$A,$B10)*$D10^2+SUMIFS(Table5!$K:$K,Table5!$A:$A,$B10)*$D10)+SUMIFS(Table5!$L:$L,Table5!$A:$A,$B10)*LOG10($D10)+SUMIFS(Table5!$M:$M,Table5!$A:$A,$B10)*LOG10($F10)+SUMIFS(Table5!$N:$N,Table5!$A:$A,$B10)*LOG10(L10)+LOG10(1/$AD10)) -> 25.551484 | AI10: =((AG10-AF10)/2.1)*($C10-2.7)+AG10 -> 60.015198 | AJ10: =((AH10-AG10)/11.6)*($C10-14.3)+AH10 -> 25.27073 | AK10: =AI10*(2.7-$C10)/2.1+AJ10*($C10-0.6)/2.1 -> -158.3786 | AL10: =IF(AND($C10>=0.208,$C10<=0.6),AE10,IF($C10<=2.7,AK10,AJ10)) -> 25.27073 | AM10: =10^((SUMIFS(Table3!$B:$B,Table3!$A:$A,$B10)+SUMIFS(Table3!$C:$C,Table3!$A:$A,$B10)*LOG10($E10)+(SUMIFS(Table3!$D:$D,Table3!$A:$A,$B10)*$J10)/(SUMIFS(Table3!$E:$E,Table3!$A:$A,$B10)*$D10^7+SUMIFS(Table3!$F:$F,Table3!$A:$A,$B10)*$D10^6+SUMIFS(Table3!$G:$G,Table3!$A:$A,$B10)*$D10^5+SUMIFS(Table3!$H:$H,Table3!$A:$A,$B10)*$D10^4+SUMIFS(Table3!$I:$I,Table3!$A:$A,$B10)*$D10^3+SUMIFS(Table3!$J:$J,Table3!$A:$A,$B10)*$D10^2+SUMIFS(Table3!$K:$K,Table3!$A:$A,$B10)*$D10)+SUMIFS(Table3!$L:$L,Table3!$A:$A,$B10)*LOG10($D10)+SUMIFS(Table3!$N:$N,Table3!$A:$A,$B10)*LOG10(P10)+LOG10(1/$AD10)-LOG10(20/Q10))/-SUMIFS(Table3!$M:$M,Table3!$A:$A,$B10)) -> 1610.7029 | AN10: =10^((SUMIFS(Table3!$B:$B,Table3!$A:$A,$B10)+SUMIFS(Table3!$C:$C,Table3!$A:$A,$B10)*LOG10($E10)+(SUMIFS(Table3!$D:$D,Table3!$A:$A,$B10)*J10)/(SUMIFS(Table3!$E:$E,Table3!$A:$A,$B10)*$D10^7+SUMIFS(Table3!$F:$F,Table3!$A:$A,$B10)*$D10^6+SUMIFS(Table3!$G:$G,Table3!$A:$A,$B10)*$D10^5+SUMIFS(Table3!$H:$H,Table3!$A:$A,$B10)*$D10^4+SUMIFS(Table3!$I:$I,Table3!$A:$A,$B10)*$D10^3+SUMIFS(Table3!$J:$J,Table3!$A:$A,$B10)*$D10^2+SUMIFS(Table3!$K:$K,Table3!$A:$A,$B10)*$D10)+SUMIFS(Table3!$L:$L,Table3!$A:$A,$B10)*LOG10($D10)+SUMIFS(Table3!$N:$N,Table3!$A:$A,$B10)*LOG10(J10)+LOG10(1/$AD10)-LOG10(20/Q10))/-SUMIFS(Table3!$M:$M,Table3!$A:$A,$B10)) -> 1430.8045 | AO10: =10^((SUMIFS(Table4!$B:$B,Table4!$A:$A,$B10)+SUMIFS(Table4!$C:$C,Table4!$A:$A,$B10)*LOG10($E10)+(SUMIFS(Table4!$D:$D,Table4!$A:$A,$B10)*K10)/(SUMIFS(Table4!$E:$E,Table4!$A:$A,$B10)*$D10^7+SUMIFS(Table4!$F:$F,Table4!$A:$A,$B10)*$D10^6+SUMIFS(Table4!$G:$G,Table4!$A:$A,$B10)*$D10^5+SUMIFS(Table4!$H:$H,Table4!$A:$A,$B10)*$D10^4+SUMIFS(Table4!$I:$I,Table4!$A:$A,$B10)*$D10^3+SUMIFS(Table4!$J:$J,Table4!$A:$A,$B10)*$D10^2+SUMIFS(Table4!$K:$K,Table4!$A:$A,$B10)*$D10)+SUMIFS(Table4!$L:$L,Table4!$A:$A,$B10)*LOG10($D10)+SUMIFS(Table4!$N:$N,Table4!$A:$A,$B10)*LOG10(K10)+LOG10(1/$AD10)-LOG10(20/Q10))/-SUMIFS(Table4!$M:$M,Table4!$A:$A,$B10)) -> 1965.2851 | AP10: =10^((SUMIFS(Table5!$B:$B,Table5!$A:$A,$B10)+SUMIFS(Table5!$C:$C,Table5!$A:$A,$B10)*LOG10($E10)+(SUMIFS(Table5!$D:$D,Table5!$A:$A,$B10)*L10)/(SUMIFS(Table5!$E:$E,Table5!$A:$A,$B10)*$D10^7+SUMIFS(Table5!$F:$F,Table5!$A:$A,$B10)*$D10^6+SUMIFS(Table5!$G:$G,Table5!$A:$A,$B10)*$D10^5+SUMIFS(Table5!$H:$H,Table5!$A:$A,$B10)*$D10^4+SUMIFS(Table5!$I:$I,Table5!$A:$A,$B10)*$D10^3+SUMIFS(Table5!$J:$J,Table5!$A:$A,$B10)*$D10^2+SUMIFS(Table5!$K:$K,Table5!$A:$A,$B10)*$D10)+SUMIFS(Table5!$L:$L,Table5!$A:$A,$B10)*LOG10($D10)+SUMIFS(Table5!$N:$N,Table5!$A:$A,$B10)*LOG10(L10)+LOG10(1/$AD10)-LOG10(20/Q10))/-SUMIFS(Table5!$M:$M,Table5!$A:$A,$B10)) -> 2412.735 | AQ10: =((AO10-AN10)/2.1)*($C10-2.7)+AO10 -> 4790.3968 | AR10: =((AP10-AO10)/11.6)*($C10-14.3)+AP10 -> 2393.4484 | AS10: =(AQ10*(2.7-$C10)/2.1)+(AR10*($C10-0.6)/2.1) -> -10276.136 | AT10: =IF(AND($C10>=0.208,$C10<=0.6),AM10,IF($C10<=2.7,AS10,AR10)) -> 2393.4484 | AU10: =SUMIFS(Table2!$B:$B,Table2!$A:$A,$B10)*$C10^6+SUMIFS(Table2!$C:$C,Table2!$A:$A,$B10)*$C10^5+SUMIFS(Table2!$D:$D,Table2!$A:$A,$B10)*$C10^4+SUMIFS(Table2!$E:$E,Table2!$A:$A,$B10)*$C10^3+SUMIFS(Table2!$F:$F,Table2!$A:$A,$B10)*$C10^2+SUMIFS(Table2!$G:$G,Table2!$A:$A,$B10)*$C10+SUMIFS(Table2!$H:$H,Table2!$A:$A,$B10) -> 0.037875333 | AV10: =1-0.5*AU10 -> 0.98106233 | AW10: =J10*$AV10 -> 13.731192 | AX10: =K10*$AV10 -> 15.179612 | AY10: =L10*$AV10 -> 16.496636 | AZ10: =((AX10-AW10)/2.1)*($C10-2.7)+AX10 -> 22.835547 | BA10: =((AY10-AX10)/11.6)*($C10-14.3)+AY10 -> 16.439867 | BB10: =(AZ10*(2.7-$C10)/2.1)+(BA10*($C10-0.6)/2.1) -> -17.365869 | BC10: =IF(AND($C10>=0.208,$C10<=0.6),1/SQRT((0.6/$C10)^2*(1/(J10)^2-(0.6^2-($C10)^2)/(0.6^2*($D10)^2)))*AV10,IF(AND($C10>0.6,$C10<=2.7),BB10,IF($C10>2.7,BA10,"Erro"))) -> 16.439867 | BD10: 180 | BE10: =(12.552/50)*BD10*10^(SUMIFS(Table3!$B:$B,Table3!$A:$A,$B10)+SUMIFS(Table3!$C:$C,Table3!$A:$A,$B10)*LOG10($E10)+SUMIFS(Table3!$D:$D,Table3!$A:$A,$B10)*$J10/(SUMIFS(Table3!$E:$E,Table3!$A:$A,$B10)*$D10^7+SUMIFS(Table3!$F:$F,Table3!$A:$A,$B10)*$D10^6+SUMIFS(Table3!$G:$G,Table3!$A:$A,$B10)*$D10^5+SUMIFS(Table3!$H:$H,Table3!$A:$A,$B10)*$D10^4+SUMIFS(Table3!$I:$I,Table3!$A:$A,$B10)*$D10^3+SUMIFS(Table3!$J:$J,Table3!$A:$A,$B10)*$D10^2+SUMIFS(Table3!$K:$K,Table3!$A:$A,$B10)*$D10)+SUMIFS(Table3!$L:$L,Table3!$A:$A,$B10)*LOG10($D10)+SUMIFS(Table3!$M:$M,Table3!$A:$A,$B10)*LOG10($F10)+SUMIFS(Table3!$N:$N,Table3!$A:$A,$B10)*LOG10(BC10)+LOG10(1/$AD10)) -> 13.667447 | BF10: =(12.552/50)*BD10*10^(SUMIFS(Table3!$B:$B,Table3!$A:$A,$B10)+SUMIFS(Table3!$C:$C,Table3!$A:$A,$B10)*LOG10($E10)+SUMIFS(Table3!$D:$D,Table3!$A:$A,$B10)*AW10/(SUMIFS(Table3!$E:$E,Table3!$A:$A,$B10)*$D10^7+SUMIFS(Table3!$F:$F,Table3!$A:$A,$B10)*$D10^6+SUMIFS(Table3!$G:$G,Table3!$A:$A,$B10)*$D10^5+SUMIFS(Table3!$H:$H,Table3!$A:$A,$B10)*$D10^4+SUMIFS(Table3!$I:$I,Table3!$A:$A,$B10)*$D10^3+SUMIFS(Table3!$J:$J,Table3!$A:$A,$B10)*$D10^2+SUMIFS(Table3!$K:$K,Table3!$A:$A,$B10)*$D10)+SUMIFS(Table3!$L:$L,Table3!$A:$A,$B10)*LOG10($D10)+SUMIFS(Table3!$M:$M,Table3!$A:$A,$B10)*LOG10($F10)+SUMIFS(Table3!$N:$N,Table3!$A:$A,$B10)*LOG10(AW10)+LOG10(1/$AD10)) -> 11.06501 | BG10: =(12.552/50)*BD10*10^(SUMIFS(Table4!$B:$B,Table4!$A:$A,$B10)+SUMIFS(Table4!$C:$C,Table4!$A:$A,$B10)*LOG10($E10)+SUMIFS(Table4!$D:$D,Table4!$A:$A,$B10)*AX10/(SUMIFS(Table4!$E:$E,Table4!$A:$A,$B10)*$D10^7+SUMIFS(Table4!$F:$F,Table4!$A:$A,$B10)*$D10^6+SUMIFS(Table4!$G:$G,Table4!$A:$A,$B10)*$D10^5+SUMIFS(Table4!$H:$H,Table4!$A:$A,$B10)*$D10^4+SUMIFS(Table4!$I:$I,Table4!$A:$A,$B10)*$D10^3+SUMIFS(Table4!$J:$J,Table4!$A:$A,$B10)*$D10^2+SUMIFS(Table4!$K:$K,Table4!$A:$A,$B10)*$D10)+SUMIFS(Table4!$L:$L,Table4!$A:$A,$B10)*LOG10($D10)+SUMIFS(Table4!$M:$M,Table4!$A:$A,$B10)*LOG10($F10)+SUMIFS(Table4!$N:$N,Table4!$A:$A,$B10)*LOG10(AX10)+LOG10(1/$AD10)) -> 19.211787 | BH10: =(12.552/50)*BD10*10^(SUMIFS(Table5!$B:$B,Table5!$A:$A,$B10)+SUMIFS(Table5!$C:$C,Table5!$A:$A,$B10)*LOG10($E10)+SUMIFS(Table5!$D:$D,Table5!$A:$A,$B10)*AY10/(SUMIFS(Table5!$E:$E,Table5!$A:$A,$B10)*$D10^7+SUMIFS(Table5!$F:$F,Table5!$A:$A,$B10)*$D10^6+SUMIFS(Table5!$G:$G,Table5!$A:$A,$B10)*$D10^5+SUMIFS(Table5!$H:$H,Table5!$A:$A,$B10)*$D10^4+SUMIFS(Table5!$I:$I,Table5!$A:$A,$B10)*$D10^3+SUMIFS(Table5!$J:$J,Table5!$A:$A,$B10)*$D10^2+SUMIFS(Table5!$K:$K,Table5!$A:$A,$B10)*$D10)+SUMIFS(Table5!$L:$L,Table5!$A:$A,$B10)*LOG10($D10)+SUMIFS(Table5!$M:$M,Table5!$A:$A,$B10)*LOG10($F10)+SUMIFS(Table5!$N:$N,Table5!$A:$A,$B10)*LOG10(AY10)+LOG10(1/$AD10)) -> 25.694629 | BI10: =((BG10-BF10)/2.1)*($C10-2.7)+BG10 -> 62.273321 | BJ10: =((BH10-BG10)/11.6)*($C10-14.3)+BH10 -> 25.415197 | BK10: =BI10*(2.7-$C10)/2.1+BJ10*($C10-0.6)/2.1 -> -169.40632 | BL10: =IF(AND($C10>=0.208,$C10<=0.6),BE10,IF($C10<=2.7,BK10,BJ10)) -> 25.415197 | BM10: =10^((SUMIFS(Table3!$B:$B,Table3!$A:$A,$B10)+SUMIFS(Table3!$C:$C,Table3!$A:$A,$B10)*LOG10($E10)+(SUMIFS(Table3!$D:$D,Table3!$A:$A,$B10)*$J10)/(SUMIFS(Table3!$E:$E,Table3!$A:$A,$B10)*$D10^7+SUMIFS(Table3!$F:$F,Table3!$A:$A,$B10)*$D10^6+SUMIFS(Table3!$G:$G,Table3!$A:$A,$B10)*$D10^5+SUMIFS(Table3!$H:$H,Table3!$A:$A,$B10)*$D10^4+SUMIFS(Table3!$I:$I,Table3!$A:$A,$B10)*$D10^3+SUMIFS(Table3!$J:$J,Table3!$A:$A,$B10)*$D10^2+SUMIFS(Table3!$K:$K,Table3!$A:$A,$B10)*$D10)+SUMIFS(Table3!$L:$L,Table3!$A:$A,$B10)*LOG10($D10)+SUMIFS(Table3!$N:$N,Table3!$A:$A,$B10)*LOG10(BC10)+LOG10(1/$AD10)-LOG10(20/BD10))/-SUMIFS(Table3!$M:$M,Table3!$A:$A,$B10)) -> 1590.5718 | BN10: =10^((SUMIFS(Table3!$B:$B,Table3!$A:$A,$B10)+SUMIFS(Table3!$C:$C,Table3!$A:$A,$B10)*LOG10($E10)+(SUMIFS(Table3!$D:$D,Table3!$A:$A,$B10)*AW10)/(SUMIFS(Table3!$E:$E,Table3!$A:$A,$B10)*$D10^7+SUMIFS(Table3!$F:$F,Table3!$A:$A,$B10)*$D10^6+SUMIFS(Table3!$G:$G,Table3!$A:$A,$B10)*$D10^5+SUMIFS(Table3!$H:$H,Table3!$A:$A,$B10)*$D10^4+SUMIFS(Table3!$I:$I,Table3!$A:$A,$B10)*$D10^3+SUMIFS(Table3!$J:$J,Table3!$A:$A,$B10)*$D10^2+SUMIFS(Table3!$K:$K,Table3!$A:$A,$B10)*$D10)+SUMIFS(Table3!$L:$L,Table3!$A:$A,$B10)*LOG10($D10)+SUMIFS(Table3!$N:$N,Table3!$A:$A,$B10)*LOG10(AW10)+LOG10(1/$AD10)-LOG10(20/BD10))/-SUMIFS(Table3!$M:$M,Table3!$A:$A,$B10)) -> 1415.2808 | BO10: =10^((SUMIFS(Table4!$B:$B,Table4!$A:$A,$B10)+SUMIFS(Table4!$C:$C,Table4!$A:$A,$B10)*LOG10($E10)+(SUMIFS(Table4!$D:$D,Table4!$A:$A,$B10)*AX10)/(SUMIFS(Table4!$E:$E,Table4!$A:$A,$B10)*$D10^7+SUMIFS(Table4!$F:$F,Table4!$A:$A,$B10)*$D10^6+SUMIFS(Table4!$G:$G,Table4!$A:$A,$B10)*$D10^5+SUMIFS(Table4!$H:$H,Table4!$A:$A,$B10)*$D10^4+SUMIFS(Table4!$I:$I,Table4!$A:$A,$B10)*$D10^3+SUMIFS(Table4!$J:$J,Table4!$A:$A,$B10)*$D10^2+SUMIFS(Table4!$K:$K,Table4!$A:$A,$B10)*$D10)+SUMIFS(Table4!$L:$L,Table4!$A:$A,$B10)*LOG10($D10)+SUMIFS(Table4!$N:$N,Table4!$A:$A,$B10)*LOG10(AX10)+LOG10(1/$AD10)-LOG10(20/BD10))/-SUMIFS(Table4!$M:$M,Table4!$A:$A,$B10)) -> 1975.5646 | BP10: =10^((SUMIFS(Table5!$B:$B,Table5!$A:$A,$B10)+SUMIFS(Table5!$C:$C,Table5!$A:$A,$B10)*LOG10($E10)+(SUMIFS(Table5!$D:$D,Table5!$A:$A,$B10)*AY10)/(SUMIFS(Table5!$E:$E,Table5!$A:$A,$B10)*$D10^7+SUMIFS(Table5!$F:$F,Table5!$A:$A,$B10)*$D10^6+SUMIFS(Table5!$G:$G,Table5!$A:$A,$B10)*$D10^5+SUMIFS(Table5!$H:$H,Table5!$A:$A,$B10)*$D10^4+SUMIFS(Table5!$I:$I,Table5!$A:$A,$B10)*$D10^3+SUMIFS(Table5!$J:$J,Table5!$A:$A,$B10)*$D10^2+SUMIFS(Table5!$K:$K,Table5!$A:$A,$B10)*$D10)+SUMIFS(Table5!$L:$L,Table5!$A:$A,$B10)*LOG10($D10)+SUMIFS(Table5!$N:$N,Table5!$A:$A,$B10)*LOG10(AY10)+LOG10(1/$AD10)-LOG10(20/BD10))/-SUMIFS(Table5!$M:$M,Table5!$A:$A,$B10)) -> 2420.786 | BQ10: =((BO10-BN10)/2.1)*($C10-2.7)+BO10 -> 4937.0645 | BR10: =((BP10-BO10)/11.6)*($C10-14.3)+BP10 -> 2401.5954 | BS10: =(BQ10*(2.7-$C10)/2.1)+(BR10*($C10-0.6)/2.1) -> -11000.17 | BT10: =IF(AND($C10>=0.208,$C10<=0.6),BM10,IF($C10<=2.7,BS10,BR10)) -> 2401.5954
A11: PN-01B | B11: VCBB | C11: 13.8 | D11: 19.776 | E11: 153 | F11: 914.4 | G11: 800 | H11: 1135 | I11: 900 | J11: =10^(SUMIFS(Table1!$C:$C,Table1!$B:$B,600,Table1!$A:$A,$B11)+SUMIFS(Table1!$D:$D,Table1!$B:$B,600,Table1!$A:$A,$B11)*LOG10($D11)+SUMIFS(Table1!$E:$E,Table1!$B:$B,600,Table1!$A:$A,$B11)*LOG10($E11))*(SUMIFS(Table1!$F:$F,Table1!$B:$B,600,Table1!$A:$A,$B11)*$D11^6+SUMIFS(Table1!$G:$G,Table1!$B:$B,600,Table1!$A:$A,$B11)*$D11^5+SUMIFS(Table1!$H:$H,Table1!$B:$B,600,Table1!$A:$A,$B11)*$D11^4+SUMIFS(Table1!$I:$I,Table1!$B:$B,600,Table1!$A:$A,$B11)*$D11^3+SUMIFS(Table1!$J:$J,Table1!$B:$B,600,Table1!$A:$A,$B11)*$D11^2+SUMIFS(Table1!$K:$K,Table1!$B:$B,600,Table1!$A:$A,$B11)*$D11+SUMIFS(Table1!$L:$L,Table1!$B:$B,600,Table1!$A:$A,$B11)) -> 15.773787 | K11: =10^(SUMIFS(Table1!$C:$C,Table1!$B:$B,2700,Table1!$A:$A,$B11)+SUMIFS(Table1!$D:$D,Table1!$B:$B,2700,Table1!$A:$A,$B11)*LOG10($D11)+SUMIFS(Table1!$E:$E,Table1!$B:$B,2700,Table1!$A:$A,$B11)*LOG10($E11))*(SUMIFS(Table1!$F:$F,Table1!$B:$B,2700,Table1!$A:$A,$B11)*$D11^6+SUMIFS(Table1!$G:$G,Table1!$B:$B,2700,Table1!$A:$A,$B11)*$D11^5+SUMIFS(Table1!$H:$H,Table1!$B:$B,2700,Table1!$A:$A,$B11)*$D11^4+SUMIFS(Table1!$I:$I,Table1!$B:$B,2700,Table1!$A:$A,$B11)*$D11^3+SUMIFS(Table1!$J:$J,Table1!$B:$B,2700,Table1!$A:$A,$B11)*$D11^2+SUMIFS(Table1!$K:$K,Table1!$B:$B,2700,Table1!$A:$A,$B11)*$D11+SUMIFS(Table1!$L:$L,Table1!$B:$B,2700,Table1!$A:$A,$B11)) -> 17.376934 | L11: =10^(SUMIFS(Table1!$C:$C,Table1!$B:$B,14300,Table1!$A:$A,$B11)+SUMIFS(Table1!$D:$D,Table1!$B:$B,14300,Table1!$A:$A,$B11)*LOG10($D11)+SUMIFS(Table1!$E:$E,Table1!$B:$B,14300,Table1!$A:$A,$B11)*LOG10($E11))*(SUMIFS(Table1!$F:$F,Table1!$B:$B,14300,Table1!$A:$A,$B11)*$D11^6+SUMIFS(Table1!$G:$G,Table1!$B:$B,14300,Table1!$A:$A,$B11)*$D11^5+SUMIFS(Table1!$H:$H,Table1!$B:$B,14300,Table1!$A:$A,$B11)*$D11^4+SUMIFS(Table1!$I:$I,Table1!$B:$B,14300,Table1!$A:$A,$B11)*$D11^3+SUMIFS(Table1!$J:$J,Table1!$B:$B,14300,Table1!$A:$A,$B11)*$D11^2+SUMIFS(Table1!$K:$K,Table1!$B:$B,14300,Table1!$A:$A,$B11)*$D11+SUMIFS(Table1!$L:$L,Table1!$B:$B,14300,Table1!$A:$A,$B11)) -> 18.91825 | M11: =((K11-J11)/2.1)*($C11-2.7)+K11 -> 25.850715 | N11: =((L11-K11)/11.6)*($C11-14.3)+L11 -> 18.851814 | O11: =(M11*(2.7-$C11)/2.1)+(N11*($C11-0.6)/2.1) -> -18.142375 | P11: =IF(AND($C11>=0.208,$C11<=0.6),1/SQRT((0.6/$C11)^2*(1/(J11)^2-(0.6^2-($C11)^2)/(0.6^2*($D11)^2))),IF(AND($C11>0.6,$C11<=2.7),O11,IF($C11>2.7,N11,"Errado"))) -> 18.851814 | Q11: 180 | R11: =IF(AND($C11<0.6,$G11<508,$H11<508,$I11<=203.2),"Shallow","Typical") -> Typical | S11: =IF($B11="VCB",4,IF($B11="VCBB",10,IF($B11="HCB",10,0))) -> 10 | T11: =IF($B11="VCB",20,IF($B11="VCBB",24,IF($B11="HCB",22,0))) -> 24 | U11: =IF($G11<=1244.6,$G11,1244.6) -> 800 | V11: =(660.4+($U11-660.4)*($C11+$S11)/$T11)*(1/25.4) -> 31.450262 | W11: =IF($H11<=1244.6,$H11,1244.6) -> 1135 | X11: =(660.4+($W11-660.4)*($C11+$S11)/$T11)*(1/25.4) -> 44.529331 | Y11: =IF($G11<508,IF($R11="Typical",20,0.03937*$G11),IF($G11<=660.4,0.03937*$G11,IF($G11<=1244.6,$V11,$V11))) -> 31.450262 | Z11: =IF($H11<508,IF($R11="Typical",20,0.03937*$H11),IF($H11<=660.4,0.03937*$H11,IF($H11<=1244.6,IF($B11="VCB",0.03937*$H11,$X11),IF($B11="VCB",49,$X11)))) -> 44.529331 | AA11: =(Z11+Y11)/2 -> 37.989797 | AB11: =SUMIFS(Table7!C:C,Table7!A:A,"Typical",Table7!B:B,$B11)*$AA11^2+SUMIFS(Table7!D:D,Table7!A:A,"Typical",Table7!B:B,$B11)*$AA11+SUMIFS(Table7!E:E,Table7!A:A,"Typical",Table7!B:B,$B11) -> 1.2651698 | AC11: =1/(SUMIFS(Table7!C:C,Table7!A:A,"Shallow",Table7!B:B,$B11)*$AA11^2+SUMIFS(Table7!D:D,Table7!A:A,"Shallow",Table7!B:B,$B11)*$AA11+SUMIFS(Table7!E:E,Table7!A:A,"Shallow",Table7!B:B,$B11)) -> 4.0176189 | AD11: =IF(R11="Typical",AB11,AC11) -> 1.2651698 | AE11: =(12.552/50)*Q11*10^(SUMIFS(Table3!$B:$B,Table3!$A:$A,$B11)+SUMIFS(Table3!$C:$C,Table3!$A:$A,$B11)*LOG10($E11)+SUMIFS(Table3!$D:$D,Table3!$A:$A,$B11)*$J11/(SUMIFS(Table3!$E:$E,Table3!$A:$A,$B11)*$D11^7+SUMIFS(Table3!$F:$F,Table3!$A:$A,$B11)*$D11^6+SUMIFS(Table3!$G:$G,Table3!$A:$A,$B11)*$D11^5+SUMIFS(Table3!$H:$H,Table3!$A:$A,$B11)*$D11^4+SUMIFS(Table3!$I:$I,Table3!$A:$A,$B11)*$D11^3+SUMIFS(Table3!$J:$J,Table3!$A:$A,$B11)*$D11^2+SUMIFS(Table3!$K:$K,Table3!$A:$A,$B11)*$D11)+SUMIFS(Table3!$L:$L,Table3!$A:$A,$B11)*LOG10($D11)+SUMIFS(Table3!$M:$M,Table3!$A:$A,$B11)*LOG10($F11)+SUMIFS(Table3!$N:$N,Table3!$A:$A,$B11)*LOG10(P11)+LOG10(1/$AD11)) -> 15.977555 | AF11: =(12.552/50)*Q11*10^(SUMIFS(Table3!$B:$B,Table3!$A:$A,$B11)+SUMIFS(Table3!$C:$C,Table3!$A:$A,$B11)*LOG10($E11)+SUMIFS(Table3!$D:$D,Table3!$A:$A,$B11)*J11/(SUMIFS(Table3!$E:$E,Table3!$A:$A,$B11)*$D11^7+SUMIFS(Table3!$F:$F,Table3!$A:$A,$B11)*$D11^6+SUMIFS(Table3!$G:$G,Table3!$A:$A,$B11)*$D11^5+SUMIFS(Table3!$H:$H,Table3!$A:$A,$B11)*$D11^4+SUMIFS(Table3!$I:$I,Table3!$A:$A,$B11)*$D11^3+SUMIFS(Table3!$J:$J,Table3!$A:$A,$B11)*$D11^2+SUMIFS(Table3!$K:$K,Table3!$A:$A,$B11)*$D11)+SUMIFS(Table3!$L:$L,Table3!$A:$A,$B11)*LOG10($D11)+SUMIFS(Table3!$M:$M,Table3!$A:$A,$B11)*LOG10($F11)+SUMIFS(Table3!$N:$N,Table3!$A:$A,$B11)*LOG10(J11)+LOG10(1/$AD11)) -> 12.923611 | AG11: =(12.552/50)*Q11*10^(SUMIFS(Table4!$B:$B,Table4!$A:$A,$B11)+SUMIFS(Table4!$C:$C,Table4!$A:$A,$B11)*LOG10($E11)+SUMIFS(Table4!$D:$D,Table4!$A:$A,$B11)*K11/(SUMIFS(Table4!$E:$E,Table4!$A:$A,$B11)*$D11^7+SUMIFS(Table4!$F:$F,Table4!$A:$A,$B11)*$D11^6+SUMIFS(Table4!$G:$G,Table4!$A:$A,$B11)*$D11^5+SUMIFS(Table4!$H:$H,Table4!$A:$A,$B11)*$D11^4+SUMIFS(Table4!$I:$I,Table4!$A:$A,$B11)*$D11^3+SUMIFS(Table4!$J:$J,Table4!$A:$A,$B11)*$D11^2+SUMIFS(Table4!$K:$K,Table4!$A:$A,$B11)*$D11)+SUMIFS(Table4!$L:$L,Table4!$A:$A,$B11)*LOG10($D11)+SUMIFS(Table4!$M:$M,Table4!$A:$A,$B11)*LOG10($F11)+SUMIFS(Table4!$N:$N,Table4!$A:$A,$B11)*LOG10(K11)+LOG10(1/$AD11)) -> 21.62589 | AH11: =(12.552/50)*Q11*10^(SUMIFS(Table5!$B:$B,Table5!$A:$A,$B11)+SUMIFS(Table5!$C:$C,Table5!$A:$A,$B11)*LOG10($E11)+SUMIFS(Table5!$D:$D,Table5!$A:$A,$B11)*L11/(SUMIFS(Table5!$E:$E,Table5!$A:$A,$B11)*$D11^7+SUMIFS(Table5!$F:$F,Table5!$A:$A,$B11)*$D11^6+SUMIFS(Table5!$G:$G,Table5!$A:$A,$B11)*$D11^5+SUMIFS(Table5!$H:$H,Table5!$A:$A,$B11)*$D11^4+SUMIFS(Table5!$I:$I,Table5!$A:$A,$B11)*$D11^3+SUMIFS(Table5!$J:$J,Table5!$A:$A,$B11)*$D11^2+SUMIFS(Table5!$K:$K,Table5!$A:$A,$B11)*$D11)+SUMIFS(Table5!$L:$L,Table5!$A:$A,$B11)*LOG10($D11)+SUMIFS(Table5!$M:$M,Table5!$A:$A,$B11)*LOG10($F11)+SUMIFS(Table5!$N:$N,Table5!$A:$A,$B11)*LOG10(L11)+LOG10(1/$AD11)) -> 28.904485 | AI11: =((AG11-AF11)/2.1)*($C11-2.7)+AG11 -> 67.623648 | AJ11: =((AH11-AG11)/11.6)*($C11-14.3)+AH11 -> 28.590752 | AK11: =AI11*(2.7-$C11)/2.1+AJ11*($C11-0.6)/2.1 -> -177.72599 | AL11: =IF(AND($C11>=0.208,$C11<=0.6),AE11,IF($C11<=2.7,AK11,AJ11)) -> 28.590752 | AM11: =10^((SUMIFS(Table3!$B:$B,Table3!$A:$A,$B11)+SUMIFS(Table3!$C:$C,Table3!$A:$A,$B11)*LOG10($E11)+(SUMIFS(Table3!$D:$D,Table3!$A:$A,$B11)*$J11)/(SUMIFS(Table3!$E:$E,Table3!$A:$A,$B11)*$D11^7+SUMIFS(Table3!$F:$F,Table3!$A:$A,$B11)*$D11^6+SUMIFS(Table3!$G:$G,Table3!$A:$A,$B11)*$D11^5+SUMIFS(Table3!$H:$H,Table3!$A:$A,$B11)*$D11^4+SUMIFS(Table3!$I:$I,Table3!$A:$A,$B11)*$D11^3+SUMIFS(Table3!$J:$J,Table3!$A:$A,$B11)*$D11^2+SUMIFS(Table3!$K:$K,Table3!$A:$A,$B11)*$D11)+SUMIFS(Table3!$L:$L,Table3!$A:$A,$B11)*LOG10($D11)+SUMIFS(Table3!$N:$N,Table3!$A:$A,$B11)*LOG10(P11)+LOG10(1/$AD11)-LOG10(20/Q11))/-SUMIFS(Table3!$M:$M,Table3!$A:$A,$B11)) -> 1733.9846 | AN11: =10^((SUMIFS(Table3!$B:$B,Table3!$A:$A,$B11)+SUMIFS(Table3!$C:$C,Table3!$A:$A,$B11)*LOG10($E11)+(SUMIFS(Table3!$D:$D,Table3!$A:$A,$B11)*J11)/(SUMIFS(Table3!$E:$E,Table3!$A:$A,$B11)*$D11^7+SUMIFS(Table3!$F:$F,Table3!$A:$A,$B11)*$D11^6+SUMIFS(Table3!$G:$G,Table3!$A:$A,$B11)*$D11^5+SUMIFS(Table3!$H:$H,Table3!$A:$A,$B11)*$D11^4+SUMIFS(Table3!$I:$I,Table3!$A:$A,$B11)*$D11^3+SUMIFS(Table3!$J:$J,Table3!$A:$A,$B11)*$D11^2+SUMIFS(Table3!$K:$K,Table3!$A:$A,$B11)*$D11)+SUMIFS(Table3!$L:$L,Table3!$A:$A,$B11)*LOG10($D11)+SUMIFS(Table3!$N:$N,Table3!$A:$A,$B11)*LOG10(J11)+LOG10(1/$AD11)-LOG10(20/Q11))/-SUMIFS(Table3!$M:$M,Table3!$A:$A,$B11)) -> 1542.1212 | AO11: =10^((SUMIFS(Table4!$B:$B,Table4!$A:$A,$B11)+SUMIFS(Table4!$C:$C,Table4!$A:$A,$B11)*LOG10($E11)+(SUMIFS(Table4!$D:$D,Table4!$A:$A,$B11)*K11)/(SUMIFS(Table4!$E:$E,Table4!$A:$A,$B11)*$D11^7+SUMIFS(Table4!$F:$F,Table4!$A:$A,$B11)*$D11^6+SUMIFS(Table4!$G:$G,Table4!$A:$A,$B11)*$D11^5+SUMIFS(Table4!$H:$H,Table4!$A:$A,$B11)*$D11^4+SUMIFS(Table4!$I:$I,Table4!$A:$A,$B11)*$D11^3+SUMIFS(Table4!$J:$J,Table4!$A:$A,$B11)*$D11^2+SUMIFS(Table4!$K:$K,Table4!$A:$A,$B11)*$D11)+SUMIFS(Table4!$L:$L,Table4!$A:$A,$B11)*LOG10($D11)+SUMIFS(Table4!$N:$N,Table4!$A:$A,$B11)*LOG10(K11)+LOG10(1/$AD11)-LOG10(20/Q11))/-SUMIFS(Table4!$M:$M,Table4!$A:$A,$B11)) -> 2114.468 | AP11: =10^((SUMIFS(Table5!$B:$B,Table5!$A:$A,$B11)+SUMIFS(Table5!$C:$C,Table5!$A:$A,$B11)*LOG10($E11)+(SUMIFS(Table5!$D:$D,Table5!$A:$A,$B11)*L11)/(SUMIFS(Table5!$E:$E,Table5!$A:$A,$B11)*$D11^7+SUMIFS(Table5!$F:$F,Table5!$A:$A,$B11)*$D11^6+SUMIFS(Table5!$G:$G,Table5!$A:$A,$B11)*$D11^5+SUMIFS(Table5!$H:$H,Table5!$A:$A,$B11)*$D11^4+SUMIFS(Table5!$I:$I,Table5!$A:$A,$B11)*$D11^3+SUMIFS(Table5!$J:$J,Table5!$A:$A,$B11)*$D11^2+SUMIFS(Table5!$K:$K,Table5!$A:$A,$B11)*$D11)+SUMIFS(Table5!$L:$L,Table5!$A:$A,$B11)*LOG10($D11)+SUMIFS(Table5!$N:$N,Table5!$A:$A,$B11)*LOG10(L11)+LOG10(1/$AD11)-LOG10(20/Q11))/-SUMIFS(Table5!$M:$M,Table5!$A:$A,$B11)) -> 2596.8156 | AQ11: =((AO11-AN11)/2.1)*($C11-2.7)+AO11 -> 5139.7298 | AR11: =((AP11-AO11)/11.6)*($C11-14.3)+AP11 -> 2576.0248 | AS11: =(AQ11*(2.7-$C11)/2.1)+(AR11*($C11-0.6)/2.1) -> -10974.988 | AT11: =IF(AND($C11>=0.208,$C11<=0.6),AM11,IF($C11<=2.7,AS11,AR11)) -> 2576.0248 | AU11: =SUMIFS(Table2!$B:$B,Table2!$A:$A,$B11)*$C11^6+SUMIFS(Table2!$C:$C,Table2!$A:$A,$B11)*$C11^5+SUMIFS(Table2!$D:$D,Table2!$A:$A,$B11)*$C11^4+SUMIFS(Table2!$E:$E,Table2!$A:$A,$B11)*$C11^3+SUMIFS(Table2!$F:$F,Table2!$A:$A,$B11)*$C11^2+SUMIFS(Table2!$G:$G,Table2!$A:$A,$B11)*$C11+SUMIFS(Table2!$H:$H,Table2!$A:$A,$B11) -> 0.037875333 | AV11: =1-0.5*AU11 -> 0.98106233 | AW11: =J11*$AV11 -> 15.475068 | AX11: =K11*$AV11 -> 17.047856 | AY11: =L11*$AV11 -> 18.559983 | AZ11: =((AX11-AW11)/2.1)*($C11-2.7)+AX11 -> 25.361163 | BA11: =((AY11-AX11)/11.6)*($C11-14.3)+AY11 -> 18.494805 | BB11: =(AZ11*(2.7-$C11)/2.1)+(BA11*($C11-0.6)/2.1) -> -17.798801 | BC11: =IF(AND($C11>=0.208,$C11<=0.6),1/SQRT((0.6/$C11)^2*(1/(J11)^2-(0.6^2-($C11)^2)/(0.6^2*($D11)^2)))*AV11,IF(AND($C11>0.6,$C11<=2.7),BB11,IF($C11>2.7,BA11,"Erro"))) -> 18.494805 | BD11: 180 | BE11: =(12.552/50)*BD11*10^(SUMIFS(Table3!$B:$B,Table3!$A:$A,$B11)+SUMIFS(Table3!$C:$C,Table3!$A:$A,$B11)*LOG10($E11)+SUMIFS(Table3!$D:$D,Table3!$A:$A,$B11)*$J11/(SUMIFS(Table3!$E:$E,Table3!$A:$A,$B11)*$D11^7+SUMIFS(Table3!$F:$F,Table3!$A:$A,$B11)*$D11^6+SUMIFS(Table3!$G:$G,Table3!$A:$A,$B11)*$D11^5+SUMIFS(Table3!$H:$H,Table3!$A:$A,$B11)*$D11^4+SUMIFS(Table3!$I:$I,Table3!$A:$A,$B11)*$D11^3+SUMIFS(Table3!$J:$J,Table3!$A:$A,$B11)*$D11^2+SUMIFS(Table3!$K:$K,Table3!$A:$A,$B11)*$D11)+SUMIFS(Table3!$L:$L,Table3!$A:$A,$B11)*LOG10($D11)+SUMIFS(Table3!$M:$M,Table3!$A:$A,$B11)*LOG10($F11)+SUMIFS(Table3!$N:$N,Table3!$A:$A,$B11)*LOG10(BC11)+LOG10(1/$AD11)) -> 15.618139 | BF11: =(12.552/50)*BD11*10^(SUMIFS(Table3!$B:$B,Table3!$A:$A,$B11)+SUMIFS(Table3!$C:$C,Table3!$A:$A,$B11)*LOG10($E11)+SUMIFS(Table3!$D:$D,Table3!$A:$A,$B11)*AW11/(SUMIFS(Table3!$E:$E,Table3!$A:$A,$B11)*$D11^7+SUMIFS(Table3!$F:$F,Table3!$A:$A,$B11)*$D11^6+SUMIFS(Table3!$G:$G,Table3!$A:$A,$B11)*$D11^5+SUMIFS(Table3!$H:$H,Table3!$A:$A,$B11)*$D11^4+SUMIFS(Table3!$I:$I,Table3!$A:$A,$B11)*$D11^3+SUMIFS(Table3!$J:$J,Table3!$A:$A,$B11)*$D11^2+SUMIFS(Table3!$K:$K,Table3!$A:$A,$B11)*$D11)+SUMIFS(Table3!$L:$L,Table3!$A:$A,$B11)*LOG10($D11)+SUMIFS(Table3!$M:$M,Table3!$A:$A,$B11)*LOG10($F11)+SUMIFS(Table3!$N:$N,Table3!$A:$A,$B11)*LOG10(AW11)+LOG10(1/$AD11)) -> 12.670983 | BG11: =(12.552/50)*BD11*10^(SUMIFS(Table4!$B:$B,Table4!$A:$A,$B11)+SUMIFS(Table4!$C:$C,Table4!$A:$A,$B11)*LOG10($E11)+SUMIFS(Table4!$D:$D,Table4!$A:$A,$B11)*AX11/(SUMIFS(Table4!$E:$E,Table4!$A:$A,$B11)*$D11^7+SUMIFS(Table4!$F:$F,Table4!$A:$A,$B11)*$D11^6+SUMIFS(Table4!$G:$G,Table4!$A:$A,$B11)*$D11^5+SUMIFS(Table4!$H:$H,Table4!$A:$A,$B11)*$D11^4+SUMIFS(Table4!$I:$I,Table4!$A:$A,$B11)*$D11^3+SUMIFS(Table4!$J:$J,Table4!$A:$A,$B11)*$D11^2+SUMIFS(Table4!$K:$K,Table4!$A:$A,$B11)*$D11)+SUMIFS(Table4!$L:$L,Table4!$A:$A,$B11)*LOG10($D11)+SUMIFS(Table4!$M:$M,Table4!$A:$A,$B11)*LOG10($F11)+SUMIFS(Table4!$N:$N,Table4!$A:$A,$B11)*LOG10(AX11)+LOG10(1/$AD11)) -> 21.822931 | BH11: =(12.552/50)*BD11*10^(SUMIFS(Table5!$B:$B,Table5!$A:$A,$B11)+SUMIFS(Table5!$C:$C,Table5!$A:$A,$B11)*LOG10($E11)+SUMIFS(Table5!$D:$D,Table5!$A:$A,$B11)*AY11/(SUMIFS(Table5!$E:$E,Table5!$A:$A,$B11)*$D11^7+SUMIFS(Table5!$F:$F,Table5!$A:$A,$B11)*$D11^6+SUMIFS(Table5!$G:$G,Table5!$A:$A,$B11)*$D11^5+SUMIFS(Table5!$H:$H,Table5!$A:$A,$B11)*$D11^4+SUMIFS(Table5!$I:$I,Table5!$A:$A,$B11)*$D11^3+SUMIFS(Table5!$J:$J,Table5!$A:$A,$B11)*$D11^2+SUMIFS(Table5!$K:$K,Table5!$A:$A,$B11)*$D11)+SUMIFS(Table5!$L:$L,Table5!$A:$A,$B11)*LOG10($D11)+SUMIFS(Table5!$M:$M,Table5!$A:$A,$B11)*LOG10($F11)+SUMIFS(Table5!$N:$N,Table5!$A:$A,$B11)*LOG10(AY11)+LOG10(1/$AD11)) -> 29.067306 | BI11: =((BG11-BF11)/2.1)*($C11-2.7)+BG11 -> 70.197511 | BJ11: =((BH11-BG11)/11.6)*($C11-14.3)+BH11 -> 28.755049 | BK11: =BI11*(2.7-$C11)/2.1+BJ11*($C11-0.6)/2.1 -> -190.29797 | BL11: =IF(AND($C11>=0.208,$C11<=0.6),BE11,IF($C11<=2.7,BK11,BJ11)) -> 28.755049 | BM11: =10^((SUMIFS(Table3!$B:$B,Table3!$A:$A,$B11)+SUMIFS(Table3!$C:$C,Table3!$A:$A,$B11)*LOG10($E11)+(SUMIFS(Table3!$D:$D,Table3!$A:$A,$B11)*$J11)/(SUMIFS(Table3!$E:$E,Table3!$A:$A,$B11)*$D11^7+SUMIFS(Table3!$F:$F,Table3!$A:$A,$B11)*$D11^6+SUMIFS(Table3!$G:$G,Table3!$A:$A,$B11)*$D11^5+SUMIFS(Table3!$H:$H,Table3!$A:$A,$B11)*$D11^4+SUMIFS(Table3!$I:$I,Table3!$A:$A,$B11)*$D11^3+SUMIFS(Table3!$J:$J,Table3!$A:$A,$B11)*$D11^2+SUMIFS(Table3!$K:$K,Table3!$A:$A,$B11)*$D11)+SUMIFS(Table3!$L:$L,Table3!$A:$A,$B11)*LOG10($D11)+SUMIFS(Table3!$N:$N,Table3!$A:$A,$B11)*LOG10(BC11)+LOG10(1/$AD11)-LOG10(20/BD11))/-SUMIFS(Table3!$M:$M,Table3!$A:$A,$B11)) -> 1712.3127 | BN11: =10^((SUMIFS(Table3!$B:$B,Table3!$A:$A,$B11)+SUMIFS(Table3!$C:$C,Table3!$A:$A,$B11)*LOG10($E11)+(SUMIFS(Table3!$D:$D,Table3!$A:$A,$B11)*AW11)/(SUMIFS(Table3!$E:$E,Table3!$A:$A,$B11)*$D11^7+SUMIFS(Table3!$F:$F,Table3!$A:$A,$B11)*$D11^6+SUMIFS(Table3!$G:$G,Table3!$A:$A,$B11)*$D11^5+SUMIFS(Table3!$H:$H,Table3!$A:$A,$B11)*$D11^4+SUMIFS(Table3!$I:$I,Table3!$A:$A,$B11)*$D11^3+SUMIFS(Table3!$J:$J,Table3!$A:$A,$B11)*$D11^2+SUMIFS(Table3!$K:$K,Table3!$A:$A,$B11)*$D11)+SUMIFS(Table3!$L:$L,Table3!$A:$A,$B11)*LOG10($D11)+SUMIFS(Table3!$N:$N,Table3!$A:$A,$B11)*LOG10(AW11)+LOG10(1/$AD11)-LOG10(20/BD11))/-SUMIFS(Table3!$M:$M,Table3!$A:$A,$B11)) -> 1525.3837 | BO11: =10^((SUMIFS(Table4!$B:$B,Table4!$A:$A,$B11)+SUMIFS(Table4!$C:$C,Table4!$A:$A,$B11)*LOG10($E11)+(SUMIFS(Table4!$D:$D,Table4!$A:$A,$B11)*AX11)/(SUMIFS(Table4!$E:$E,Table4!$A:$A,$B11)*$D11^7+SUMIFS(Table4!$F:$F,Table4!$A:$A,$B11)*$D11^6+SUMIFS(Table4!$G:$G,Table4!$A:$A,$B11)*$D11^5+SUMIFS(Table4!$H:$H,Table4!$A:$A,$B11)*$D11^4+SUMIFS(Table4!$I:$I,Table4!$A:$A,$B11)*$D11^3+SUMIFS(Table4!$J:$J,Table4!$A:$A,$B11)*$D11^2+SUMIFS(Table4!$K:$K,Table4!$A:$A,$B11)*$D11)+SUMIFS(Table4!$L:$L,Table4!$A:$A,$B11)*LOG10($D11)+SUMIFS(Table4!$N:$N,Table4!$A:$A,$B11)*LOG10(AX11)+LOG10(1/$AD11)-LOG10(20/BD11))/-SUMIFS(Table4!$M:$M,Table4!$A:$A,$B11)) -> 2125.5062 | BP11: =10^((SUMIFS(Table5!$B:$B,Table5!$A:$A,$B11)+SUMIFS(Table5!$C:$C,Table5!$A:$A,$B11)*LOG10($E11)+(SUMIFS(Table5!$D:$D,Table5!$A:$A,$B11)*AY11)/(SUMIFS(Table5!$E:$E,Table5!$A:$A,$B11)*$D11^7+SUMIFS(Table5!$F:$F,Table5!$A:$A,$B11)*$D11^6+SUMIFS(Table5!$G:$G,Table5!$A:$A,$B11)*$D11^5+SUMIFS(Table5!$H:$H,Table5!$A:$A,$B11)*$D11^4+SUMIFS(Table5!$I:$I,Table5!$A:$A,$B11)*$D11^3+SUMIFS(Table5!$J:$J,Table5!$A:$A,$B11)*$D11^2+SUMIFS(Table5!$K:$K,Table5!$A:$A,$B11)*$D11)+SUMIFS(Table5!$L:$L,Table5!$A:$A,$B11)*LOG10($D11)+SUMIFS(Table5!$N:$N,Table5!$A:$A,$B11)*LOG10(AY11)+LOG10(1/$AD11)-LOG10(20/BD11))/-SUMIFS(Table5!$M:$M,Table5!$A:$A,$B11)) -> 2605.5285 | BQ11: =((BO11-BN11)/2.1)*($C11-2.7)+BO11 -> 5297.5818 | BR11: =((BP11-BO11)/11.6)*($C11-14.3)+BP11 -> 2584.8379 | BS11: =(BQ11*(2.7-$C11)/2.1)+(BR11*($C11-0.6)/2.1) -> -11753.952 | BT11: =IF(AND($C11>=0.208,$C11<=0.6),BM11,IF($C11<=2.7,BS11,BR11)) -> 2584.8379
A12: PN-02A | B12: VCBB | C12: 4.16 | D12: 10.95 | E12: 102 | F12: 914.4 | G12: 400 | H12: 750 | I12: 500 | J12: =10^(SUMIFS(Table1!$C:$C,Table1!$B:$B,600,Table1!$A:$A,$B12)+SUMIFS(Table1!$D:$D,Table1!$B:$B,600,Table1!$A:$A,$B12)*LOG10($D12)+SUMIFS(Table1!$E:$E,Table1!$B:$B,600,Table1!$A:$A,$B12)*LOG10($E12))*(SUMIFS(Table1!$F:$F,Table1!$B:$B,600,Table1!$A:$A,$B12)*$D12^6+SUMIFS(Table1!$G:$G,Table1!$B:$B,600,Table1!$A:$A,$B12)*$D12^5+SUMIFS(Table1!$H:$H,Table1!$B:$B,600,Table1!$A:$A,$B12)*$D12^4+SUMIFS(Table1!$I:$I,Table1!$B:$B,600,Table1!$A:$A,$B12)*$D12^3+SUMIFS(Table1!$J:$J,Table1!$B:$B,600,Table1!$A:$A,$B12)*$D12^2+SUMIFS(Table1!$K:$K,Table1!$B:$B,600,Table1!$A:$A,$B12)*$D12+SUMIFS(Table1!$L:$L,Table1!$B:$B,600,Table1!$A:$A,$B12)) -> 8.7962838 | K12: =10^(SUMIFS(Table1!$C:$C,Table1!$B:$B,2700,Table1!$A:$A,$B12)+SUMIFS(Table1!$D:$D,Table1!$B:$B,2700,Table1!$A:$A,$B12)*LOG10($D12)+SUMIFS(Table1!$E:$E,Table1!$B:$B,2700,Table1!$A:$A,$B12)*LOG10($E12))*(SUMIFS(Table1!$F:$F,Table1!$B:$B,2700,Table1!$A:$A,$B12)*$D12^6+SUMIFS(Table1!$G:$G,Table1!$B:$B,2700,Table1!$A:$A,$B12)*$D12^5+SUMIFS(Table1!$H:$H,Table1!$B:$B,2700,Table1!$A:$A,$B12)*$D12^4+SUMIFS(Table1!$I:$I,Table1!$B:$B,2700,Table1!$A:$A,$B12)*$D12^3+SUMIFS(Table1!$J:$J,Table1!$B:$B,2700,Table1!$A:$A,$B12)*$D12^2+SUMIFS(Table1!$K:$K,Table1!$B:$B,2700,Table1!$A:$A,$B12)*$D12+SUMIFS(Table1!$L:$L,Table1!$B:$B,2700,Table1!$A:$A,$B12)) -> 9.8016373 | L12: =10^(SUMIFS(Table1!$C:$C,Table1!$B:$B,14300,Table1!$A:$A,$B12)+SUMIFS(Table1!$D:$D,Table1!$B:$B,14300,Table1!$A:$A,$B12)*LOG10($D12)+SUMIFS(Table1!$E:$E,Table1!$B:$B,14300,Table1!$A:$A,$B12)*LOG10($E12))*(SUMIFS(Table1!$F:$F,Table1!$B:$B,14300,Table1!$A:$A,$B12)*$D12^6+SUMIFS(Table1!$G:$G,Table1!$B:$B,14300,Table1!$A:$A,$B12)*$D12^5+SUMIFS(Table1!$H:$H,Table1!$B:$B,14300,Table1!$A:$A,$B12)*$D12^4+SUMIFS(Table1!$I:$I,Table1!$B:$B,14300,Table1!$A:$A,$B12)*$D12^3+SUMIFS(Table1!$J:$J,Table1!$B:$B,14300,Table1!$A:$A,$B12)*$D12^2+SUMIFS(Table1!$K:$K,Table1!$B:$B,14300,Table1!$A:$A,$B12)*$D12+SUMIFS(Table1!$L:$L,Table1!$B:$B,14300,Table1!$A:$A,$B12)) -> 10.566115 | M12: =((K12-J12)/2.1)*($C12-2.7)+K12 -> 10.500597 | N12: =((L12-K12)/11.6)*($C12-14.3)+L12 -> 9.897856 | O12: =(M12*(2.7-$C12)/2.1)+(N12*($C12-0.6)/2.1) -> 9.4788073 | P12: =IF(AND($C12>=0.208,$C12<=0.6),1/SQRT((0.6/$C12)^2*(1/(J12)^2-(0.6^2-($C12)^2)/(0.6^2*($D12)^2))),IF(AND($C12>0.6,$C12<=2.7),O12,IF($C12>2.7,N12,"Errado"))) -> 9.897856 | Q12: 380 | R12: =IF(AND($C12<0.6,$G12<508,$H12<508,$I12<=203.2),"Shallow","Typical") -> Typical | S12: =IF($B12="VCB",4,IF($B12="VCBB",10,IF($B12="HCB",10,0))) -> 10 | T12: =IF($B12="VCB",20,IF($B12="VCBB",24,IF($B12="HCB",22,0))) -> 24 | U12: =IF($G12<=1244.6,$G12,1244.6) -> 400 | V12: =(660.4+($U12-660.4)*($C12+$S12)/$T12)*(1/25.4) -> 19.951339 | W12: =IF($H12<=1244.6,$H12,1244.6) -> 750 | X12: =(660.4+($W12-660.4)*($C12+$S12)/$T12)*(1/25.4) -> 28.08126 | Y12: =IF($G12<508,IF($R12="Typical",20,0.03937*$G12),IF($G12<=660.4,0.03937*$G12,IF($G12<=1244.6,$V12,$V12))) -> 20 | Z12: =IF($H12<508,IF($R12="Typical",20,0.03937*$H12),IF($H12<=660.4,0.03937*$H12,IF($H12<=1244.6,IF($B12="VCB",0.03937*$H12,$X12),IF($B12="VCB",49,$X12)))) -> 28.08126 | AA12: =(Z12+Y12)/2 -> 24.04063 | AB12: =SUMIFS(Table7!C:C,Table7!A:A,"Typical",Table7!B:B,$B12)*$AA12^2+SUMIFS(Table7!D:D,Table7!A:A,"Typical",Table7!B:B,$B12)*$AA12+SUMIFS(Table7!E:E,Table7!A:A,"Typical",Table7!B:B,$B12) -> 1.0763017 | AC12: =1/(SUMIFS(Table7!C:C,Table7!A:A,"Shallow",Table7!B:B,$B12)*$AA12^2+SUMIFS(Table7!D:D,Table7!A:A,"Shallow",Table7!B:B,$B12)*$AA12+SUMIFS(Table7!E:E,Table7!A:A,"Shallow",Table7!B:B,$B12)) -> 1.0130677 | AD12: =IF(R12="Typical",AB12,AC12) -> 1.0763017 | AE12: =(12.552/50)*Q12*10^(SUMIFS(Table3!$B:$B,Table3!$A:$A,$B12)+SUMIFS(Table3!$C:$C,Table3!$A:$A,$B12)*LOG10($E12)+SUMIFS(Table3!$D:$D,Table3!$A:$A,$B12)*$J12/(SUMIFS(Table3!$E:$E,Table3!$A:$A,$B12)*$D12^7+SUMIFS(Table3!$F:$F,Table3!$A:$A,$B12)*$D12^6+SUMIFS(Table3!$G:$G,Table3!$A:$A,$B12)*$D12^5+SUMIFS(Table3!$H:$H,Table3!$A:$A,$B12)*$D12^4+SUMIFS(Table3!$I:$I,Table3!$A:$A,$B12)*$D12^3+SUMIFS(Table3!$J:$J,Table3!$A:$A,$B12)*$D12^2+SUMIFS(Table3!$K:$K,Table3!$A:$A,$B12)*$D12)+SUMIFS(Table3!$L:$L,Table3!$A:$A,$B12)*LOG10($D12)+SUMIFS(Table3!$M:$M,Table3!$A:$A,$B12)*LOG10($F12)+SUMIFS(Table3!$N:$N,Table3!$A:$A,$B12)*LOG10(P12)+LOG10(1/$AD12)) -> 17.085503 | AF12: =(12.552/50)*Q12*10^(SUMIFS(Table3!$B:$B,Table3!$A:$A,$B12)+SUMIFS(Table3!$C:$C,Table3!$A:$A,$B12)*LOG10($E12)+SUMIFS(Table3!$D:$D,Table3!$A:$A,$B12)*J12/(SUMIFS(Table3!$E:$E,Table3!$A:$A,$B12)*$D12^7+SUMIFS(Table3!$F:$F,Table3!$A:$A,$B12)*$D12^6+SUMIFS(Table3!$G:$G,Table3!$A:$A,$B12)*$D12^5+SUMIFS(Table3!$H:$H,Table3!$A:$A,$B12)*$D12^4+SUMIFS(Table3!$I:$I,Table3!$A:$A,$B12)*$D12^3+SUMIFS(Table3!$J:$J,Table3!$A:$A,$B12)*$D12^2+SUMIFS(Table3!$K:$K,Table3!$A:$A,$B12)*$D12)+SUMIFS(Table3!$L:$L,Table3!$A:$A,$B12)*LOG10($D12)+SUMIFS(Table3!$M:$M,Table3!$A:$A,$B12)*LOG10($F12)+SUMIFS(Table3!$N:$N,Table3!$A:$A,$B12)*LOG10(J12)+LOG10(1/$AD12)) -> 14.847383 | AG12: =(12.552/50)*Q12*10^(SUMIFS(Table4!$B:$B,Table4!$A:$A,$B12)+SUMIFS(Table4!$C:$C,Table4!$A:$A,$B12)*LOG10($E12)+SUMIFS(Table4!$D:$D,Table4!$A:$A,$B12)*K12/(SUMIFS(Table4!$E:$E,Table4!$A:$A,$B12)*$D12^7+SUMIFS(Table4!$F:$F,Table4!$A:$A,$B12)*$D12^6+SUMIFS(Table4!$G:$G,Table4!$A:$A,$B12)*$D12^5+SUMIFS(Table4!$H:$H,Table4!$A:$A,$B12)*$D12^4+SUMIFS(Table4!$I:$I,Table4!$A:$A,$B12)*$D12^3+SUMIFS(Table4!$J:$J,Table4!$A:$A,$B12)*$D12^2+SUMIFS(Table4!$K:$K,Table4!$A:$A,$B12)*$D12)+SUMIFS(Table4!$L:$L,Table4!$A:$A,$B12)*LOG10($D12)+SUMIFS(Table4!$M:$M,Table4!$A:$A,$B12)*LOG10($F12)+SUMIFS(Table4!$N:$N,Table4!$A:$A,$B12)*LOG10(K12)+LOG10(1/$AD12)) -> 26.335514 | AH12: =(12.552/50)*Q12*10^(SUMIFS(Table5!$B:$B,Table5!$A:$A,$B12)+SUMIFS(Table5!$C:$C,Table5!$A:$A,$B12)*LOG10($E12)+SUMIFS(Table5!$D:$D,Table5!$A:$A,$B12)*L12/(SUMIFS(Table5!$E:$E,Table5!$A:$A,$B12)*$D12^7+SUMIFS(Table5!$F:$F,Table5!$A:$A,$B12)*$D12^6+SUMIFS(Table5!$G:$G,Table5!$A:$A,$B12)*$D12^5+SUMIFS(Table5!$H:$H,Table5!$A:$A,$B12)*$D12^4+SUMIFS(Table5!$I:$I,Table5!$A:$A,$B12)*$D12^3+SUMIFS(Table5!$J:$J,Table5!$A:$A,$B12)*$D12^2+SUMIFS(Table5!$K:$K,Table5!$A:$A,$B12)*$D12)+SUMIFS(Table5!$L:$L,Table5!$A:$A,$B12)*LOG10($D12)+SUMIFS(Table5!$M:$M,Table5!$A:$A,$B12)*LOG10($F12)+SUMIFS(Table5!$N:$N,Table5!$A:$A,$B12)*LOG10(L12)+LOG10(1/$AD12)) -> 35.545858 | AI12: =((AG12-AF12)/2.1)*($C12-2.7)+AG12 -> 34.3225 | AJ12: =((AH12-AG12)/11.6)*($C12-14.3)+AH12 -> 27.494747 | AK12: =AI12*(2.7-$C12)/2.1+AJ12*($C12-0.6)/2.1 -> 22.747833 | AL12: =IF(AND($C12>=0.208,$C12<=0.6),AE12,IF($C12<=2.7,AK12,AJ12)) -> 27.494747 | AM12: =10^((SUMIFS(Table3!$B:$B,Table3!$A:$A,$B12)+SUMIFS(Table3!$C:$C,Table3!$A:$A,$B12)*LOG10($E12)+(SUMIFS(Table3!$D:$D,Table3!$A:$A,$B12)*$J12)/(SUMIFS(Table3!$E:$E,Table3!$A:$A,$B12)*$D12^7+SUMIFS(Table3!$F:$F,Table3!$A:$A,$B12)*$D12^6+SUMIFS(Table3!$G:$G,Table3!$A:$A,$B12)*$D12^5+SUMIFS(Table3!$H:$H,Table3!$A:$A,$B12)*$D12^4+SUMIFS(Table3!$I:$I,Table3!$A:$A,$B12)*$D12^3+SUMIFS(Table3!$J:$J,Table3!$A:$A,$B12)*$D12^2+SUMIFS(Table3!$K:$K,Table3!$A:$A,$B12)*$D12)+SUMIFS(Table3!$L:$L,Table3!$A:$A,$B12)*LOG10($D12)+SUMIFS(Table3!$N:$N,Table3!$A:$A,$B12)*LOG10(P12)+LOG10(1/$AD12)-LOG10(20/Q12))/-SUMIFS(Table3!$M:$M,Table3!$A:$A,$B12)) -> 1799.4555 | AN12: =10^((SUMIFS(Table3!$B:$B,Table3!$A:$A,$B12)+SUMIFS(Table3!$C:$C,Table3!$A:$A,$B12)*LOG10($E12)+(SUMIFS(Table3!$D:$D,Table3!$A:$A,$B12)*J12)/(SUMIFS(Table3!$E:$E,Table3!$A:$A,$B12)*$D12^7+SUMIFS(Table3!$F:$F,Table3!$A:$A,$B12)*$D12^6+SUMIFS(Table3!$G:$G,Table3!$A:$A,$B12)*$D12^5+SUMIFS(Table3!$H:$H,Table3!$A:$A,$B12)*$D12^4+SUMIFS(Table3!$I:$I,Table3!$A:$A,$B12)*$D12^3+SUMIFS(Table3!$J:$J,Table3!$A:$A,$B12)*$D12^2+SUMIFS(Table3!$K:$K,Table3!$A:$A,$B12)*$D12)+SUMIFS(Table3!$L:$L,Table3!$A:$A,$B12)*LOG10($D12)+SUMIFS(Table3!$N:$N,Table3!$A:$A,$B12)*LOG10(J12)+LOG10(1/$AD12)-LOG10(20/Q12))/-SUMIFS(Table3!$M:$M,Table3!$A:$A,$B12)) -> 1665.0722 | AO12: =10^((SUMIFS(Table4!$B:$B,Table4!$A:$A,$B12)+SUMIFS(Table4!$C:$C,Table4!$A:$A,$B12)*LOG10($E12)+(SUMIFS(Table4!$D:$D,Table4!$A:$A,$B12)*K12)/(SUMIFS(Table4!$E:$E,Table4!$A:$A,$B12)*$D12^7+SUMIFS(Table4!$F:$F,Table4!$A:$A,$B12)*$D12^6+SUMIFS(Table4!$G:$G,Table4!$A:$A,$B12)*$D12^5+SUMIFS(Table4!$H:$H,Table4!$A:$A,$B12)*$D12^4+SUMIFS(Table4!$I:$I,Table4!$A:$A,$B12)*$D12^3+SUMIFS(Table4!$J:$J,Table4!$A:$A,$B12)*$D12^2+SUMIFS(Table4!$K:$K,Table4!$A:$A,$B12)*$D12)+SUMIFS(Table4!$L:$L,Table4!$A:$A,$B12)*LOG10($D12)+SUMIFS(Table4!$N:$N,Table4!$A:$A,$B12)*LOG10(K12)+LOG10(1/$AD12)-LOG10(20/Q12))/-SUMIFS(Table4!$M:$M,Table4!$A:$A,$B12)) -> 2367.6721 | AP12: =10^((SUMIFS(Table5!$B:$B,Table5!$A:$A,$B12)+SUMIFS(Table5!$C:$C,Table5!$A:$A,$B12)*LOG10($E12)+(SUMIFS(Table5!$D:$D,Table5!$A:$A,$B12)*L12)/(SUMIFS(Table5!$E:$E,Table5!$A:$A,$B12)*$D12^7+SUMIFS(Table5!$F:$F,Table5!$A:$A,$B12)*$D12^6+SUMIFS(Table5!$G:$G,Table5!$A:$A,$B12)*$D12^5+SUMIFS(Table5!$H:$H,Table5!$A:$A,$B12)*$D12^4+SUMIFS(Table5!$I:$I,Table5!$A:$A,$B12)*$D12^3+SUMIFS(Table5!$J:$J,Table5!$A:$A,$B12)*$D12^2+SUMIFS(Table5!$K:$K,Table5!$A:$A,$B12)*$D12)+SUMIFS(Table5!$L:$L,Table5!$A:$A,$B12)*LOG10($D12)+SUMIFS(Table5!$N:$N,Table5!$A:$A,$B12)*LOG10(L12)+LOG10(1/$AD12)-LOG10(20/Q12))/-SUMIFS(Table5!$M:$M,Table5!$A:$A,$B12)) -> 2937.6719 | AQ12: =((AO12-AN12)/2.1)*($C12-2.7)+AO12 -> 2856.1464 | AR12: =((AP12-AO12)/11.6)*($C12-14.3)+AP12 -> 2439.4135 | AS12: =(AQ12*(2.7-$C12)/2.1)+(AR12*($C12-0.6)/2.1) -> 2149.6849 | AT12: =IF(AND($C12>=0.208,$C12<=0.6),AM12,IF($C12<=2.7,AS12,AR12)) -> 2439.4135 | AU12: =SUMIFS(Table2!$B:$B,Table2!$A:$A,$B12)*$C12^6+SUMIFS(Table2!$C:$C,Table2!$A:$A,$B12)*$C12^5+SUMIFS(Table2!$D:$D,Table2!$A:$A,$B12)*$C12^4+SUMIFS(Table2!$E:$E,Table2!$A:$A,$B12)*$C12^3+SUMIFS(Table2!$F:$F,Table2!$A:$A,$B12)*$C12^2+SUMIFS(Table2!$G:$G,Table2!$A:$A,$B12)*$C12+SUMIFS(Table2!$H:$H,Table2!$A:$A,$B12) -> 0.043272312 | AV12: =1-0.5*AU12 -> 0.97836384 | AW12: =J12*$AV12 -> 8.605966 | AX12: =K12*$AV12 -> 9.5895675 | AY12: =L12*$AV12 -> 10.337505 | AZ12: =((AX12-AW12)/2.1)*($C12-2.7)+AX12 -> 10.273405 | BA12: =((AY12-AX12)/11.6)*($C12-14.3)+AY12 -> 9.6837045 | BB12: =(AZ12*(2.7-$C12)/2.1)+(BA12*($C12-0.6)/2.1) -> 9.2737224 | BC12: =IF(AND($C12>=0.208,$C12<=0.6),1/SQRT((0.6/$C12)^2*(1/(J12)^2-(0.6^2-($C12)^2)/(0.6^2*($D12)^2)))*AV12,IF(AND($C12>0.6,$C12<=2.7),BB12,IF($C12>2.7,BA12,"Erro"))) -> 9.6837045 | BD12: 380 | BE12: =(12.552/50)*BD12*10^(SUMIFS(Table3!$B:$B,Table3!$A:$A,$B12)+SUMIFS(Table3!$C:$C,Table3!$A:$A,$B12)*LOG10($E12)+SUMIFS(Table3!$D:$D,Table3!$A:$A,$B12)*$J12/(SUMIFS(Table3!$E:$E,Table3!$A:$A,$B12)*$D12^7+SUMIFS(Table3!$F:$F,Table3!$A:$A,$B12)*$D12^6+SUMIFS(Table3!$G:$G,Table3!$A:$A,$B12)*$D12^5+SUMIFS(Table3!$H:$H,Table3!$A:$A,$B12)*$D12^4+SUMIFS(Table3!$I:$I,Table3!$A:$A,$B12)*$D12^3+SUMIFS(Table3!$J:$J,Table3!$A:$A,$B12)*$D12^2+SUMIFS(Table3!$K:$K,Table3!$A:$A,$B12)*$D12)+SUMIFS(Table3!$L:$L,Table3!$A:$A,$B12)*LOG10($D12)+SUMIFS(Table3!$M:$M,Table3!$A:$A,$B12)*LOG10($F12)+SUMIFS(Table3!$N:$N,Table3!$A:$A,$B12)*LOG10(BC12)+LOG10(1/$AD12)) -> 16.646512 | BF12: =(12.552/50)*BD12*10^(SUMIFS(Table3!$B:$B,Table3!$A:$A,$B12)+SUMIFS(Table3!$C:$C,Table3!$A:$A,$B12)*LOG10($E12)+SUMIFS(Table3!$D:$D,Table3!$A:$A,$B12)*AW12/(SUMIFS(Table3!$E:$E,Table3!$A:$A,$B12)*$D12^7+SUMIFS(Table3!$F:$F,Table3!$A:$A,$B12)*$D12^6+SUMIFS(Table3!$G:$G,Table3!$A:$A,$B12)*$D12^5+SUMIFS(Table3!$H:$H,Table3!$A:$A,$B12)*$D12^4+SUMIFS(Table3!$I:$I,Table3!$A:$A,$B12)*$D12^3+SUMIFS(Table3!$J:$J,Table3!$A:$A,$B12)*$D12^2+SUMIFS(Table3!$K:$K,Table3!$A:$A,$B12)*$D12)+SUMIFS(Table3!$L:$L,Table3!$A:$A,$B12)*LOG10($D12)+SUMIFS(Table3!$M:$M,Table3!$A:$A,$B12)*LOG10($F12)+SUMIFS(Table3!$N:$N,Table3!$A:$A,$B12)*LOG10(AW12)+LOG10(1/$AD12)) -> 14.517368 | BG12: =(12.552/50)*BD12*10^(SUMIFS(Table4!$B:$B,Table4!$A:$A,$B12)+SUMIFS(Table4!$C:$C,Table4!$A:$A,$B12)*LOG10($E12)+SUMIFS(Table4!$D:$D,Table4!$A:$A,$B12)*AX12/(SUMIFS(Table4!$E:$E,Table4!$A:$A,$B12)*$D12^7+SUMIFS(Table4!$F:$F,Table4!$A:$A,$B12)*$D12^6+SUMIFS(Table4!$G:$G,Table4!$A:$A,$B12)*$D12^5+SUMIFS(Table4!$H:$H,Table4!$A:$A,$B12)*$D12^4+SUMIFS(Table4!$I:$I,Table4!$A:$A,$B12)*$D12^3+SUMIFS(Table4!$J:$J,Table4!$A:$A,$B12)*$D12^2+SUMIFS(Table4!$K:$K,Table4!$A:$A,$B12)*$D12)+SUMIFS(Table4!$L:$L,Table4!$A:$A,$B12)*LOG10($D12)+SUMIFS(Table4!$M:$M,Table4!$A:$A,$B12)*LOG10($F12)+SUMIFS(Table4!$N:$N,Table4!$A:$A,$B12)*LOG10(AX12)+LOG10(1/$AD12)) -> 26.616291 | BH12: =(12.552/50)*BD12*10^(SUMIFS(Table5!$B:$B,Table5!$A:$A,$B12)+SUMIFS(Table5!$C:$C,Table5!$A:$A,$B12)*LOG10($E12)+SUMIFS(Table5!$D:$D,Table5!$A:$A,$B12)*AY12/(SUMIFS(Table5!$E:$E,Table5!$A:$A,$B12)*$D12^7+SUMIFS(Table5!$F:$F,Table5!$A:$A,$B12)*$D12^6+SUMIFS(Table5!$G:$G,Table5!$A:$A,$B12)*$D12^5+SUMIFS(Table5!$H:$H,Table5!$A:$A,$B12)*$D12^4+SUMIFS(Table5!$I:$I,Table5!$A:$A,$B12)*$D12^3+SUMIFS(Table5!$J:$J,Table5!$A:$A,$B12)*$D12^2+SUMIFS(Table5!$K:$K,Table5!$A:$A,$B12)*$D12)+SUMIFS(Table5!$L:$L,Table5!$A:$A,$B12)*LOG10($D12)+SUMIFS(Table5!$M:$M,Table5!$A:$A,$B12)*LOG10($F12)+SUMIFS(Table5!$N:$N,Table5!$A:$A,$B12)*LOG10(AY12)+LOG10(1/$AD12)) -> 35.771615 | BI12: =((BG12-BF12)/2.1)*($C12-2.7)+BG12 -> 35.027924 | BJ12: =((BH12-BG12)/11.6)*($C12-14.3)+BH12 -> 27.768599 | BK12: =BI12*(2.7-$C12)/2.1+BJ12*($C12-0.6)/2.1 -> 22.721641 | BL12: =IF(AND($C12>=0.208,$C12<=0.6),BE12,IF($C12<=2.7,BK12,BJ12)) -> 27.768599 | BM12: =10^((SUMIFS(Table3!$B:$B,Table3!$A:$A,$B12)+SUMIFS(Table3!$C:$C,Table3!$A:$A,$B12)*LOG10($E12)+(SUMIFS(Table3!$D:$D,Table3!$A:$A,$B12)*$J12)/(SUMIFS(Table3!$E:$E,Table3!$A:$A,$B12)*$D12^7+SUMIFS(Table3!$F:$F,Table3!$A:$A,$B12)*$D12^6+SUMIFS(Table3!$G:$G,Table3!$A:$A,$B12)*$D12^5+SUMIFS(Table3!$H:$H,Table3!$A:$A,$B12)*$D12^4+SUMIFS(Table3!$I:$I,Table3!$A:$A,$B12)*$D12^3+SUMIFS(Table3!$J:$J,Table3!$A:$A,$B12)*$D12^2+SUMIFS(Table3!$K:$K,Table3!$A:$A,$B12)*$D12)+SUMIFS(Table3!$L:$L,Table3!$A:$A,$B12)*LOG10($D12)+SUMIFS(Table3!$N:$N,Table3!$A:$A,$B12)*LOG10(BC12)+LOG10(1/$AD12)-LOG10(20/BD12))/-SUMIFS(Table3!$M:$M,Table3!$A:$A,$B12)) -> 1773.7486 | BN12: =10^((SUMIFS(Table3!$B:$B,Table3!$A:$A,$B12)+SUMIFS(Table3!$C:$C,Table3!$A:$A,$B12)*LOG10($E12)+(SUMIFS(Table3!$D:$D,Table3!$A:$A,$B12)*AW12)/(SUMIFS(Table3!$E:$E,Table3!$A:$A,$B12)*$D12^7+SUMIFS(Table3!$F:$F,Table3!$A:$A,$B12)*$D12^6+SUMIFS(Table3!$G:$G,Table3!$A:$A,$B12)*$D12^5+SUMIFS(Table3!$H:$H,Table3!$A:$A,$B12)*$D12^4+SUMIFS(Table3!$I:$I,Table3!$A:$A,$B12)*$D12^3+SUMIFS(Table3!$J:$J,Table3!$A:$A,$B12)*$D12^2+SUMIFS(Table3!$K:$K,Table3!$A:$A,$B12)*$D12)+SUMIFS(Table3!$L:$L,Table3!$A:$A,$B12)*LOG10($D12)+SUMIFS(Table3!$N:$N,Table3!$A:$A,$B12)*LOG10(AW12)+LOG10(1/$AD12)-LOG10(20/BD12))/-SUMIFS(Table3!$M:$M,Table3!$A:$A,$B12)) -> 1644.5107 | BO12: =10^((SUMIFS(Table4!$B:$B,Table4!$A:$A,$B12)+SUMIFS(Table4!$C:$C,Table4!$A:$A,$B12)*LOG10($E12)+(SUMIFS(Table4!$D:$D,Table4!$A:$A,$B12)*AX12)/(SUMIFS(Table4!$E:$E,Table4!$A:$A,$B12)*$D12^7+SUMIFS(Table4!$F:$F,Table4!$A:$A,$B12)*$D12^6+SUMIFS(Table4!$G:$G,Table4!$A:$A,$B12)*$D12^5+SUMIFS(Table4!$H:$H,Table4!$A:$A,$B12)*$D12^4+SUMIFS(Table4!$I:$I,Table4!$A:$A,$B12)*$D12^3+SUMIFS(Table4!$J:$J,Table4!$A:$A,$B12)*$D12^2+SUMIFS(Table4!$K:$K,Table4!$A:$A,$B12)*$D12)+SUMIFS(Table4!$L:$L,Table4!$A:$A,$B12)*LOG10($D12)+SUMIFS(Table4!$N:$N,Table4!$A:$A,$B12)*LOG10(AX12)+LOG10(1/$AD12)-LOG10(20/BD12))/-SUMIFS(Table4!$M:$M,Table4!$A:$A,$B12)) -> 2382.1303 | BP12: =10^((SUMIFS(Table5!$B:$B,Table5!$A:$A,$B12)+SUMIFS(Table5!$C:$C,Table5!$A:$A,$B12)*LOG10($E12)+(SUMIFS(Table5!$D:$D,Table5!$A:$A,$B12)*AY12)/(SUMIFS(Table5!$E:$E,Table5!$A:$A,$B12)*$D12^7+SUMIFS(Table5!$F:$F,Table5!$A:$A,$B12)*$D12^6+SUMIFS(Table5!$G:$G,Table5!$A:$A,$B12)*$D12^5+SUMIFS(Table5!$H:$H,Table5!$A:$A,$B12)*$D12^4+SUMIFS(Table5!$I:$I,Table5!$A:$A,$B12)*$D12^3+SUMIFS(Table5!$J:$J,Table5!$A:$A,$B12)*$D12^2+SUMIFS(Table5!$K:$K,Table5!$A:$A,$B12)*$D12)+SUMIFS(Table5!$L:$L,Table5!$A:$A,$B12)*LOG10($D12)+SUMIFS(Table5!$N:$N,Table5!$A:$A,$B12)*LOG10(AY12)+LOG10(1/$AD12)-LOG10(20/BD12))/-SUMIFS(Table5!$M:$M,Table5!$A:$A,$B12)) -> 2948.7833 | BQ12: =((BO12-BN12)/2.1)*($C12-2.7)+BO12 -> 2894.9515 | BR12: =((BP12-BO12)/11.6)*($C12-14.3)+BP12 -> 2453.4504 | BS12: =(BQ12*(2.7-$C12)/2.1)+(BR12*($C12-0.6)/2.1) -> 2146.502 | BT12: =IF(AND($C12>=0.208,$C12<=0.6),BM12,IF($C12<=2.7,BS12,BR12)) -> 2453.4504
A13: PN-02B | B13: VCBB | C13: 4.16 | D13: 10.95 | E13: 102 | F13: 914.4 | G13: 400 | H13: 750 | I13: 500 | J13: =10^(SUMIFS(Table1!$C:$C,Table1!$B:$B,600,Table1!$A:$A,$B13)+SUMIFS(Table1!$D:$D,Table1!$B:$B,600,Table1!$A:$A,$B13)*LOG10($D13)+SUMIFS(Table1!$E:$E,Table1!$B:$B,600,Table1!$A:$A,$B13)*LOG10($E13))*(SUMIFS(Table1!$F:$F,Table1!$B:$B,600,Table1!$A:$A,$B13)*$D13^6+SUMIFS(Table1!$G:$G,Table1!$B:$B,600,Table1!$A:$A,$B13)*$D13^5+SUMIFS(Table1!$H:$H,Table1!$B:$B,600,Table1!$A:$A,$B13)*$D13^4+SUMIFS(Table1!$I:$I,Table1!$B:$B,600,Table1!$A:$A,$B13)*$D13^3+SUMIFS(Table1!$J:$J,Table1!$B:$B,600,Table1!$A:$A,$B13)*$D13^2+SUMIFS(Table1!$K:$K,Table1!$B:$B,600,Table1!$A:$A,$B13)*$D13+SUMIFS(Table1!$L:$L,Table1!$B:$B,600,Table1!$A:$A,$B13)) -> 8.7962838 | K13: =10^(SUMIFS(Table1!$C:$C,Table1!$B:$B,2700,Table1!$A:$A,$B13)+SUMIFS(Table1!$D:$D,Table1!$B:$B,2700,Table1!$A:$A,$B13)*LOG10($D13)+SUMIFS(Table1!$E:$E,Table1!$B:$B,2700,Table1!$A:$A,$B13)*LOG10($E13))*(SUMIFS(Table1!$F:$F,Table1!$B:$B,2700,Table1!$A:$A,$B13)*$D13^6+SUMIFS(Table1!$G:$G,Table1!$B:$B,2700,Table1!$A:$A,$B13)*$D13^5+SUMIFS(Table1!$H:$H,Table1!$B:$B,2700,Table1!$A:$A,$B13)*$D13^4+SUMIFS(Table1!$I:$I,Table1!$B:$B,2700,Table1!$A:$A,$B13)*$D13^3+SUMIFS(Table1!$J:$J,Table1!$B:$B,2700,Table1!$A:$A,$B13)*$D13^2+SUMIFS(Table1!$K:$K,Table1!$B:$B,2700,Table1!$A:$A,$B13)*$D13+SUMIFS(Table1!$L:$L,Table1!$B:$B,2700,Table1!$A:$A,$B13)) -> 9.8016373 | L13: =10^(SUMIFS(Table1!$C:$C,Table1!$B:$B,14300,Table1!$A:$A,$B13)+SUMIFS(Table1!$D:$D,Table1!$B:$B,14300,Table1!$A:$A,$B13)*LOG10($D13)+SUMIFS(Table1!$E:$E,Table1!$B:$B,14300,Table1!$A:$A,$B13)*LOG10($E13))*(SUMIFS(Table1!$F:$F,Table1!$B:$B,14300,Table1!$A:$A,$B13)*$D13^6+SUMIFS(Table1!$G:$G,Table1!$B:$B,14300,Table1!$A:$A,$B13)*$D13^5+SUMIFS(Table1!$H:$H,Table1!$B:$B,14300,Table1!$A:$A,$B13)*$D13^4+SUMIFS(Table1!$I:$I,Table1!$B:$B,14300,Table1!$A:$A,$B13)*$D13^3+SUMIFS(Table1!$J:$J,Table1!$B:$B,14300,Table1!$A:$A,$B13)*$D13^2+SUMIFS(Table1!$K:$K,Table1!$B:$B,14300,Table1!$A:$A,$B13)*$D13+SUMIFS(Table1!$L:$L,Table1!$B:$B,14300,Table1!$A:$A,$B13)) -> 10.566115 | M13: =((K13-J13)/2.1)*($C13-2.7)+K13 -> 10.500597 | N13: =((L13-K13)/11.6)*($C13-14.3)+L13 -> 9.897856 | O13: =(M13*(2.7-$C13)/2.1)+(N13*($C13-0.6)/2.1) -> 9.4788073 | P13: =IF(AND($C13>=0.208,$C13<=0.6),1/SQRT((0.6/$C13)^2*(1/(J13)^2-(0.6^2-($C13)^2)/(0.6^2*($D13)^2))),IF(AND($C13>0.6,$C13<=2.7),O13,IF($C13>2.7,N13,"Errado"))) -> 9.897856 | Q13: 380 | R13: =IF(AND($C13<0.6,$G13<508,$H13<508,$I13<=203.2),"Shallow","Typical") -> Typical | S13: =IF($B13="VCB",4,IF($B13="VCBB",10,IF($B13="HCB",10,0))) -> 10 | T13: =IF($B13="VCB",20,IF($B13="VCBB",24,IF($B13="HCB",22,0))) -> 24 | U13: =IF($G13<=1244.6,$G13,1244.6) -> 400 | V13: =(660.4+($U13-660.4)*($C13+$S13)/$T13)*(1/25.4) -> 19.951339 | W13: =IF($H13<=1244.6,$H13,1244.6) -> 750 | X13: =(660.4+($W13-660.4)*($C13+$S13)/$T13)*(1/25.4) -> 28.08126 | Y13: =IF($G13<508,IF($R13="Typical",20,0.03937*$G13),IF($G13<=660.4,0.03937*$G13,IF($G13<=1244.6,$V13,$V13))) -> 20 | Z13: =IF($H13<508,IF($R13="Typical",20,0.03937*$H13),IF($H13<=660.4,0.03937*$H13,IF($H13<=1244.6,IF($B13="VCB",0.03937*$H13,$X13),IF($B13="VCB",49,$X13)))) -> 28.08126 | AA13: =(Z13+Y13)/2 -> 24.04063 | AB13: =SUMIFS(Table7!C:C,Table7!A:A,"Typical",Table7!B:B,$B13)*$AA13^2+SUMIFS(Table7!D:D,Table7!A:A,"Typical",Table7!B:B,$B13)*$AA13+SUMIFS(Table7!E:E,Table7!A:A,"Typical",Table7!B:B,$B13) -> 1.0763017 | AC13: =1/(SUMIFS(Table7!C:C,Table7!A:A,"Shallow",Table7!B:B,$B13)*$AA13^2+SUMIFS(Table7!D:D,Table7!A:A,"Shallow",Table7!B:B,$B13)*$AA13+SUMIFS(Table7!E:E,Table7!A:A,"Shallow",Table7!B:B,$B13)) -> 1.0130677 | AD13: =IF(R13="Typical",AB13,AC13) -> 1.0763017 | AE13: =(12.552/50)*Q13*10^(SUMIFS(Table3!$B:$B,Table3!$A:$A,$B13)+SUMIFS(Table3!$C:$C,Table3!$A:$A,$B13)*LOG10($E13)+SUMIFS(Table3!$D:$D,Table3!$A:$A,$B13)*$J13/(SUMIFS(Table3!$E:$E,Table3!$A:$A,$B13)*$D13^7+SUMIFS(Table3!$F:$F,Table3!$A:$A,$B13)*$D13^6+SUMIFS(Table3!$G:$G,Table3!$A:$A,$B13)*$D13^5+SUMIFS(Table3!$H:$H,Table3!$A:$A,$B13)*$D13^4+SUMIFS(Table3!$I:$I,Table3!$A:$A,$B13)*$D13^3+SUMIFS(Table3!$J:$J,Table3!$A:$A,$B13)*$D13^2+SUMIFS(Table3!$K:$K,Table3!$A:$A,$B13)*$D13)+SUMIFS(Table3!$L:$L,Table3!$A:$A,$B13)*LOG10($D13)+SUMIFS(Table3!$M:$M,Table3!$A:$A,$B13)*LOG10($F13)+SUMIFS(Table3!$N:$N,Table3!$A:$A,$B13)*LOG10(P13)+LOG10(1/$AD13)) -> 17.085503 | AF13: =(12.552/50)*Q13*10^(SUMIFS(Table3!$B:$B,Table3!$A:$A,$B13)+SUMIFS(Table3!$C:$C,Table3!$A:$A,$B13)*LOG10($E13)+SUMIFS(Table3!$D:$D,Table3!$A:$A,$B13)*J13/(SUMIFS(Table3!$E:$E,Table3!$A:$A,$B13)*$D13^7+SUMIFS(Table3!$F:$F,Table3!$A:$A,$B13)*$D13^6+SUMIFS(Table3!$G:$G,Table3!$A:$A,$B13)*$D13^5+SUMIFS(Table3!$H:$H,Table3!$A:$A,$B13)*$D13^4+SUMIFS(Table3!$I:$I,Table3!$A:$A,$B13)*$D13^3+SUMIFS(Table3!$J:$J,Table3!$A:$A,$B13)*$D13^2+SUMIFS(Table3!$K:$K,Table3!$A:$A,$B13)*$D13)+SUMIFS(Table3!$L:$L,Table3!$A:$A,$B13)*LOG10($D13)+SUMIFS(Table3!$M:$M,Table3!$A:$A,$B13)*LOG10($F13)+SUMIFS(Table3!$N:$N,Table3!$A:$A,$B13)*LOG10(J13)+LOG10(1/$AD13)) -> 14.847383 | AG13: =(12.552/50)*Q13*10^(SUMIFS(Table4!$B:$B,Table4!$A:$A,$B13)+SUMIFS(Table4!$C:$C,Table4!$A:$A,$B13)*LOG10($E13)+SUMIFS(Table4!$D:$D,Table4!$A:$A,$B13)*K13/(SUMIFS(Table4!$E:$E,Table4!$A:$A,$B13)*$D13^7+SUMIFS(Table4!$F:$F,Table4!$A:$A,$B13)*$D13^6+SUMIFS(Table4!$G:$G,Table4!$A:$A,$B13)*$D13^5+SUMIFS(Table4!$H:$H,Table4!$A:$A,$B13)*$D13^4+SUMIFS(Table4!$I:$I,Table4!$A:$A,$B13)*$D13^3+SUMIFS(Table4!$J:$J,Table4!$A:$A,$B13)*$D13^2+SUMIFS(Table4!$K:$K,Table4!$A:$A,$B13)*$D13)+SUMIFS(Table4!$L:$L,Table4!$A:$A,$B13)*LOG10($D13)+SUMIFS(Table4!$M:$M,Table4!$A:$A,$B13)*LOG10($F13)+SUMIFS(Table4!$N:$N,Table4!$A:$A,$B13)*LOG10(K13)+LOG10(1/$AD13)) -> 26.335514 | AH13: =(12.552/50)*Q13*10^(SUMIFS(Table5!$B:$B,Table5!$A:$A,$B13)+SUMIFS(Table5!$C:$C,Table5!$A:$A,$B13)*LOG10($E13)+SUMIFS(Table5!$D:$D,Table5!$A:$A,$B13)*L13/(SUMIFS(Table5!$E:$E,Table5!$A:$A,$B13)*$D13^7+SUMIFS(Table5!$F:$F,Table5!$A:$A,$B13)*$D13^6+SUMIFS(Table5!$G:$G,Table5!$A:$A,$B13)*$D13^5+SUMIFS(Table5!$H:$H,Table5!$A:$A,$B13)*$D13^4+SUMIFS(Table5!$I:$I,Table5!$A:$A,$B13)*$D13^3+SUMIFS(Table5!$J:$J,Table5!$A:$A,$B13)*$D13^2+SUMIFS(Table5!$K:$K,Table5!$A:$A,$B13)*$D13)+SUMIFS(Table5!$L:$L,Table5!$A:$A,$B13)*LOG10($D13)+SUMIFS(Table5!$M:$M,Table5!$A:$A,$B13)*LOG10($F13)+SUMIFS(Table5!$N:$N,Table5!$A:$A,$B13)*LOG10(L13)+LOG10(1/$AD13)) -> 35.545858 | AI13: =((AG13-AF13)/2.1)*($C13-2.7)+AG13 -> 34.3225 | AJ13: =((AH13-AG13)/11.6)*($C13-14.3)+AH13 -> 27.494747 | AK13: =AI13*(2.7-$C13)/2.1+AJ13*($C13-0.6)/2.1 -> 22.747833 | AL13: =IF(AND($C13>=0.208,$C13<=0.6),AE13,IF($C13<=2.7,AK13,AJ13)) -> 27.494747 | AM13: =10^((SUMIFS(Table3!$B:$B,Table3!$A:$A,$B13)+SUMIFS(Table3!$C:$C,Table3!$A:$A,$B13)*LOG10($E13)+(SUMIFS(Table3!$D:$D,Table3!$A:$A,$B13)*$J13)/(SUMIFS(Table3!$E:$E,Table3!$A:$A,$B13)*$D13^7+SUMIFS(Table3!$F:$F,Table3!$A:$A,$B13)*$D13^6+SUMIFS(Table3!$G:$G,Table3!$A:$A,$B13)*$D13^5+SUMIFS(Table3!$H:$H,Table3!$A:$A,$B13)*$D13^4+SUMIFS(Table3!$I:$I,Table3!$A:$A,$B13)*$D13^3+SUMIFS(Table3!$J:$J,Table3!$A:$A,$B13)*$D13^2+SUMIFS(Table3!$K:$K,Table3!$A:$A,$B13)*$D13)+SUMIFS(Table3!$L:$L,Table3!$A:$A,$B13)*LOG10($D13)+SUMIFS(Table3!$N:$N,Table3!$A:$A,$B13)*LOG10(P13)+LOG10(1/$AD13)-LOG10(20/Q13))/-SUMIFS(Table3!$M:$M,Table3!$A:$A,$B13)) -> 1799.4555 | AN13: =10^((SUMIFS(Table3!$B:$B,Table3!$A:$A,$B13)+SUMIFS(Table3!$C:$C,Table3!$A:$A,$B13)*LOG10($E13)+(SUMIFS(Table3!$D:$D,Table3!$A:$A,$B13)*J13)/(SUMIFS(Table3!$E:$E,Table3!$A:$A,$B13)*$D13^7+SUMIFS(Table3!$F:$F,Table3!$A:$A,$B13)*$D13^6+SUMIFS(Table3!$G:$G,Table3!$A:$A,$B13)*$D13^5+SUMIFS(Table3!$H:$H,Table3!$A:$A,$B13)*$D13^4+SUMIFS(Table3!$I:$I,Table3!$A:$A,$B13)*$D13^3+SUMIFS(Table3!$J:$J,Table3!$A:$A,$B13)*$D13^2+SUMIFS(Table3!$K:$K,Table3!$A:$A,$B13)*$D13)+SUMIFS(Table3!$L:$L,Table3!$A:$A,$B13)*LOG10($D13)+SUMIFS(Table3!$N:$N,Table3!$A:$A,$B13)*LOG10(J13)+LOG10(1/$AD13)-LOG10(20/Q13))/-SUMIFS(Table3!$M:$M,Table3!$A:$A,$B13)) -> 1665.0722 | AO13: =10^((SUMIFS(Table4!$B:$B,Table4!$A:$A,$B13)+SUMIFS(Table4!$C:$C,Table4!$A:$A,$B13)*LOG10($E13)+(SUMIFS(Table4!$D:$D,Table4!$A:$A,$B13)*K13)/(SUMIFS(Table4!$E:$E,Table4!$A:$A,$B13)*$D13^7+SUMIFS(Table4!$F:$F,Table4!$A:$A,$B13)*$D13^6+SUMIFS(Table4!$G:$G,Table4!$A:$A,$B13)*$D13^5+SUMIFS(Table4!$H:$H,Table4!$A:$A,$B13)*$D13^4+SUMIFS(Table4!$I:$I,Table4!$A:$A,$B13)*$D13^3+SUMIFS(Table4!$J:$J,Table4!$A:$A,$B13)*$D13^2+SUMIFS(Table4!$K:$K,Table4!$A:$A,$B13)*$D13)+SUMIFS(Table4!$L:$L,Table4!$A:$A,$B13)*LOG10($D13)+SUMIFS(Table4!$N:$N,Table4!$A:$A,$B13)*LOG10(K13)+LOG10(1/$AD13)-LOG10(20/Q13))/-SUMIFS(Table4!$M:$M,Table4!$A:$A,$B13)) -> 2367.6721 | AP13: =10^((SUMIFS(Table5!$B:$B,Table5!$A:$A,$B13)+SUMIFS(Table5!$C:$C,Table5!$A:$A,$B13)*LOG10($E13)+(SUMIFS(Table5!$D:$D,Table5!$A:$A,$B13)*L13)/(SUMIFS(Table5!$E:$E,Table5!$A:$A,$B13)*$D13^7+SUMIFS(Table5!$F:$F,Table5!$A:$A,$B13)*$D13^6+SUMIFS(Table5!$G:$G,Table5!$A:$A,$B13)*$D13^5+SUMIFS(Table5!$H:$H,Table5!$A:$A,$B13)*$D13^4+SUMIFS(Table5!$I:$I,Table5!$A:$A,$B13)*$D13^3+SUMIFS(Table5!$J:$J,Table5!$A:$A,$B13)*$D13^2+SUMIFS(Table5!$K:$K,Table5!$A:$A,$B13)*$D13)+SUMIFS(Table5!$L:$L,Table5!$A:$A,$B13)*LOG10($D13)+SUMIFS(Table5!$N:$N,Table5!$A:$A,$B13)*LOG10(L13)+LOG10(1/$AD13)-LOG10(20/Q13))/-SUMIFS(Table5!$M:$M,Table5!$A:$A,$B13)) -> 2937.6719 | AQ13: =((AO13-AN13)/2.1)*($C13-2.7)+AO13 -> 2856.1464 | AR13: =((AP13-AO13)/11.6)*($C13-14.3)+AP13 -> 2439.4135 | AS13: =(AQ13*(2.7-$C13)/2.1)+(AR13*($C13-0.6)/2.1) -> 2149.6849 | AT13: =IF(AND($C13>=0.208,$C13<=0.6),AM13,IF($C13<=2.7,AS13,AR13)) -> 2439.4135 | AU13: =SUMIFS(Table2!$B:$B,Table2!$A:$A,$B13)*$C13^6+SUMIFS(Table2!$C:$C,Table2!$A:$A,$B13)*$C13^5+SUMIFS(Table2!$D:$D,Table2!$A:$A,$B13)*$C13^4+SUMIFS(Table2!$E:$E,Table2!$A:$A,$B13)*$C13^3+SUMIFS(Table2!$F:$F,Table2!$A:$A,$B13)*$C13^2+SUMIFS(Table2!$G:$G,Table2!$A:$A,$B13)*$C13+SUMIFS(Table2!$H:$H,Table2!$A:$A,$B13) -> 0.043272312 | AV13: =1-0.5*AU13 -> 0.97836384 | AW13: =J13*$AV13 -> 8.605966 | AX13: =K13*$AV13 -> 9.5895675 | AY13: =L13*$AV13 -> 10.337505 | AZ13: =((AX13-AW13)/2.1)*($C13-2.7)+AX13 -> 10.273405 | BA13: =((AY13-AX13)/11.6)*($C13-14.3)+AY13 -> 9.6837045 | BB13: =(AZ13*(2.7-$C13)/2.1)+(BA13*($C13-0.6)/2.1) -> 9.2737224 | BC13: =IF(AND($C13>=0.208,$C13<=0.6),1/SQRT((0.6/$C13)^2*(1/(J13)^2-(0.6^2-($C13)^2)/(0.6^2*($D13)^2)))*AV13,IF(AND($C13>0.6,$C13<=2.7),BB13,IF($C13>2.7,BA13,"Erro"))) -> 9.6837045 | BD13: 380 | BE13: =(12.552/50)*BD13*10^(SUMIFS(Table3!$B:$B,Table3!$A:$A,$B13)+SUMIFS(Table3!$C:$C,Table3!$A:$A,$B13)*LOG10($E13)+SUMIFS(Table3!$D:$D,Table3!$A:$A,$B13)*$J13/(SUMIFS(Table3!$E:$E,Table3!$A:$A,$B13)*$D13^7+SUMIFS(Table3!$F:$F,Table3!$A:$A,$B13)*$D13^6+SUMIFS(Table3!$G:$G,Table3!$A:$A,$B13)*$D13^5+SUMIFS(Table3!$H:$H,Table3!$A:$A,$B13)*$D13^4+SUMIFS(Table3!$I:$I,Table3!$A:$A,$B13)*$D13^3+SUMIFS(Table3!$J:$J,Table3!$A:$A,$B13)*$D13^2+SUMIFS(Table3!$K:$K,Table3!$A:$A,$B13)*$D13)+SUMIFS(Table3!$L:$L,Table3!$A:$A,$B13)*LOG10($D13)+SUMIFS(Table3!$M:$M,Table3!$A:$A,$B13)*LOG10($F13)+SUMIFS(Table3!$N:$N,Table3!$A:$A,$B13)*LOG10(BC13)+LOG10(1/$AD13)) -> 16.646512 | BF13: =(12.552/50)*BD13*10^(SUMIFS(Table3!$B:$B,Table3!$A:$A,$B13)+SUMIFS(Table3!$C:$C,Table3!$A:$A,$B13)*LOG10($E13)+SUMIFS(Table3!$D:$D,Table3!$A:$A,$B13)*AW13/(SUMIFS(Table3!$E:$E,Table3!$A:$A,$B13)*$D13^7+SUMIFS(Table3!$F:$F,Table3!$A:$A,$B13)*$D13^6+SUMIFS(Table3!$G:$G,Table3!$A:$A,$B13)*$D13^5+SUMIFS(Table3!$H:$H,Table3!$A:$A,$B13)*$D13^4+SUMIFS(Table3!$I:$I,Table3!$A:$A,$B13)*$D13^3+SUMIFS(Table3!$J:$J,Table3!$A:$A,$B13)*$D13^2+SUMIFS(Table3!$K:$K,Table3!$A:$A,$B13)*$D13)+SUMIFS(Table3!$L:$L,Table3!$A:$A,$B13)*LOG10($D13)+SUMIFS(Table3!$M:$M,Table3!$A:$A,$B13)*LOG10($F13)+SUMIFS(Table3!$N:$N,Table3!$A:$A,$B13)*LOG10(AW13)+LOG10(1/$AD13)) -> 14.517368 | BG13: =(12.552/50)*BD13*10^(SUMIFS(Table4!$B:$B,Table4!$A:$A,$B13)+SUMIFS(Table4!$C:$C,Table4!$A:$A,$B13)*LOG10($E13)+SUMIFS(Table4!$D:$D,Table4!$A:$A,$B13)*AX13/(SUMIFS(Table4!$E:$E,Table4!$A:$A,$B13)*$D13^7+SUMIFS(Table4!$F:$F,Table4!$A:$A,$B13)*$D13^6+SUMIFS(Table4!$G:$G,Table4!$A:$A,$B13)*$D13^5+SUMIFS(Table4!$H:$H,Table4!$A:$A,$B13)*$D13^4+SUMIFS(Table4!$I:$I,Table4!$A:$A,$B13)*$D13^3+SUMIFS(Table4!$J:$J,Table4!$A:$A,$B13)*$D13^2+SUMIFS(Table4!$K:$K,Table4!$A:$A,$B13)*$D13)+SUMIFS(Table4!$L:$L,Table4!$A:$A,$B13)*LOG10($D13)+SUMIFS(Table4!$M:$M,Table4!$A:$A,$B13)*LOG10($F13)+SUMIFS(Table4!$N:$N,Table4!$A:$A,$B13)*LOG10(AX13)+LOG10(1/$AD13)) -> 26.616291 | BH13: =(12.552/50)*BD13*10^(SUMIFS(Table5!$B:$B,Table5!$A:$A,$B13)+SUMIFS(Table5!$C:$C,Table5!$A:$A,$B13)*LOG10($E13)+SUMIFS(Table5!$D:$D,Table5!$A:$A,$B13)*AY13/(SUMIFS(Table5!$E:$E,Table5!$A:$A,$B13)*$D13^7+SUMIFS(Table5!$F:$F,Table5!$A:$A,$B13)*$D13^6+SUMIFS(Table5!$G:$G,Table5!$A:$A,$B13)*$D13^5+SUMIFS(Table5!$H:$H,Table5!$A:$A,$B13)*$D13^4+SUMIFS(Table5!$I:$I,Table5!$A:$A,$B13)*$D13^3+SUMIFS(Table5!$J:$J,Table5!$A:$A,$B13)*$D13^2+SUMIFS(Table5!$K:$K,Table5!$A:$A,$B13)*$D13)+SUMIFS(Table5!$L:$L,Table5!$A:$A,$B13)*LOG10($D13)+SUMIFS(Table5!$M:$M,Table5!$A:$A,$B13)*LOG10($F13)+SUMIFS(Table5!$N:$N,Table5!$A:$A,$B13)*LOG10(AY13)+LOG10(1/$AD13)) -> 35.771615 | BI13: =((BG13-BF13)/2.1)*($C13-2.7)+BG13 -> 35.027924 | BJ13: =((BH13-BG13)/11.6)*($C13-14.3)+BH13 -> 27.768599 | BK13: =BI13*(2.7-$C13)/2.1+BJ13*($C13-0.6)/2.1 -> 22.721641 | BL13: =IF(AND($C13>=0.208,$C13<=0.6),BE13,IF($C13<=2.7,BK13,BJ13)) -> 27.768599 | BM13: =10^((SUMIFS(Table3!$B:$B,Table3!$A:$A,$B13)+SUMIFS(Table3!$C:$C,Table3!$A:$A,$B13)*LOG10($E13)+(SUMIFS(Table3!$D:$D,Table3!$A:$A,$B13)*$J13)/(SUMIFS(Table3!$E:$E,Table3!$A:$A,$B13)*$D13^7+SUMIFS(Table3!$F:$F,Table3!$A:$A,$B13)*$D13^6+SUMIFS(Table3!$G:$G,Table3!$A:$A,$B13)*$D13^5+SUMIFS(Table3!$H:$H,Table3!$A:$A,$B13)*$D13^4+SUMIFS(Table3!$I:$I,Table3!$A:$A,$B13)*$D13^3+SUMIFS(Table3!$J:$J,Table3!$A:$A,$B13)*$D13^2+SUMIFS(Table3!$K:$K,Table3!$A:$A,$B13)*$D13)+SUMIFS(Table3!$L:$L,Table3!$A:$A,$B13)*LOG10($D13)+SUMIFS(Table3!$N:$N,Table3!$A:$A,$B13)*LOG10(BC13)+LOG10(1/$AD13)-LOG10(20/BD13))/-SUMIFS(Table3!$M:$M,Table3!$A:$A,$B13)) -> 1773.7486 | BN13: =10^((SUMIFS(Table3!$B:$B,Table3!$A:$A,$B13)+SUMIFS(Table3!$C:$C,Table3!$A:$A,$B13)*LOG10($E13)+(SUMIFS(Table3!$D:$D,Table3!$A:$A,$B13)*AW13)/(SUMIFS(Table3!$E:$E,Table3!$A:$A,$B13)*$D13^7+SUMIFS(Table3!$F:$F,Table3!$A:$A,$B13)*$D13^6+SUMIFS(Table3!$G:$G,Table3!$A:$A,$B13)*$D13^5+SUMIFS(Table3!$H:$H,Table3!$A:$A,$B13)*$D13^4+SUMIFS(Table3!$I:$I,Table3!$A:$A,$B13)*$D13^3+SUMIFS(Table3!$J:$J,Table3!$A:$A,$B13)*$D13^2+SUMIFS(Table3!$K:$K,Table3!$A:$A,$B13)*$D13)+SUMIFS(Table3!$L:$L,Table3!$A:$A,$B13)*LOG10($D13)+SUMIFS(Table3!$N:$N,Table3!$A:$A,$B13)*LOG10(AW13)+LOG10(1/$AD13)-LOG10(20/BD13))/-SUMIFS(Table3!$M:$M,Table3!$A:$A,$B13)) -> 1644.5107 | BO13: =10^((SUMIFS(Table4!$B:$B,Table4!$A:$A,$B13)+SUMIFS(Table4!$C:$C,Table4!$A:$A,$B13)*LOG10($E13)+(SUMIFS(Table4!$D:$D,Table4!$A:$A,$B13)*AX13)/(SUMIFS(Table4!$E:$E,Table4!$A:$A,$B13)*$D13^7+SUMIFS(Table4!$F:$F,Table4!$A:$A,$B13)*$D13^6+SUMIFS(Table4!$G:$G,Table4!$A:$A,$B13)*$D13^5+SUMIFS(Table4!$H:$H,Table4!$A:$A,$B13)*$D13^4+SUMIFS(Table4!$I:$I,Table4!$A:$A,$B13)*$D13^3+SUMIFS(Table4!$J:$J,Table4!$A:$A,$B13)*$D13^2+SUMIFS(Table4!$K:$K,Table4!$A:$A,$B13)*$D13)+SUMIFS(Table4!$L:$L,Table4!$A:$A,$B13)*LOG10($D13)+SUMIFS(Table4!$N:$N,Table4!$A:$A,$B13)*LOG10(AX13)+LOG10(1/$AD13)-LOG10(20/BD13))/-SUMIFS(Table4!$M:$M,Table4!$A:$A,$B13)) -> 2382.1303 | BP13: =10^((SUMIFS(Table5!$B:$B,Table5!$A:$A,$B13)+SUMIFS(Table5!$C:$C,Table5!$A:$A,$B13)*LOG10($E13)+(SUMIFS(Table5!$D:$D,Table5!$A:$A,$B13)*AY13)/(SUMIFS(Table5!$E:$E,Table5!$A:$A,$B13)*$D13^7+SUMIFS(Table5!$F:$F,Table5!$A:$A,$B13)*$D13^6+SUMIFS(Table5!$G:$G,Table5!$A:$A,$B13)*$D13^5+SUMIFS(Table5!$H:$H,Table5!$A:$A,$B13)*$D13^4+SUMIFS(Table5!$I:$I,Table5!$A:$A,$B13)*$D13^3+SUMIFS(Table5!$J:$J,Table5!$A:$A,$B13)*$D13^2+SUMIFS(Table5!$K:$K,Table5!$A:$A,$B13)*$D13)+SUMIFS(Table5!$L:$L,Table5!$A:$A,$B13)*LOG10($D13)+SUMIFS(Table5!$N:$N,Table5!$A:$A,$B13)*LOG10(AY13)+LOG10(1/$AD13)-LOG10(20/BD13))/-SUMIFS(Table5!$M:$M,Table5!$A:$A,$B13)) -> 2948.7833 | BQ13: =((BO13-BN13)/2.1)*($C13-2.7)+BO13 -> 2894.9515 | BR13: =((BP13-BO13)/11.6)*($C13-14.3)+BP13 -> 2453.4504 | BS13: =(BQ13*(2.7-$C13)/2.1)+(BR13*($C13-0.6)/2.1) -> 2146.502 | BT13: =IF(AND($C13>=0.208,$C13<=0.6),BM13,IF($C13<=2.7,BS13,BR13)) -> 2453.4504
A14: PN-03A | B14: VCBB | C14: 0.48 | D14: 32.158 | E14: 32 | F14: 609.6 | G14: 800 | H14: 750 | I14: 500 | J14: =10^(SUMIFS(Table1!$C:$C,Table1!$B:$B,600,Table1!$A:$A,$B14)+SUMIFS(Table1!$D:$D,Table1!$B:$B,600,Table1!$A:$A,$B14)*LOG10($D14)+SUMIFS(Table1!$E:$E,Table1!$B:$B,600,Table1!$A:$A,$B14)*LOG10($E14))*(SUMIFS(Table1!$F:$F,Table1!$B:$B,600,Table1!$A:$A,$B14)*$D14^6+SUMIFS(Table1!$G:$G,Table1!$B:$B,600,Table1!$A:$A,$B14)*$D14^5+SUMIFS(Table1!$H:$H,Table1!$B:$B,600,Table1!$A:$A,$B14)*$D14^4+SUMIFS(Table1!$I:$I,Table1!$B:$B,600,Table1!$A:$A,$B14)*$D14^3+SUMIFS(Table1!$J:$J,Table1!$B:$B,600,Table1!$A:$A,$B14)*$D14^2+SUMIFS(Table1!$K:$K,Table1!$B:$B,600,Table1!$A:$A,$B14)*$D14+SUMIFS(Table1!$L:$L,Table1!$B:$B,600,Table1!$A:$A,$B14)) -> 27.165174 | K14: =10^(SUMIFS(Table1!$C:$C,Table1!$B:$B,2700,Table1!$A:$A,$B14)+SUMIFS(Table1!$D:$D,Table1!$B:$B,2700,Table1!$A:$A,$B14)*LOG10($D14)+SUMIFS(Table1!$E:$E,Table1!$B:$B,2700,Table1!$A:$A,$B14)*LOG10($E14))*(SUMIFS(Table1!$F:$F,Table1!$B:$B,2700,Table1!$A:$A,$B14)*$D14^6+SUMIFS(Table1!$G:$G,Table1!$B:$B,2700,Table1!$A:$A,$B14)*$D14^5+SUMIFS(Table1!$H:$H,Table1!$B:$B,2700,Table1!$A:$A,$B14)*$D14^4+SUMIFS(Table1!$I:$I,Table1!$B:$B,2700,Table1!$A:$A,$B14)*$D14^3+SUMIFS(Table1!$J:$J,Table1!$B:$B,2700,Table1!$A:$A,$B14)*$D14^2+SUMIFS(Table1!$K:$K,Table1!$B:$B,2700,Table1!$A:$A,$B14)*$D14+SUMIFS(Table1!$L:$L,Table1!$B:$B,2700,Table1!$A:$A,$B14)) -> 28.494532 | L14: =10^(SUMIFS(Table1!$C:$C,Table1!$B:$B,14300,Table1!$A:$A,$B14)+SUMIFS(Table1!$D:$D,Table1!$B:$B,14300,Table1!$A:$A,$B14)*LOG10($D14)+SUMIFS(Table1!$E:$E,Table1!$B:$B,14300,Table1!$A:$A,$B14)*LOG10($E14))*(SUMIFS(Table1!$F:$F,Table1!$B:$B,14300,Table1!$A:$A,$B14)*$D14^6+SUMIFS(Table1!$G:$G,Table1!$B:$B,14300,Table1!$A:$A,$B14)*$D14^5+SUMIFS(Table1!$H:$H,Table1!$B:$B,14300,Table1!$A:$A,$B14)*$D14^4+SUMIFS(Table1!$I:$I,Table1!$B:$B,14300,Table1!$A:$A,$B14)*$D14^3+SUMIFS(Table1!$J:$J,Table1!$B:$B,14300,Table1!$A:$A,$B14)*$D14^2+SUMIFS(Table1!$K:$K,Table1!$B:$B,14300,Table1!$A:$A,$B14)*$D14+SUMIFS(Table1!$L:$L,Table1!$B:$B,14300,Table1!$A:$A,$B14)) -> 31.127034 | M14: =((K14-J14)/2.1)*($C14-2.7)+K14 -> 27.089211 | N14: =((L14-K14)/11.6)*($C14-14.3)+L14 -> 27.990726 | O14: =(M14*(2.7-$C14)/2.1)+(N14*($C14-0.6)/2.1) -> 27.037695 | P14: =IF(AND($C14>=0.208,$C14<=0.6),1/SQRT((0.6/$C14)^2*(1/(J14)^2-(0.6^2-($C14)^2)/(0.6^2*($D14)^2))),IF(AND($C14>0.6,$C14<=2.7),O14,IF($C14>2.7,N14,"Errado"))) -> 25.210201 | Q14: 350 | R14: =IF(AND($C14<0.6,$G14<508,$H14<508,$I14<=203.2),"Shallow","Typical") -> Typical | S14: =IF($B14="VCB",4,IF($B14="VCBB",10,IF($B14="HCB",10,0))) -> 10 | T14: =IF($B14="VCB",20,IF($B14="VCBB",24,IF($B14="HCB",22,0))) -> 24 | U14: =IF($G14<=1244.6,$G14,1244.6) -> 800 | V14: =(660.4+($U14-660.4)*($C14+$S14)/$T14)*(1/25.4) -> 28.399948 | W14: =IF($H14<=1244.6,$H14,1244.6) -> 750 | X14: =(660.4+($W14-660.4)*($C14+$S14)/$T14)*(1/25.4) -> 27.540367 | Y14: =IF($G14<508,IF($R14="Typical",20,0.03937*$G14),IF($G14<=660.4,0.03937*$G14,IF($G14<=1244.6,$V14,$V14))) -> 28.399948 | Z14: =IF($H14<508,IF($R14="Typical",20,0.03937*$H14),IF($H14<=660.4,0.03937*$H14,IF($H14<=1244.6,IF($B14="VCB",0.03937*$H14,$X14),IF($B14="VCB",49,$X14)))) -> 27.540367 | AA14: =(Z14+Y14)/2 -> 27.970157 | AB14: =SUMIFS(Table7!C:C,Table7!A:A,"Typical",Table7!B:B,$B14)*$AA14^2+SUMIFS(Table7!D:D,Table7!A:A,"Typical",Table7!B:B,$B14)*$AA14+SUMIFS(Table7!E:E,Table7!A:A,"Typical",Table7!B:B,$B14) -> 1.1412237 | AC14: =1/(SUMIFS(Table7!C:C,Table7!A:A,"Shallow",Table7!B:B,$B14)*$AA14^2+SUMIFS(Table7!D:D,Table7!A:A,"Shallow",Table7!B:B,$B14)*$AA14+SUMIFS(Table7!E:E,Table7!A:A,"Shallow",Table7!B:B,$B14)) -> 1.1254609 | AD14: =IF(R14="Typical",AB14,AC14) -> 1.1412237 | AE14: =(12.552/50)*Q14*10^(SUMIFS(Table3!$B:$B,Table3!$A:$A,$B14)+SUMIFS(Table3!$C:$C,Table3!$A:$A,$B14)*LOG10($E14)+SUMIFS(Table3!$D:$D,Table3!$A:$A,$B14)*$J14/(SUMIFS(Table3!$E:$E,Table3!$A:$A,$B14)*$D14^7+SUMIFS(Table3!$F:$F,Table3!$A:$A,$B14)*$D14^6+SUMIFS(Table3!$G:$G,Table3!$A:$A,$B14)*$D14^5+SUMIFS(Table3!$H:$H,Table3!$A:$A,$B14)*$D14^4+SUMIFS(Table3!$I:$I,Table3!$A:$A,$B14)*$D14^3+SUMIFS(Table3!$J:$J,Table3!$A:$A,$B14)*$D14^2+SUMIFS(Table3!$K:$K,Table3!$A:$A,$B14)*$D14)+SUMIFS(Table3!$L:$L,Table3!$A:$A,$B14)*LOG10($D14)+SUMIFS(Table3!$M:$M,Table3!$A:$A,$B14)*LOG10($F14)+SUMIFS(Table3!$N:$N,Table3!$A:$A,$B14)*LOG10(P14)+LOG10(1/$AD14)) -> 64.802658 | AF14: =(12.552/50)*Q14*10^(SUMIFS(Table3!$B:$B,Table3!$A:$A,$B14)+SUMIFS(Table3!$C:$C,Table3!$A:$A,$B14)*LOG10($E14)+SUMIFS(Table3!$D:$D,Table3!$A:$A,$B14)*J14/(SUMIFS(Table3!$E:$E,Table3!$A:$A,$B14)*$D14^7+SUMIFS(Table3!$F:$F,Table3!$A:$A,$B14)*$D14^6+SUMIFS(Table3!$G:$G,Table3!$A:$A,$B14)*$D14^5+SUMIFS(Table3!$H:$H,Table3!$A:$A,$B14)*$D14^4+SUMIFS(Table3!$I:$I,Table3!$A:$A,$B14)*$D14^3+SUMIFS(Table3!$J:$J,Table3!$A:$A,$B14)*$D14^2+SUMIFS(Table3!$K:$K,Table3!$A:$A,$B14)*$D14)+SUMIFS(Table3!$L:$L,Table3!$A:$A,$B14)*LOG10($D14)+SUMIFS(Table3!$M:$M,Table3!$A:$A,$B14)*LOG10($F14)+SUMIFS(Table3!$N:$N,Table3!$A:$A,$B14)*LOG10(J14)+LOG10(1/$AD14)) -> 70.825863 | AG14: =(12.552/50)*Q14*10^(SUMIFS(Table4!$B:$B,Table4!$A:$A,$B14)+SUMIFS(Table4!$C:$C,Table4!$A:$A,$B14)*LOG10($E14)+SUMIFS(Table4!$D:$D,Table4!$A:$A,$B14)*K14/(SUMIFS(Table4!$E:$E,Table4!$A:$A,$B14)*$D14^7+SUMIFS(Table4!$F:$F,Table4!$A:$A,$B14)*$D14^6+SUMIFS(Table4!$G:$G,Table4!$A:$A,$B14)*$D14^5+SUMIFS(Table4!$H:$H,Table4!$A:$A,$B14)*$D14^4+SUMIFS(Table4!$I:$I,Table4!$A:$A,$B14)*$D14^3+SUMIFS(Table4!$J:$J,Table4!$A:$A,$B14)*$D14^2+SUMIFS(Table4!$K:$K,Table4!$A:$A,$B14)*$D14)+SUMIFS(Table4!$L:$L,Table4!$A:$A,$B14)*LOG10($D14)+SUMIFS(Table4!$M:$M,Table4!$A:$A,$B14)*LOG10($F14)+SUMIFS(Table4!$N:$N,Table4!$A:$A,$B14)*LOG10(K14)+LOG10(1/$AD14)) -> 117.99215 | AH14: =(12.552/50)*Q14*10^(SUMIFS(Table5!$B:$B,Table5!$A:$A,$B14)+SUMIFS(Table5!$C:$C,Table5!$A:$A,$B14)*LOG10($E14)+SUMIFS(Table5!$D:$D,Table5!$A:$A,$B14)*L14/(SUMIFS(Table5!$E:$E,Table5!$A:$A,$B14)*$D14^7+SUMIFS(Table5!$F:$F,Table5!$A:$A,$B14)*$D14^6+SUMIFS(Table5!$G:$G,Table5!$A:$A,$B14)*$D14^5+SUMIFS(Table5!$H:$H,Table5!$A:$A,$B14)*$D14^4+SUMIFS(Table5!$I:$I,Table5!$A:$A,$B14)*$D14^3+SUMIFS(Table5!$J:$J,Table5!$A:$A,$B14)*$D14^2+SUMIFS(Table5!$K:$K,Table5!$A:$A,$B14)*$D14)+SUMIFS(Table5!$L:$L,Table5!$A:$A,$B14)*LOG10($D14)+SUMIFS(Table5!$M:$M,Table5!$A:$A,$B14)*LOG10($F14)+SUMIFS(Table5!$N:$N,Table5!$A:$A,$B14)*LOG10(L14)+LOG10(1/$AD14)) -> 144.76883 | AI14: =((AG14-AF14)/2.1)*($C14-2.7)+AG14 -> 68.130647 | AJ14: =((AH14-AG14)/11.6)*($C14-14.3)+AH14 -> 112.86765 | AK14: =AI14*(2.7-$C14)/2.1+AJ14*($C14-0.6)/2.1 -> 65.574247 | AL14: =IF(AND($C14>=0.208,$C14<=0.6),AE14,IF($C14<=2.7,AK14,AJ14)) -> 64.802658 | AM14: =10^((SUMIFS(Table3!$B:$B,Table3!$A:$A,$B14)+SUMIFS(Table3!$C:$C,Table3!$A:$A,$B14)*LOG10($E14)+(SUMIFS(Table3!$D:$D,Table3!$A:$A,$B14)*$J14)/(SUMIFS(Table3!$E:$E,Table3!$A:$A,$B14)*$D14^7+SUMIFS(Table3!$F:$F,Table3!$A:$A,$B14)*$D14^6+SUMIFS(Table3!$G:$G,Table3!$A:$A,$B14)*$D14^5+SUMIFS(Table3!$H:$H,Table3!$A:$A,$B14)*$D14^4+SUMIFS(Table3!$I:$I,Table3!$A:$A,$B14)*$D14^3+SUMIFS(Table3!$J:$J,Table3!$A:$A,$B14)*$D14^2+SUMIFS(Table3!$K:$K,Table3!$A:$A,$B14)*$D14)+SUMIFS(Table3!$L:$L,Table3!$A:$A,$B14)*LOG10($D14)+SUMIFS(Table3!$N:$N,Table3!$A:$A,$B14)*LOG10(P14)+LOG10(1/$AD14)-LOG10(20/Q14))/-SUMIFS(Table3!$M:$M,Table3!$A:$A,$B14)) -> 2506.6683 | AN14: =10^((SUMIFS(Table3!$B:$B,Table3!$A:$A,$B14)+SUMIFS(Table3!$C:$C,Table3!$A:$A,$B14)*LOG10($E14)+(SUMIFS(Table3!$D:$D,Table3!$A:$A,$B14)*J14)/(SUMIFS(Table3!$E:$E,Table3!$A:$A,$B14)*$D14^7+SUMIFS(Table3!$F:$F,Table3!$A:$A,$B14)*$D14^6+SUMIFS(Table3!$G:$G,Table3!$A:$A,$B14)*$D14^5+SUMIFS(Table3!$H:$H,Table3!$A:$A,$B14)*$D14^4+SUMIFS(Table3!$I:$I,Table3!$A:$A,$B14)*$D14^3+SUMIFS(Table3!$J:$J,Table3!$A:$A,$B14)*$D14^2+SUMIFS(Table3!$K:$K,Table3!$A:$A,$B14)*$D14)+SUMIFS(Table3!$L:$L,Table3!$A:$A,$B14)*LOG10($D14)+SUMIFS(Table3!$N:$N,Table3!$A:$A,$B14)*LOG10(J14)+LOG10(1/$AD14)-LOG10(20/Q14))/-SUMIFS(Table3!$M:$M,Table3!$A:$A,$B14)) -> 2632.8984 | AO14: =10^((SUMIFS(Table4!$B:$B,Table4!$A:$A,$B14)+SUMIFS(Table4!$C:$C,Table4!$A:$A,$B14)*LOG10($E14)+(SUMIFS(Table4!$D:$D,Table4!$A:$A,$B14)*K14)/(SUMIFS(Table4!$E:$E,Table4!$A:$A,$B14)*$D14^7+SUMIFS(Table4!$F:$F,Table4!$A:$A,$B14)*$D14^6+SUMIFS(Table4!$G:$G,Table4!$A:$A,$B14)*$D14^5+SUMIFS(Table4!$H:$H,Table4!$A:$A,$B14)*$D14^4+SUMIFS(Table4!$I:$I,Table4!$A:$A,$B14)*$D14^3+SUMIFS(Table4!$J:$J,Table4!$A:$A,$B14)*$D14^2+SUMIFS(Table4!$K:$K,Table4!$A:$A,$B14)*$D14)+SUMIFS(Table4!$L:$L,Table4!$A:$A,$B14)*LOG10($D14)+SUMIFS(Table4!$N:$N,Table4!$A:$A,$B14)*LOG10(K14)+LOG10(1/$AD14)-LOG10(20/Q14))/-SUMIFS(Table4!$M:$M,Table4!$A:$A,$B14)) -> 3733.5107 | AP14: =10^((SUMIFS(Table5!$B:$B,Table5!$A:$A,$B14)+SUMIFS(Table5!$C:$C,Table5!$A:$A,$B14)*LOG10($E14)+(SUMIFS(Table5!$D:$D,Table5!$A:$A,$B14)*L14)/(SUMIFS(Table5!$E:$E,Table5!$A:$A,$B14)*$D14^7+SUMIFS(Table5!$F:$F,Table5!$A:$A,$B14)*$D14^6+SUMIFS(Table5!$G:$G,Table5!$A:$A,$B14)*$D14^5+SUMIFS(Table5!$H:$H,Table5!$A:$A,$B14)*$D14^4+SUMIFS(Table5!$I:$I,Table5!$A:$A,$B14)*$D14^3+SUMIFS(Table5!$J:$J,Table5!$A:$A,$B14)*$D14^2+SUMIFS(Table5!$K:$K,Table5!$A:$A,$B14)*$D14)+SUMIFS(Table5!$L:$L,Table5!$A:$A,$B14)*LOG10($D14)+SUMIFS(Table5!$N:$N,Table5!$A:$A,$B14)*LOG10(L14)+LOG10(1/$AD14)-LOG10(20/Q14))/-SUMIFS(Table5!$M:$M,Table5!$A:$A,$B14)) -> 4524.6905 | AQ14: =((AO14-AN14)/2.1)*($C14-2.7)+AO14 -> 2570.0063 | AR14: =((AP14-AO14)/11.6)*($C14-14.3)+AP14 -> 3582.0953 | AS14: =(AQ14*(2.7-$C14)/2.1)+(AR14*($C14-0.6)/2.1) -> 2512.1726 | AT14: =IF(AND($C14>=0.208,$C14<=0.6),AM14,IF($C14<=2.7,AS14,AR14)) -> 2506.6683 | AU14: =SUMIFS(Table2!$B:$B,Table2!$A:$A,$B14)*$C14^6+SUMIFS(Table2!$C:$C,Table2!$A:$A,$B14)*$C14^5+SUMIFS(Table2!$D:$D,Table2!$A:$A,$B14)*$C14^4+SUMIFS(Table2!$E:$E,Table2!$A:$A,$B14)*$C14^3+SUMIFS(Table2!$F:$F,Table2!$A:$A,$B14)*$C14^2+SUMIFS(Table2!$G:$G,Table2!$A:$A,$B14)*$C14+SUMIFS(Table2!$H:$H,Table2!$A:$A,$B14) -> 0.23674766 | AV14: =1-0.5*AU14 -> 0.88162617 | AW14: =J14*$AV14 -> 23.949528 | AX14: =K14*$AV14 -> 25.121525 | AY14: =L14*$AV14 -> 27.442408 | AZ14: =((AX14-AW14)/2.1)*($C14-2.7)+AX14 -> 23.882557 | BA14: =((AY14-AX14)/11.6)*($C14-14.3)+AY14 -> 24.677356 | BB14: =(AZ14*(2.7-$C14)/2.1)+(BA14*($C14-0.6)/2.1) -> 23.83714 | BC14: =IF(AND($C14>=0.208,$C14<=0.6),1/SQRT((0.6/$C14)^2*(1/(J14)^2-(0.6^2-($C14)^2)/(0.6^2*($D14)^2)))*AV14,IF(AND($C14>0.6,$C14<=2.7),BB14,IF($C14>2.7,BA14,"Erro"))) -> 22.225973 | BD14: 350 | BE14: =(12.552/50)*BD14*10^(SUMIFS(Table3!$B:$B,Table3!$A:$A,$B14)+SUMIFS(Table3!$C:$C,Table3!$A:$A,$B14)*LOG10($E14)+SUMIFS(Table3!$D:$D,Table3!$A:$A,$B14)*$J14/(SUMIFS(Table3!$E:$E,Table3!$A:$A,$B14)*$D14^7+SUMIFS(Table3!$F:$F,Table3!$A:$A,$B14)*$D14^6+SUMIFS(Table3!$G:$G,Table3!$A:$A,$B14)*$D14^5+SUMIFS(Table3!$H:$H,Table3!$A:$A,$B14)*$D14^4+SUMIFS(Table3!$I:$I,Table3!$A:$A,$B14)*$D14^3+SUMIFS(Table3!$J:$J,Table3!$A:$A,$B14)*$D14^2+SUMIFS(Table3!$K:$K,Table3!$A:$A,$B14)*$D14)+SUMIFS(Table3!$L:$L,Table3!$A:$A,$B14)*LOG10($D14)+SUMIFS(Table3!$M:$M,Table3!$A:$A,$B14)*LOG10($F14)+SUMIFS(Table3!$N:$N,Table3!$A:$A,$B14)*LOG10(BC14)+LOG10(1/$AD14)) -> 55.780364 | BF14: =(12.552/50)*BD14*10^(SUMIFS(Table3!$B:$B,Table3!$A:$A,$B14)+SUMIFS(Table3!$C:$C,Table3!$A:$A,$B14)*LOG10($E14)+SUMIFS(Table3!$D:$D,Table3!$A:$A,$B14)*AW14/(SUMIFS(Table3!$E:$E,Table3!$A:$A,$B14)*$D14^7+SUMIFS(Table3!$F:$F,Table3!$A:$A,$B14)*$D14^6+SUMIFS(Table3!$G:$G,Table3!$A:$A,$B14)*$D14^5+SUMIFS(Table3!$H:$H,Table3!$A:$A,$B14)*$D14^4+SUMIFS(Table3!$I:$I,Table3!$A:$A,$B14)*$D14^3+SUMIFS(Table3!$J:$J,Table3!$A:$A,$B14)*$D14^2+SUMIFS(Table3!$K:$K,Table3!$A:$A,$B14)*$D14)+SUMIFS(Table3!$L:$L,Table3!$A:$A,$B14)*LOG10($D14)+SUMIFS(Table3!$M:$M,Table3!$A:$A,$B14)*LOG10($F14)+SUMIFS(Table3!$N:$N,Table3!$A:$A,$B14)*LOG10(AW14)+LOG10(1/$AD14)) -> 62.206055 | BG14: =(12.552/50)*BD14*10^(SUMIFS(Table4!$B:$B,Table4!$A:$A,$B14)+SUMIFS(Table4!$C:$C,Table4!$A:$A,$B14)*LOG10($E14)+SUMIFS(Table4!$D:$D,Table4!$A:$A,$B14)*AX14/(SUMIFS(Table4!$E:$E,Table4!$A:$A,$B14)*$D14^7+SUMIFS(Table4!$F:$F,Table4!$A:$A,$B14)*$D14^6+SUMIFS(Table4!$G:$G,Table4!$A:$A,$B14)*$D14^5+SUMIFS(Table4!$H:$H,Table4!$A:$A,$B14)*$D14^4+SUMIFS(Table4!$I:$I,Table4!$A:$A,$B14)*$D14^3+SUMIFS(Table4!$J:$J,Table4!$A:$A,$B14)*$D14^2+SUMIFS(Table4!$K:$K,Table4!$A:$A,$B14)*$D14)+SUMIFS(Table4!$L:$L,Table4!$A:$A,$B14)*LOG10($D14)+SUMIFS(Table4!$M:$M,Table4!$A:$A,$B14)*LOG10($F14)+SUMIFS(Table4!$N:$N,Table4!$A:$A,$B14)*LOG10(AX14)+LOG10(1/$AD14)) -> 124.39741 | BH14: =(12.552/50)*BD14*10^(SUMIFS(Table5!$B:$B,Table5!$A:$A,$B14)+SUMIFS(Table5!$C:$C,Table5!$A:$A,$B14)*LOG10($E14)+SUMIFS(Table5!$D:$D,Table5!$A:$A,$B14)*AY14/(SUMIFS(Table5!$E:$E,Table5!$A:$A,$B14)*$D14^7+SUMIFS(Table5!$F:$F,Table5!$A:$A,$B14)*$D14^6+SUMIFS(Table5!$G:$G,Table5!$A:$A,$B14)*$D14^5+SUMIFS(Table5!$H:$H,Table5!$A:$A,$B14)*$D14^4+SUMIFS(Table5!$I:$I,Table5!$A:$A,$B14)*$D14^3+SUMIFS(Table5!$J:$J,Table5!$A:$A,$B14)*$D14^2+SUMIFS(Table5!$K:$K,Table5!$A:$A,$B14)*$D14)+SUMIFS(Table5!$L:$L,Table5!$A:$A,$B14)*LOG10($D14)+SUMIFS(Table5!$M:$M,Table5!$A:$A,$B14)*LOG10($F14)+SUMIFS(Table5!$N:$N,Table5!$A:$A,$B14)*LOG10(AY14)+LOG10(1/$AD14)) -> 149.41623 | BI14: =((BG14-BF14)/2.1)*($C14-2.7)+BG14 -> 58.652264 | BJ14: =((BH14-BG14)/11.6)*($C14-14.3)+BH14 -> 119.60932 | BK14: =BI14*(2.7-$C14)/2.1+BJ14*($C14-0.6)/2.1 -> 55.169003 | BL14: =IF(AND($C14>=0.208,$C14<=0.6),BE14,IF($C14<=2.7,BK14,BJ14)) -> 55.780364 | BM14: =10^((SUMIFS(Table3!$B:$B,Table3!$A:$A,$B14)+SUMIFS(Table3!$C:$C,Table3!$A:$A,$B14)*LOG10($E14)+(SUMIFS(Table3!$D:$D,Table3!$A:$A,$B14)*$J14)/(SUMIFS(Table3!$E:$E,Table3!$A:$A,$B14)*$D14^7+SUMIFS(Table3!$F:$F,Table3!$A:$A,$B14)*$D14^6+SUMIFS(Table3!$G:$G,Table3!$A:$A,$B14)*$D14^5+SUMIFS(Table3!$H:$H,Table3!$A:$A,$B14)*$D14^4+SUMIFS(Table3!$I:$I,Table3!$A:$A,$B14)*$D14^3+SUMIFS(Table3!$J:$J,Table3!$A:$A,$B14)*$D14^2+SUMIFS(Table3!$K:$K,Table3!$A:$A,$B14)*$D14)+SUMIFS(Table3!$L:$L,Table3!$A:$A,$B14)*LOG10($D14)+SUMIFS(Table3!$N:$N,Table3!$A:$A,$B14)*LOG10(BC14)+LOG10(1/$AD14)-LOG10(20/BD14))/-SUMIFS(Table3!$M:$M,Table3!$A:$A,$B14)) -> 2307.2985 | BN14: =10^((SUMIFS(Table3!$B:$B,Table3!$A:$A,$B14)+SUMIFS(Table3!$C:$C,Table3!$A:$A,$B14)*LOG10($E14)+(SUMIFS(Table3!$D:$D,Table3!$A:$A,$B14)*AW14)/(SUMIFS(Table3!$E:$E,Table3!$A:$A,$B14)*$D14^7+SUMIFS(Table3!$F:$F,Table3!$A:$A,$B14)*$D14^6+SUMIFS(Table3!$G:$G,Table3!$A:$A,$B14)*$D14^5+SUMIFS(Table3!$H:$H,Table3!$A:$A,$B14)*$D14^4+SUMIFS(Table3!$I:$I,Table3!$A:$A,$B14)*$D14^3+SUMIFS(Table3!$J:$J,Table3!$A:$A,$B14)*$D14^2+SUMIFS(Table3!$K:$K,Table3!$A:$A,$B14)*$D14)+SUMIFS(Table3!$L:$L,Table3!$A:$A,$B14)*LOG10($D14)+SUMIFS(Table3!$N:$N,Table3!$A:$A,$B14)*LOG10(AW14)+LOG10(1/$AD14)-LOG10(20/BD14))/-SUMIFS(Table3!$M:$M,Table3!$A:$A,$B14)) -> 2450.6382 | BO14: =10^((SUMIFS(Table4!$B:$B,Table4!$A:$A,$B14)+SUMIFS(Table4!$C:$C,Table4!$A:$A,$B14)*LOG10($E14)+(SUMIFS(Table4!$D:$D,Table4!$A:$A,$B14)*AX14)/(SUMIFS(Table4!$E:$E,Table4!$A:$A,$B14)*$D14^7+SUMIFS(Table4!$F:$F,Table4!$A:$A,$B14)*$D14^6+SUMIFS(Table4!$G:$G,Table4!$A:$A,$B14)*$D14^5+SUMIFS(Table4!$H:$H,Table4!$A:$A,$B14)*$D14^4+SUMIFS(Table4!$I:$I,Table4!$A:$A,$B14)*$D14^3+SUMIFS(Table4!$J:$J,Table4!$A:$A,$B14)*$D14^2+SUMIFS(Table4!$K:$K,Table4!$A:$A,$B14)*$D14)+SUMIFS(Table4!$L:$L,Table4!$A:$A,$B14)*LOG10($D14)+SUMIFS(Table4!$N:$N,Table4!$A:$A,$B14)*LOG10(AX14)+LOG10(1/$AD14)-LOG10(20/BD14))/-SUMIFS(Table4!$M:$M,Table4!$A:$A,$B14)) -> 3848.5455 | BP14: =10^((SUMIFS(Table5!$B:$B,Table5!$A:$A,$B14)+SUMIFS(Table5!$C:$C,Table5!$A:$A,$B14)*LOG10($E14)+(SUMIFS(Table5!$D:$D,Table5!$A:$A,$B14)*AY14)/(SUMIFS(Table5!$E:$E,Table5!$A:$A,$B14)*$D14^7+SUMIFS(Table5!$F:$F,Table5!$A:$A,$B14)*$D14^6+SUMIFS(Table5!$G:$G,Table5!$A:$A,$B14)*$D14^5+SUMIFS(Table5!$H:$H,Table5!$A:$A,$B14)*$D14^4+SUMIFS(Table5!$I:$I,Table5!$A:$A,$B14)*$D14^3+SUMIFS(Table5!$J:$J,Table5!$A:$A,$B14)*$D14^2+SUMIFS(Table5!$K:$K,Table5!$A:$A,$B14)*$D14)+SUMIFS(Table5!$L:$L,Table5!$A:$A,$B14)*LOG10($D14)+SUMIFS(Table5!$N:$N,Table5!$A:$A,$B14)*LOG10(AY14)+LOG10(1/$AD14)-LOG10(20/BD14))/-SUMIFS(Table5!$M:$M,Table5!$A:$A,$B14)) -> 4610.752 | BQ14: =((BO14-BN14)/2.1)*($C14-2.7)+BO14 -> 2370.7578 | BR14: =((BP14-BO14)/11.6)*($C14-14.3)+BP14 -> 3702.6749 | BS14: =(BQ14*(2.7-$C14)/2.1)+(BR14*($C14-0.6)/2.1) -> 2294.6482 | BT14: =IF(AND($C14>=0.208,$C14<=0.6),BM14,IF($C14<=2.7,BS14,BR14)) -> 2307.2985
A15: PN-03B | B15: VCBB | C15: 0.48 | D15: 32.158 | E15: 32 | F15: 609.6 | G15: 800 | H15: 750 | I15: 500 | J15: =10^(SUMIFS(Table1!$C:$C,Table1!$B:$B,600,Table1!$A:$A,$B15)+SUMIFS(Table1!$D:$D,Table1!$B:$B,600,Table1!$A:$A,$B15)*LOG10($D15)+SUMIFS(Table1!$E:$E,Table1!$B:$B,600,Table1!$A:$A,$B15)*LOG10($E15))*(SUMIFS(Table1!$F:$F,Table1!$B:$B,600,Table1!$A:$A,$B15)*$D15^6+SUMIFS(Table1!$G:$G,Table1!$B:$B,600,Table1!$A:$A,$B15)*$D15^5+SUMIFS(Table1!$H:$H,Table1!$B:$B,600,Table1!$A:$A,$B15)*$D15^4+SUMIFS(Table1!$I:$I,Table1!$B:$B,600,Table1!$A:$A,$B15)*$D15^3+SUMIFS(Table1!$J:$J,Table1!$B:$B,600,Table1!$A:$A,$B15)*$D15^2+SUMIFS(Table1!$K:$K,Table1!$B:$B,600,Table1!$A:$A,$B15)*$D15+SUMIFS(Table1!$L:$L,Table1!$B:$B,600,Table1!$A:$A,$B15)) -> 27.165174 | K15: =10^(SUMIFS(Table1!$C:$C,Table1!$B:$B,2700,Table1!$A:$A,$B15)+SUMIFS(Table1!$D:$D,Table1!$B:$B,2700,Table1!$A:$A,$B15)*LOG10($D15)+SUMIFS(Table1!$E:$E,Table1!$B:$B,2700,Table1!$A:$A,$B15)*LOG10($E15))*(SUMIFS(Table1!$F:$F,Table1!$B:$B,2700,Table1!$A:$A,$B15)*$D15^6+SUMIFS(Table1!$G:$G,Table1!$B:$B,2700,Table1!$A:$A,$B15)*$D15^5+SUMIFS(Table1!$H:$H,Table1!$B:$B,2700,Table1!$A:$A,$B15)*$D15^4+SUMIFS(Table1!$I:$I,Table1!$B:$B,2700,Table1!$A:$A,$B15)*$D15^3+SUMIFS(Table1!$J:$J,Table1!$B:$B,2700,Table1!$A:$A,$B15)*$D15^2+SUMIFS(Table1!$K:$K,Table1!$B:$B,2700,Table1!$A:$A,$B15)*$D15+SUMIFS(Table1!$L:$L,Table1!$B:$B,2700,Table1!$A:$A,$B15)) -> 28.494532 | L15: =10^(SUMIFS(Table1!$C:$C,Table1!$B:$B,14300,Table1!$A:$A,$B15)+SUMIFS(Table1!$D:$D,Table1!$B:$B,14300,Table1!$A:$A,$B15)*LOG10($D15)+SUMIFS(Table1!$E:$E,Table1!$B:$B,14300,Table1!$A:$A,$B15)*LOG10($E15))*(SUMIFS(Table1!$F:$F,Table1!$B:$B,14300,Table1!$A:$A,$B15)*$D15^6+SUMIFS(Table1!$G:$G,Table1!$B:$B,14300,Table1!$A:$A,$B15)*$D15^5+SUMIFS(Table1!$H:$H,Table1!$B:$B,14300,Table1!$A:$A,$B15)*$D15^4+SUMIFS(Table1!$I:$I,Table1!$B:$B,14300,Table1!$A:$A,$B15)*$D15^3+SUMIFS(Table1!$J:$J,Table1!$B:$B,14300,Table1!$A:$A,$B15)*$D15^2+SUMIFS(Table1!$K:$K,Table1!$B:$B,14300,Table1!$A:$A,$B15)*$D15+SUMIFS(Table1!$L:$L,Table1!$B:$B,14300,Table1!$A:$A,$B15)) -> 31.127034 | M15: =((K15-J15)/2.1)*($C15-2.7)+K15 -> 27.089211 | N15: =((L15-K15)/11.6)*($C15-14.3)+L15 -> 27.990726 | O15: =(M15*(2.7-$C15)/2.1)+(N15*($C15-0.6)/2.1) -> 27.037695 | P15: =IF(AND($C15>=0.208,$C15<=0.6),1/SQRT((0.6/$C15)^2*(1/(J15)^2-(0.6^2-($C15)^2)/(0.6^2*($D15)^2))),IF(AND($C15>0.6,$C15<=2.7),O15,IF($C15>2.7,N15,"Errado"))) -> 25.210201 | Q15: 350 | R15: =IF(AND($C15<0.6,$G15<508,$H15<508,$I15<=203.2),"Shallow","Typical") -> Typical | S15: =IF($B15="VCB",4,IF($B15="VCBB",10,IF($B15="HCB",10,0))) -> 10 | T15: =IF($B15="VCB",20,IF($B15="VCBB",24,IF($B15="HCB",22,0))) -> 24 | U15: =IF($G15<=1244.6,$G15,1244.6) -> 800 | V15: =(660.4+($U15-660.4)*($C15+$S15)/$T15)*(1/25.4) -> 28.399948 | W15: =IF($H15<=1244.6,$H15,1244.6) -> 750 | X15: =(660.4+($W15-660.4)*($C15+$S15)/$T15)*(1/25.4) -> 27.540367 | Y15: =IF($G15<508,IF($R15="Typical",20,0.03937*$G15),IF($G15<=660.4,0.03937*$G15,IF($G15<=1244.6,$V15,$V15))) -> 28.399948 | Z15: =IF($H15<508,IF($R15="Typical",20,0.03937*$H15),IF($H15<=660.4,0.03937*$H15,IF($H15<=1244.6,IF($B15="VCB",0.03937*$H15,$X15),IF($B15="VCB",49,$X15)))) -> 27.540367 | AA15: =(Z15+Y15)/2 -> 27.970157 | AB15: =SUMIFS(Table7!C:C,Table7!A:A,"Typical",Table7!B:B,$B15)*$AA15^2+SUMIFS(Table7!D:D,Table7!A:A,"Typical",Table7!B:B,$B15)*$AA15+SUMIFS(Table7!E:E,Table7!A:A,"Typical",Table7!B:B,$B15) -> 1.1412237 | AC15: =1/(SUMIFS(Table7!C:C,Table7!A:A,"Shallow",Table7!B:B,$B15)*$AA15^2+SUMIFS(Table7!D:D,Table7!A:A,"Shallow",Table7!B:B,$B15)*$AA15+SUMIFS(Table7!E:E,Table7!A:A,"Shallow",Table7!B:B,$B15)) -> 1.1254609 | AD15: =IF(R15="Typical",AB15,AC15) -> 1.1412237 | AE15: =(12.552/50)*Q15*10^(SUMIFS(Table3!$B:$B,Table3!$A:$A,$B15)+SUMIFS(Table3!$C:$C,Table3!$A:$A,$B15)*LOG10($E15)+SUMIFS(Table3!$D:$D,Table3!$A:$A,$B15)*$J15/(SUMIFS(Table3!$E:$E,Table3!$A:$A,$B15)*$D15^7+SUMIFS(Table3!$F:$F,Table3!$A:$A,$B15)*$D15^6+SUMIFS(Table3!$G:$G,Table3!$A:$A,$B15)*$D15^5+SUMIFS(Table3!$H:$H,Table3!$A:$A,$B15)*$D15^4+SUMIFS(Table3!$I:$I,Table3!$A:$A,$B15)*$D15^3+SUMIFS(Table3!$J:$J,Table3!$A:$A,$B15)*$D15^2+SUMIFS(Table3!$K:$K,Table3!$A:$A,$B15)*$D15)+SUMIFS(Table3!$L:$L,Table3!$A:$A,$B15)*LOG10($D15)+SUMIFS(Table3!$M:$M,Table3!$A:$A,$B15)*LOG10($F15)+SUMIFS(Table3!$N:$N,Table3!$A:$A,$B15)*LOG10(P15)+LOG10(1/$AD15)) -> 64.802658 | AF15: =(12.552/50)*Q15*10^(SUMIFS(Table3!$B:$B,Table3!$A:$A,$B15)+SUMIFS(Table3!$C:$C,Table3!$A:$A,$B15)*LOG10($E15)+SUMIFS(Table3!$D:$D,Table3!$A:$A,$B15)*J15/(SUMIFS(Table3!$E:$E,Table3!$A:$A,$B15)*$D15^7+SUMIFS(Table3!$F:$F,Table3!$A:$A,$B15)*$D15^6+SUMIFS(Table3!$G:$G,Table3!$A:$A,$B15)*$D15^5+SUMIFS(Table3!$H:$H,Table3!$A:$A,$B15)*$D15^4+SUMIFS(Table3!$I:$I,Table3!$A:$A,$B15)*$D15^3+SUMIFS(Table3!$J:$J,Table3!$A:$A,$B15)*$D15^2+SUMIFS(Table3!$K:$K,Table3!$A:$A,$B15)*$D15)+SUMIFS(Table3!$L:$L,Table3!$A:$A,$B15)*LOG10($D15)+SUMIFS(Table3!$M:$M,Table3!$A:$A,$B15)*LOG10($F15)+SUMIFS(Table3!$N:$N,Table3!$A:$A,$B15)*LOG10(J15)+LOG10(1/$AD15)) -> 70.825863 | AG15: =(12.552/50)*Q15*10^(SUMIFS(Table4!$B:$B,Table4!$A:$A,$B15)+SUMIFS(Table4!$C:$C,Table4!$A:$A,$B15)*LOG10($E15)+SUMIFS(Table4!$D:$D,Table4!$A:$A,$B15)*K15/(SUMIFS(Table4!$E:$E,Table4!$A:$A,$B15)*$D15^7+SUMIFS(Table4!$F:$F,Table4!$A:$A,$B15)*$D15^6+SUMIFS(Table4!$G:$G,Table4!$A:$A,$B15)*$D15^5+SUMIFS(Table4!$H:$H,Table4!$A:$A,$B15)*$D15^4+SUMIFS(Table4!$I:$I,Table4!$A:$A,$B15)*$D15^3+SUMIFS(Table4!$J:$J,Table4!$A:$A,$B15)*$D15^2+SUMIFS(Table4!$K:$K,Table4!$A:$A,$B15)*$D15)+SUMIFS(Table4!$L:$L,Table4!$A:$A,$B15)*LOG10($D15)+SUMIFS(Table4!$M:$M,Table4!$A:$A,$B15)*LOG10($F15)+SUMIFS(Table4!$N:$N,Table4!$A:$A,$B15)*LOG10(K15)+LOG10(1/$AD15)) -> 117.99215 | AH15: =(12.552/50)*Q15*10^(SUMIFS(Table5!$B:$B,Table5!$A:$A,$B15)+SUMIFS(Table5!$C:$C,Table5!$A:$A,$B15)*LOG10($E15)+SUMIFS(Table5!$D:$D,Table5!$A:$A,$B15)*L15/(SUMIFS(Table5!$E:$E,Table5!$A:$A,$B15)*$D15^7+SUMIFS(Table5!$F:$F,Table5!$A:$A,$B15)*$D15^6+SUMIFS(Table5!$G:$G,Table5!$A:$A,$B15)*$D15^5+SUMIFS(Table5!$H:$H,Table5!$A:$A,$B15)*$D15^4+SUMIFS(Table5!$I:$I,Table5!$A:$A,$B15)*$D15^3+SUMIFS(Table5!$J:$J,Table5!$A:$A,$B15)*$D15^2+SUMIFS(Table5!$K:$K,Table5!$A:$A,$B15)*$D15)+SUMIFS(Table5!$L:$L,Table5!$A:$A,$B15)*LOG10($D15)+SUMIFS(Table5!$M:$M,Table5!$A:$A,$B15)*LOG10($F15)+SUMIFS(Table5!$N:$N,Table5!$A:$A,$B15)*LOG10(L15)+LOG10(1/$AD15)) -> 144.76883 | AI15: =((AG15-AF15)/2.1)*($C15-2.7)+AG15 -> 68.130647 | AJ15: =((AH15-AG15)/11.6)*($C15-14.3)+AH15 -> 112.86765 | AK15: =AI15*(2.7-$C15)/2.1+AJ15*($C15-0.6)/2.1 -> 65.574247 | AL15: =IF(AND($C15>=0.208,$C15<=0.6),AE15,IF($C15<=2.7,AK15,AJ15)) -> 64.802658 | AM15: =10^((SUMIFS(Table3!$B:$B,Table3!$A:$A,$B15)+SUMIFS(Table3!$C:$C,Table3!$A:$A,$B15)*LOG10($E15)+(SUMIFS(Table3!$D:$D,Table3!$A:$A,$B15)*$J15)/(SUMIFS(Table3!$E:$E,Table3!$A:$A,$B15)*$D15^7+SUMIFS(Table3!$F:$F,Table3!$A:$A,$B15)*$D15^6+SUMIFS(Table3!$G:$G,Table3!$A:$A,$B15)*$D15^5+SUMIFS(Table3!$H:$H,Table3!$A:$A,$B15)*$D15^4+SUMIFS(Table3!$I:$I,Table3!$A:$A,$B15)*$D15^3+SUMIFS(Table3!$J:$J,Table3!$A:$A,$B15)*$D15^2+SUMIFS(Table3!$K:$K,Table3!$A:$A,$B15)*$D15)+SUMIFS(Table3!$L:$L,Table3!$A:$A,$B15)*LOG10($D15)+SUMIFS(Table3!$N:$N,Table3!$A:$A,$B15)*LOG10(P15)+LOG10(1/$AD15)-LOG10(20/Q15))/-SUMIFS(Table3!$M:$M,Table3!$A:$A,$B15)) -> 2506.6683 | AN15: =10^((SUMIFS(Table3!$B:$B,Table3!$A:$A,$B15)+SUMIFS(Table3!$C:$C,Table3!$A:$A,$B15)*LOG10($E15)+(SUMIFS(Table3!$D:$D,Table3!$A:$A,$B15)*J15)/(SUMIFS(Table3!$E:$E,Table3!$A:$A,$B15)*$D15^7+SUMIFS(Table3!$F:$F,Table3!$A:$A,$B15)*$D15^6+SUMIFS(Table3!$G:$G,Table3!$A:$A,$B15)*$D15^5+SUMIFS(Table3!$H:$H,Table3!$A:$A,$B15)*$D15^4+SUMIFS(Table3!$I:$I,Table3!$A:$A,$B15)*$D15^3+SUMIFS(Table3!$J:$J,Table3!$A:$A,$B15)*$D15^2+SUMIFS(Table3!$K:$K,Table3!$A:$A,$B15)*$D15)+SUMIFS(Table3!$L:$L,Table3!$A:$A,$B15)*LOG10($D15)+SUMIFS(Table3!$N:$N,Table3!$A:$A,$B15)*LOG10(J15)+LOG10(1/$AD15)-LOG10(20/Q15))/-SUMIFS(Table3!$M:$M,Table3!$A:$A,$B15)) -> 2632.8984 | AO15: =10^((SUMIFS(Table4!$B:$B,Table4!$A:$A,$B15)+SUMIFS(Table4!$C:$C,Table4!$A:$A,$B15)*LOG10($E15)+(SUMIFS(Table4!$D:$D,Table4!$A:$A,$B15)*K15)/(SUMIFS(Table4!$E:$E,Table4!$A:$A,$B15)*$D15^7+SUMIFS(Table4!$F:$F,Table4!$A:$A,$B15)*$D15^6+SUMIFS(Table4!$G:$G,Table4!$A:$A,$B15)*$D15^5+SUMIFS(Table4!$H:$H,Table4!$A:$A,$B15)*$D15^4+SUMIFS(Table4!$I:$I,Table4!$A:$A,$B15)*$D15^3+SUMIFS(Table4!$J:$J,Table4!$A:$A,$B15)*$D15^2+SUMIFS(Table4!$K:$K,Table4!$A:$A,$B15)*$D15)+SUMIFS(Table4!$L:$L,Table4!$A:$A,$B15)*LOG10($D15)+SUMIFS(Table4!$N:$N,Table4!$A:$A,$B15)*LOG10(K15)+LOG10(1/$AD15)-LOG10(20/Q15))/-SUMIFS(Table4!$M:$M,Table4!$A:$A,$B15)) -> 3733.5107 | AP15: =10^((SUMIFS(Table5!$B:$B,Table5!$A:$A,$B15)+SUMIFS(Table5!$C:$C,Table5!$A:$A,$B15)*LOG10($E15)+(SUMIFS(Table5!$D:$D,Table5!$A:$A,$B15)*L15)/(SUMIFS(Table5!$E:$E,Table5!$A:$A,$B15)*$D15^7+SUMIFS(Table5!$F:$F,Table5!$A:$A,$B15)*$D15^6+SUMIFS(Table5!$G:$G,Table5!$A:$A,$B15)*$D15^5+SUMIFS(Table5!$H:$H,Table5!$A:$A,$B15)*$D15^4+SUMIFS(Table5!$I:$I,Table5!$A:$A,$B15)*$D15^3+SUMIFS(Table5!$J:$J,Table5!$A:$A,$B15)*$D15^2+SUMIFS(Table5!$K:$K,Table5!$A:$A,$B15)*$D15)+SUMIFS(Table5!$L:$L,Table5!$A:$A,$B15)*LOG10($D15)+SUMIFS(Table5!$N:$N,Table5!$A:$A,$B15)*LOG10(L15)+LOG10(1/$AD15)-LOG10(20/Q15))/-SUMIFS(Table5!$M:$M,Table5!$A:$A,$B15)) -> 4524.6905 | AQ15: =((AO15-AN15)/2.1)*($C15-2.7)+AO15 -> 2570.0063 | AR15: =((AP15-AO15)/11.6)*($C15-14.3)+AP15 -> 3582.0953 | AS15: =(AQ15*(2.7-$C15)/2.1)+(AR15*($C15-0.6)/2.1) -> 2512.1726 | AT15: =IF(AND($C15>=0.208,$C15<=0.6),AM15,IF($C15<=2.7,AS15,AR15)) -> 2506.6683 | AU15: =SUMIFS(Table2!$B:$B,Table2!$A:$A,$B15)*$C15^6+SUMIFS(Table2!$C:$C,Table2!$A:$A,$B15)*$C15^5+SUMIFS(Table2!$D:$D,Table2!$A:$A,$B15)*$C15^4+SUMIFS(Table2!$E:$E,Table2!$A:$A,$B15)*$C15^3+SUMIFS(Table2!$F:$F,Table2!$A:$A,$B15)*$C15^2+SUMIFS(Table2!$G:$G,Table2!$A:$A,$B15)*$C15+SUMIFS(Table2!$H:$H,Table2!$A:$A,$B15) -> 0.23674766 | AV15: =1-0.5*AU15 -> 0.88162617 | AW15: =J15*$AV15 -> 23.949528 | AX15: =K15*$AV15 -> 25.121525 | AY15: =L15*$AV15 -> 27.442408 | AZ15: =((AX15-AW15)/2.1)*($C15-2.7)+AX15 -> 23.882557 | BA15: =((AY15-AX15)/11.6)*($C15-14.3)+AY15 -> 24.677356 | BB15: =(AZ15*(2.7-$C15)/2.1)+(BA15*($C15-0.6)/2.1) -> 23.83714 | BC15: =IF(AND($C15>=0.208,$C15<=0.6),1/SQRT((0.6/$C15)^2*(1/(J15)^2-(0.6^2-($C15)^2)/(0.6^2*($D15)^2)))*AV15,IF(AND($C15>0.6,$C15<=2.7),BB15,IF($C15>2.7,BA15,"Erro"))) -> 22.225973 | BD15: 350 | BE15: =(12.552/50)*BD15*10^(SUMIFS(Table3!$B:$B,Table3!$A:$A,$B15)+SUMIFS(Table3!$C:$C,Table3!$A:$A,$B15)*LOG10($E15)+SUMIFS(Table3!$D:$D,Table3!$A:$A,$B15)*$J15/(SUMIFS(Table3!$E:$E,Table3!$A:$A,$B15)*$D15^7+SUMIFS(Table3!$F:$F,Table3!$A:$A,$B15)*$D15^6+SUMIFS(Table3!$G:$G,Table3!$A:$A,$B15)*$D15^5+SUMIFS(Table3!$H:$H,Table3!$A:$A,$B15)*$D15^4+SUMIFS(Table3!$I:$I,Table3!$A:$A,$B15)*$D15^3+SUMIFS(Table3!$J:$J,Table3!$A:$A,$B15)*$D15^2+SUMIFS(Table3!$K:$K,Table3!$A:$A,$B15)*$D15)+SUMIFS(Table3!$L:$L,Table3!$A:$A,$B15)*LOG10($D15)+SUMIFS(Table3!$M:$M,Table3!$A:$A,$B15)*LOG10($F15)+SUMIFS(Table3!$N:$N,Table3!$A:$A,$B15)*LOG10(BC15)+LOG10(1/$AD15)) -> 55.780364 | BF15: =(12.552/50)*BD15*10^(SUMIFS(Table3!$B:$B,Table3!$A:$A,$B15)+SUMIFS(Table3!$C:$C,Table3!$A:$A,$B15)*LOG10($E15)+SUMIFS(Table3!$D:$D,Table3!$A:$A,$B15)*AW15/(SUMIFS(Table3!$E:$E,Table3!$A:$A,$B15)*$D15^7+SUMIFS(Table3!$F:$F,Table3!$A:$A,$B15)*$D15^6+SUMIFS(Table3!$G:$G,Table3!$A:$A,$B15)*$D15^5+SUMIFS(Table3!$H:$H,Table3!$A:$A,$B15)*$D15^4+SUMIFS(Table3!$I:$I,Table3!$A:$A,$B15)*$D15^3+SUMIFS(Table3!$J:$J,Table3!$A:$A,$B15)*$D15^2+SUMIFS(Table3!$K:$K,Table3!$A:$A,$B15)*$D15)+SUMIFS(Table3!$L:$L,Table3!$A:$A,$B15)*LOG10($D15)+SUMIFS(Table3!$M:$M,Table3!$A:$A,$B15)*LOG10($F15)+SUMIFS(Table3!$N:$N,Table3!$A:$A,$B15)*LOG10(AW15)+LOG10(1/$AD15)) -> 62.206055 | BG15: =(12.552/50)*BD15*10^(SUMIFS(Table4!$B:$B,Table4!$A:$A,$B15)+SUMIFS(Table4!$C:$C,Table4!$A:$A,$B15)*LOG10($E15)+SUMIFS(Table4!$D:$D,Table4!$A:$A,$B15)*AX15/(SUMIFS(Table4!$E:$E,Table4!$A:$A,$B15)*$D15^7+SUMIFS(Table4!$F:$F,Table4!$A:$A,$B15)*$D15^6+SUMIFS(Table4!$G:$G,Table4!$A:$A,$B15)*$D15^5+SUMIFS(Table4!$H:$H,Table4!$A:$A,$B15)*$D15^4+SUMIFS(Table4!$I:$I,Table4!$A:$A,$B15)*$D15^3+SUMIFS(Table4!$J:$J,Table4!$A:$A,$B15)*$D15^2+SUMIFS(Table4!$K:$K,Table4!$A:$A,$B15)*$D15)+SUMIFS(Table4!$L:$L,Table4!$A:$A,$B15)*LOG10($D15)+SUMIFS(Table4!$M:$M,Table4!$A:$A,$B15)*LOG10($F15)+SUMIFS(Table4!$N:$N,Table4!$A:$A,$B15)*LOG10(AX15)+LOG10(1/$AD15)) -> 124.39741 | BH15: =(12.552/50)*BD15*10^(SUMIFS(Table5!$B:$B,Table5!$A:$A,$B15)+SUMIFS(Table5!$C:$C,Table5!$A:$A,$B15)*LOG10($E15)+SUMIFS(Table5!$D:$D,Table5!$A:$A,$B15)*AY15/(SUMIFS(Table5!$E:$E,Table5!$A:$A,$B15)*$D15^7+SUMIFS(Table5!$F:$F,Table5!$A:$A,$B15)*$D15^6+SUMIFS(Table5!$G:$G,Table5!$A:$A,$B15)*$D15^5+SUMIFS(Table5!$H:$H,Table5!$A:$A,$B15)*$D15^4+SUMIFS(Table5!$I:$I,Table5!$A:$A,$B15)*$D15^3+SUMIFS(Table5!$J:$J,Table5!$A:$A,$B15)*$D15^2+SUMIFS(Table5!$K:$K,Table5!$A:$A,$B15)*$D15)+SUMIFS(Table5!$L:$L,Table5!$A:$A,$B15)*LOG10($D15)+SUMIFS(Table5!$M:$M,Table5!$A:$A,$B15)*LOG10($F15)+SUMIFS(Table5!$N:$N,Table5!$A:$A,$B15)*LOG10(AY15)+LOG10(1/$AD15)) -> 149.41623 | BI15: =((BG15-BF15)/2.1)*($C15-2.7)+BG15 -> 58.652264 | BJ15: =((BH15-BG15)/11.6)*($C15-14.3)+BH15 -> 119.60932 | BK15: =BI15*(2.7-$C15)/2.1+BJ15*($C15-0.6)/2.1 -> 55.169003 | BL15: =IF(AND($C15>=0.208,$C15<=0.6),BE15,IF($C15<=2.7,BK15,BJ15)) -> 55.780364 | BM15: =10^((SUMIFS(Table3!$B:$B,Table3!$A:$A,$B15)+SUMIFS(Table3!$C:$C,Table3!$A:$A,$B15)*LOG10($E15)+(SUMIFS(Table3!$D:$D,Table3!$A:$A,$B15)*$J15)/(SUMIFS(Table3!$E:$E,Table3!$A:$A,$B15)*$D15^7+SUMIFS(Table3!$F:$F,Table3!$A:$A,$B15)*$D15^6+SUMIFS(Table3!$G:$G,Table3!$A:$A,$B15)*$D15^5+SUMIFS(Table3!$H:$H,Table3!$A:$A,$B15)*$D15^4+SUMIFS(Table3!$I:$I,Table3!$A:$A,$B15)*$D15^3+SUMIFS(Table3!$J:$J,Table3!$A:$A,$B15)*$D15^2+SUMIFS(Table3!$K:$K,Table3!$A:$A,$B15)*$D15)+SUMIFS(Table3!$L:$L,Table3!$A:$A,$B15)*LOG10($D15)+SUMIFS(Table3!$N:$N,Table3!$A:$A,$B15)*LOG10(BC15)+LOG10(1/$AD15)-LOG10(20/BD15))/-SUMIFS(Table3!$M:$M,Table3!$A:$A,$B15)) -> 2307.2985 | BN15: =10^((SUMIFS(Table3!$B:$B,Table3!$A:$A,$B15)+SUMIFS(Table3!$C:$C,Table3!$A:$A,$B15)*LOG10($E15)+(SUMIFS(Table3!$D:$D,Table3!$A:$A,$B15)*AW15)/(SUMIFS(Table3!$E:$E,Table3!$A:$A,$B15)*$D15^7+SUMIFS(Table3!$F:$F,Table3!$A:$A,$B15)*$D15^6+SUMIFS(Table3!$G:$G,Table3!$A:$A,$B15)*$D15^5+SUMIFS(Table3!$H:$H,Table3!$A:$A,$B15)*$D15^4+SUMIFS(Table3!$I:$I,Table3!$A:$A,$B15)*$D15^3+SUMIFS(Table3!$J:$J,Table3!$A:$A,$B15)*$D15^2+SUMIFS(Table3!$K:$K,Table3!$A:$A,$B15)*$D15)+SUMIFS(Table3!$L:$L,Table3!$A:$A,$B15)*LOG10($D15)+SUMIFS(Table3!$N:$N,Table3!$A:$A,$B15)*LOG10(AW15)+LOG10(1/$AD15)-LOG10(20/BD15))/-SUMIFS(Table3!$M:$M,Table3!$A:$A,$B15)) -> 2450.6382 | BO15: =10^((SUMIFS(Table4!$B:$B,Table4!$A:$A,$B15)+SUMIFS(Table4!$C:$C,Table4!$A:$A,$B15)*LOG10($E15)+(SUMIFS(Table4!$D:$D,Table4!$A:$A,$B15)*AX15)/(SUMIFS(Table4!$E:$E,Table4!$A:$A,$B15)*$D15^7+SUMIFS(Table4!$F:$F,Table4!$A:$A,$B15)*$D15^6+SUMIFS(Table4!$G:$G,Table4!$A:$A,$B15)*$D15^5+SUMIFS(Table4!$H:$H,Table4!$A:$A,$B15)*$D15^4+SUMIFS(Table4!$I:$I,Table4!$A:$A,$B15)*$D15^3+SUMIFS(Table4!$J:$J,Table4!$A:$A,$B15)*$D15^2+SUMIFS(Table4!$K:$K,Table4!$A:$A,$B15)*$D15)+SUMIFS(Table4!$L:$L,Table4!$A:$A,$B15)*LOG10($D15)+SUMIFS(Table4!$N:$N,Table4!$A:$A,$B15)*LOG10(AX15)+LOG10(1/$AD15)-LOG10(20/BD15))/-SUMIFS(Table4!$M:$M,Table4!$A:$A,$B15)) -> 3848.5455 | BP15: =10^((SUMIFS(Table5!$B:$B,Table5!$A:$A,$B15)+SUMIFS(Table5!$C:$C,Table5!$A:$A,$B15)*LOG10($E15)+(SUMIFS(Table5!$D:$D,Table5!$A:$A,$B15)*AY15)/(SUMIFS(Table5!$E:$E,Table5!$A:$A,$B15)*$D15^7+SUMIFS(Table5!$F:$F,Table5!$A:$A,$B15)*$D15^6+SUMIFS(Table5!$G:$G,Table5!$A:$A,$B15)*$D15^5+SUMIFS(Table5!$H:$H,Table5!$A:$A,$B15)*$D15^4+SUMIFS(Table5!$I:$I,Table5!$A:$A,$B15)*$D15^3+SUMIFS(Table5!$J:$J,Table5!$A:$A,$B15)*$D15^2+SUMIFS(Table5!$K:$K,Table5!$A:$A,$B15)*$D15)+SUMIFS(Table5!$L:$L,Table5!$A:$A,$B15)*LOG10($D15)+SUMIFS(Table5!$N:$N,Table5!$A:$A,$B15)*LOG10(AY15)+LOG10(1/$AD15)-LOG10(20/BD15))/-SUMIFS(Table5!$M:$M,Table5!$A:$A,$B15)) -> 4610.752 | BQ15: =((BO15-BN15)/2.1)*($C15-2.7)+BO15 -> 2370.7578 | BR15: =((BP15-BO15)/11.6)*($C15-14.3)+BP15 -> 3702.6749 | BS15: =(BQ15*(2.7-$C15)/2.1)+(BR15*($C15-0.6)/2.1) -> 2294.6482 | BT15: =IF(AND($C15>=0.208,$C15<=0.6),BM15,IF($C15<=2.7,BS15,BR15)) -> 2307.2985
A16: PN-04A | B16: VCBB | C16: 0.48 | D16: 30.253 | E16: 25 | F16: 457.2 | G16: 437 | H16: 215 | I16: 460 | J16: =10^(SUMIFS(Table1!$C:$C,Table1!$B:$B,600,Table1!$A:$A,$B16)+SUMIFS(Table1!$D:$D,Table1!$B:$B,600,Table1!$A:$A,$B16)*LOG10($D16)+SUMIFS(Table1!$E:$E,Table1!$B:$B,600,Table1!$A:$A,$B16)*LOG10($E16))*(SUMIFS(Table1!$F:$F,Table1!$B:$B,600,Table1!$A:$A,$B16)*$D16^6+SUMIFS(Table1!$G:$G,Table1!$B:$B,600,Table1!$A:$A,$B16)*$D16^5+SUMIFS(Table1!$H:$H,Table1!$B:$B,600,Table1!$A:$A,$B16)*$D16^4+SUMIFS(Table1!$I:$I,Table1!$B:$B,600,Table1!$A:$A,$B16)*$D16^3+SUMIFS(Table1!$J:$J,Table1!$B:$B,600,Table1!$A:$A,$B16)*$D16^2+SUMIFS(Table1!$K:$K,Table1!$B:$B,600,Table1!$A:$A,$B16)*$D16+SUMIFS(Table1!$L:$L,Table1!$B:$B,600,Table1!$A:$A,$B16)) -> 26.022752 | K16: =10^(SUMIFS(Table1!$C:$C,Table1!$B:$B,2700,Table1!$A:$A,$B16)+SUMIFS(Table1!$D:$D,Table1!$B:$B,2700,Table1!$A:$A,$B16)*LOG10($D16)+SUMIFS(Table1!$E:$E,Table1!$B:$B,2700,Table1!$A:$A,$B16)*LOG10($E16))*(SUMIFS(Table1!$F:$F,Table1!$B:$B,2700,Table1!$A:$A,$B16)*$D16^6+SUMIFS(Table1!$G:$G,Table1!$B:$B,2700,Table1!$A:$A,$B16)*$D16^5+SUMIFS(Table1!$H:$H,Table1!$B:$B,2700,Table1!$A:$A,$B16)*$D16^4+SUMIFS(Table1!$I:$I,Table1!$B:$B,2700,Table1!$A:$A,$B16)*$D16^3+SUMIFS(Table1!$J:$J,Table1!$B:$B,2700,Table1!$A:$A,$B16)*$D16^2+SUMIFS(Table1!$K:$K,Table1!$B:$B,2700,Table1!$A:$A,$B16)*$D16+SUMIFS(Table1!$L:$L,Table1!$B:$B,2700,Table1!$A:$A,$B16)) -> 26.933263 | L16: =10^(SUMIFS(Table1!$C:$C,Table1!$B:$B,14300,Table1!$A:$A,$B16)+SUMIFS(Table1!$D:$D,Table1!$B:$B,14300,Table1!$A:$A,$B16)*LOG10($D16)+SUMIFS(Table1!$E:$E,Table1!$B:$B,14300,Table1!$A:$A,$B16)*LOG10($E16))*(SUMIFS(Table1!$F:$F,Table1!$B:$B,14300,Table1!$A:$A,$B16)*$D16^6+SUMIFS(Table1!$G:$G,Table1!$B:$B,14300,Table1!$A:$A,$B16)*$D16^5+SUMIFS(Table1!$H:$H,Table1!$B:$B,14300,Table1!$A:$A,$B16)*$D16^4+SUMIFS(Table1!$I:$I,Table1!$B:$B,14300,Table1!$A:$A,$B16)*$D16^3+SUMIFS(Table1!$J:$J,Table1!$B:$B,14300,Table1!$A:$A,$B16)*$D16^2+SUMIFS(Table1!$K:$K,Table1!$B:$B,14300,Table1!$A:$A,$B16)*$D16+SUMIFS(Table1!$L:$L,Table1!$B:$B,14300,Table1!$A:$A,$B16)) -> 29.376452 | M16: =((K16-J16)/2.1)*($C16-2.7)+K16 -> 25.970723 | N16: =((L16-K16)/11.6)*($C16-14.3)+L16 -> 26.465687 | O16: =(M16*(2.7-$C16)/2.1)+(N16*($C16-0.6)/2.1) -> 25.942439 | P16: =IF(AND($C16>=0.208,$C16<=0.6),1/SQRT((0.6/$C16)^2*(1/(J16)^2-(0.6^2-($C16)^2)/(0.6^2*($D16)^2))),IF(AND($C16>0.6,$C16<=2.7),O16,IF($C16>2.7,N16,"Errado"))) -> 24.305371 | Q16: 125 | R16: =IF(AND($C16<0.6,$G16<508,$H16<508,$I16<=203.2),"Shallow","Typical") -> Typical | S16: =IF($B16="VCB",4,IF($B16="VCBB",10,IF($B16="HCB",10,0))) -> 10 | T16: =IF($B16="VCB",20,IF($B16="VCBB",24,IF($B16="HCB",22,0))) -> 24 | U16: =IF($G16<=1244.6,$G16,1244.6) -> 437 | V16: =(660.4+($U16-660.4)*($C16+$S16)/$T16)*(1/25.4) -> 22.159396 | W16: =IF($H16<=1244.6,$H16,1244.6) -> 215 | X16: =(660.4+($W16-660.4)*($C16+$S16)/$T16)*(1/25.4) -> 18.342861 | Y16: =IF($G16<508,IF($R16="Typical",20,0.03937*$G16),IF($G16<=660.4,0.03937*$G16,IF($G16<=1244.6,$V16,$V16))) -> 20 | Z16: =IF($H16<508,IF($R16="Typical",20,0.03937*$H16),IF($H16<=660.4,0.03937*$H16,IF($H16<=1244.6,IF($B16="VCB",0.03937*$H16,$X16),IF($B16="VCB",49,$X16)))) -> 20 | AA16: =(Z16+Y16)/2 -> 20 | AB16: =SUMIFS(Table7!C:C,Table7!A:A,"Typical",Table7!B:B,$B16)*$AA16^2+SUMIFS(Table7!D:D,Table7!A:A,"Typical",Table7!B:B,$B16)*$AA16+SUMIFS(Table7!E:E,Table7!A:A,"Typical",Table7!B:B,$B16) -> 0.99996 | AC16: =1/(SUMIFS(Table7!C:C,Table7!A:A,"Shallow",Table7!B:B,$B16)*$AA16^2+SUMIFS(Table7!D:D,Table7!A:A,"Shallow",Table7!B:B,$B16)*$AA16+SUMIFS(Table7!E:E,Table7!A:A,"Shallow",Table7!B:B,$B16)) -> 1.001001 | AD16: =IF(R16="Typical",AB16,AC16) -> 0.99996 | AE16: =(12.552/50)*Q16*10^(SUMIFS(Table3!$B:$B,Table3!$A:$A,$B16)+SUMIFS(Table3!$C:$C,Table3!$A:$A,$B16)*LOG10($E16)+SUMIFS(Table3!$D:$D,Table3!$A:$A,$B16)*$J16/(SUMIFS(Table3!$E:$E,Table3!$A:$A,$B16)*$D16^7+SUMIFS(Table3!$F:$F,Table3!$A:$A,$B16)*$D16^6+SUMIFS(Table3!$G:$G,Table3!$A:$A,$B16)*$D16^5+SUMIFS(Table3!$H:$H,Table3!$A:$A,$B16)*$D16^4+SUMIFS(Table3!$I:$I,Table3!$A:$A,$B16)*$D16^3+SUMIFS(Table3!$J:$J,Table3!$A:$A,$B16)*$D16^2+SUMIFS(Table3!$K:$K,Table3!$A:$A,$B16)*$D16)+SUMIFS(Table3!$L:$L,Table3!$A:$A,$B16)*LOG10($D16)+SUMIFS(Table3!$M:$M,Table3!$A:$A,$B16)*LOG10($F16)+SUMIFS(Table3!$N:$N,Table3!$A:$A,$B16)*LOG10(P16)+LOG10(1/$AD16)) -> 39.962615 | AF16: =(12.552/50)*Q16*10^(SUMIFS(Table3!$B:$B,Table3!$A:$A,$B16)+SUMIFS(Table3!$C:$C,Table3!$A:$A,$B16)*LOG10($E16)+SUMIFS(Table3!$D:$D,Table3!$A:$A,$B16)*J16/(SUMIFS(Table3!$E:$E,Table3!$A:$A,$B16)*$D16^7+SUMIFS(Table3!$F:$F,Table3!$A:$A,$B16)*$D16^6+SUMIFS(Table3!$G:$G,Table3!$A:$A,$B16)*$D16^5+SUMIFS(Table3!$H:$H,Table3!$A:$A,$B16)*$D16^4+SUMIFS(Table3!$I:$I,Table3!$A:$A,$B16)*$D16^3+SUMIFS(Table3!$J:$J,Table3!$A:$A,$B16)*$D16^2+SUMIFS(Table3!$K:$K,Table3!$A:$A,$B16)*$D16)+SUMIFS(Table3!$L:$L,Table3!$A:$A,$B16)*LOG10($D16)+SUMIFS(Table3!$M:$M,Table3!$A:$A,$B16)*LOG10($F16)+SUMIFS(Table3!$N:$N,Table3!$A:$A,$B16)*LOG10(J16)+LOG10(1/$AD16)) -> 43.344954 | AG16: =(12.552/50)*Q16*10^(SUMIFS(Table4!$B:$B,Table4!$A:$A,$B16)+SUMIFS(Table4!$C:$C,Table4!$A:$A,$B16)*LOG10($E16)+SUMIFS(Table4!$D:$D,Table4!$A:$A,$B16)*K16/(SUMIFS(Table4!$E:$E,Table4!$A:$A,$B16)*$D16^7+SUMIFS(Table4!$F:$F,Table4!$A:$A,$B16)*$D16^6+SUMIFS(Table4!$G:$G,Table4!$A:$A,$B16)*$D16^5+SUMIFS(Table4!$H:$H,Table4!$A:$A,$B16)*$D16^4+SUMIFS(Table4!$I:$I,Table4!$A:$A,$B16)*$D16^3+SUMIFS(Table4!$J:$J,Table4!$A:$A,$B16)*$D16^2+SUMIFS(Table4!$K:$K,Table4!$A:$A,$B16)*$D16)+SUMIFS(Table4!$L:$L,Table4!$A:$A,$B16)*LOG10($D16)+SUMIFS(Table4!$M:$M,Table4!$A:$A,$B16)*LOG10($F16)+SUMIFS(Table4!$N:$N,Table4!$A:$A,$B16)*LOG10(K16)+LOG10(1/$AD16)) -> 70.932843 | AH16: =(12.552/50)*Q16*10^(SUMIFS(Table5!$B:$B,Table5!$A:$A,$B16)+SUMIFS(Table5!$C:$C,Table5!$A:$A,$B16)*LOG10($E16)+SUMIFS(Table5!$D:$D,Table5!$A:$A,$B16)*L16/(SUMIFS(Table5!$E:$E,Table5!$A:$A,$B16)*$D16^7+SUMIFS(Table5!$F:$F,Table5!$A:$A,$B16)*$D16^6+SUMIFS(Table5!$G:$G,Table5!$A:$A,$B16)*$D16^5+SUMIFS(Table5!$H:$H,Table5!$A:$A,$B16)*$D16^4+SUMIFS(Table5!$I:$I,Table5!$A:$A,$B16)*$D16^3+SUMIFS(Table5!$J:$J,Table5!$A:$A,$B16)*$D16^2+SUMIFS(Table5!$K:$K,Table5!$A:$A,$B16)*$D16)+SUMIFS(Table5!$L:$L,Table5!$A:$A,$B16)*LOG10($D16)+SUMIFS(Table5!$M:$M,Table5!$A:$A,$B16)*LOG10($F16)+SUMIFS(Table5!$N:$N,Table5!$A:$A,$B16)*LOG10(L16)+LOG10(1/$AD16)) -> 85.036205 | AI16: =((AG16-AF16)/2.1)*($C16-2.7)+AG16 -> 41.768503 | AJ16: =((AH16-AG16)/11.6)*($C16-14.3)+AH16 -> 68.233752 | AK16: =AI16*(2.7-$C16)/2.1+AJ16*($C16-0.6)/2.1 -> 40.256203 | AL16: =IF(AND($C16>=0.208,$C16<=0.6),AE16,IF($C16<=2.7,AK16,AJ16)) -> 39.962615 | AM16: =10^((SUMIFS(Table3!$B:$B,Table3!$A:$A,$B16)+SUMIFS(Table3!$C:$C,Table3!$A:$A,$B16)*LOG10($E16)+(SUMIFS(Table3!$D:$D,Table3!$A:$A,$B16)*$J16)/(SUMIFS(Table3!$E:$E,Table3!$A:$A,$B16)*$D16^7+SUMIFS(Table3!$F:$F,Table3!$A:$A,$B16)*$D16^6+SUMIFS(Table3!$G:$G,Table3!$A:$A,$B16)*$D16^5+SUMIFS(Table3!$H:$H,Table3!$A:$A,$B16)*$D16^4+SUMIFS(Table3!$I:$I,Table3!$A:$A,$B16)*$D16^3+SUMIFS(Table3!$J:$J,Table3!$A:$A,$B16)*$D16^2+SUMIFS(Table3!$K:$K,Table3!$A:$A,$B16)*$D16)+SUMIFS(Table3!$L:$L,Table3!$A:$A,$B16)*LOG10($D16)+SUMIFS(Table3!$N:$N,Table3!$A:$A,$B16)*LOG10(P16)+LOG10(1/$AD16)-LOG10(20/Q16))/-SUMIFS(Table3!$M:$M,Table3!$A:$A,$B16)) -> 1439.1487 | AN16: =10^((SUMIFS(Table3!$B:$B,Table3!$A:$A,$B16)+SUMIFS(Table3!$C:$C,Table3!$A:$A,$B16)*LOG10($E16)+(SUMIFS(Table3!$D:$D,Table3!$A:$A,$B16)*J16)/(SUMIFS(Table3!$E:$E,Table3!$A:$A,$B16)*$D16^7+SUMIFS(Table3!$F:$F,Table3!$A:$A,$B16)*$D16^6+SUMIFS(Table3!$G:$G,Table3!$A:$A,$B16)*$D16^5+SUMIFS(Table3!$H:$H,Table3!$A:$A,$B16)*$D16^4+SUMIFS(Table3!$I:$I,Table3!$A:$A,$B16)*$D16^3+SUMIFS(Table3!$J:$J,Table3!$A:$A,$B16)*$D16^2+SUMIFS(Table3!$K:$K,Table3!$A:$A,$B16)*$D16)+SUMIFS(Table3!$L:$L,Table3!$A:$A,$B16)*LOG10($D16)+SUMIFS(Table3!$N:$N,Table3!$A:$A,$B16)*LOG10(J16)+LOG10(1/$AD16)-LOG10(20/Q16))/-SUMIFS(Table3!$M:$M,Table3!$A:$A,$B16)) -> 1505.2572 | AO16: =10^((SUMIFS(Table4!$B:$B,Table4!$A:$A,$B16)+SUMIFS(Table4!$C:$C,Table4!$A:$A,$B16)*LOG10($E16)+(SUMIFS(Table4!$D:$D,Table4!$A:$A,$B16)*K16)/(SUMIFS(Table4!$E:$E,Table4!$A:$A,$B16)*$D16^7+SUMIFS(Table4!$F:$F,Table4!$A:$A,$B16)*$D16^6+SUMIFS(Table4!$G:$G,Table4!$A:$A,$B16)*$D16^5+SUMIFS(Table4!$H:$H,Table4!$A:$A,$B16)*$D16^4+SUMIFS(Table4!$I:$I,Table4!$A:$A,$B16)*$D16^3+SUMIFS(Table4!$J:$J,Table4!$A:$A,$B16)*$D16^2+SUMIFS(Table4!$K:$K,Table4!$A:$A,$B16)*$D16)+SUMIFS(Table4!$L:$L,Table4!$A:$A,$B16)*LOG10($D16)+SUMIFS(Table4!$N:$N,Table4!$A:$A,$B16)*LOG10(K16)+LOG10(1/$AD16)-LOG10(20/Q16))/-SUMIFS(Table4!$M:$M,Table4!$A:$A,$B16)) -> 2090.7865 | AP16: =10^((SUMIFS(Table5!$B:$B,Table5!$A:$A,$B16)+SUMIFS(Table5!$C:$C,Table5!$A:$A,$B16)*LOG10($E16)+(SUMIFS(Table5!$D:$D,Table5!$A:$A,$B16)*L16)/(SUMIFS(Table5!$E:$E,Table5!$A:$A,$B16)*$D16^7+SUMIFS(Table5!$F:$F,Table5!$A:$A,$B16)*$D16^6+SUMIFS(Table5!$G:$G,Table5!$A:$A,$B16)*$D16^5+SUMIFS(Table5!$H:$H,Table5!$A:$A,$B16)*$D16^4+SUMIFS(Table5!$I:$I,Table5!$A:$A,$B16)*$D16^3+SUMIFS(Table5!$J:$J,Table5!$A:$A,$B16)*$D16^2+SUMIFS(Table5!$K:$K,Table5!$A:$A,$B16)*$D16)+SUMIFS(Table5!$L:$L,Table5!$A:$A,$B16)*LOG10($D16)+SUMIFS(Table5!$N:$N,Table5!$A:$A,$B16)*LOG10(L16)+LOG10(1/$AD16)-LOG10(20/Q16))/-SUMIFS(Table5!$M:$M,Table5!$A:$A,$B16)) -> 2470.9372 | AQ16: =((AO16-AN16)/2.1)*($C16-2.7)+AO16 -> 1471.7984 | AR16: =((AP16-AO16)/11.6)*($C16-14.3)+AP16 -> 2018.0336 | AS16: =(AQ16*(2.7-$C16)/2.1)+(AR16*($C16-0.6)/2.1) -> 1440.5849 | AT16: =IF(AND($C16>=0.208,$C16<=0.6),AM16,IF($C16<=2.7,AS16,AR16)) -> 1439.1487 | AU16: =SUMIFS(Table2!$B:$B,Table2!$A:$A,$B16)*$C16^6+SUMIFS(Table2!$C:$C,Table2!$A:$A,$B16)*$C16^5+SUMIFS(Table2!$D:$D,Table2!$A:$A,$B16)*$C16^4+SUMIFS(Table2!$E:$E,Table2!$A:$A,$B16)*$C16^3+SUMIFS(Table2!$F:$F,Table2!$A:$A,$B16)*$C16^2+SUMIFS(Table2!$G:$G,Table2!$A:$A,$B16)*$C16+SUMIFS(Table2!$H:$H,Table2!$A:$A,$B16) -> 0.23674766 | AV16: =1-0.5*AU16 -> 0.88162617 | AW16: =J16*$AV16 -> 22.942339 | AX16: =K16*$AV16 -> 23.745069 | AY16: =L16*$AV16 -> 25.899049 | AZ16: =((AX16-AW16)/2.1)*($C16-2.7)+AX16 -> 22.896469 | BA16: =((AY16-AX16)/11.6)*($C16-14.3)+AY16 -> 23.332842 | BB16: =(AZ16*(2.7-$C16)/2.1)+(BA16*($C16-0.6)/2.1) -> 22.871533 | BC16: =IF(AND($C16>=0.208,$C16<=0.6),1/SQRT((0.6/$C16)^2*(1/(J16)^2-(0.6^2-($C16)^2)/(0.6^2*($D16)^2)))*AV16,IF(AND($C16>0.6,$C16<=2.7),BB16,IF($C16>2.7,BA16,"Erro"))) -> 21.428251 | BD16: 125 | BE16: =(12.552/50)*BD16*10^(SUMIFS(Table3!$B:$B,Table3!$A:$A,$B16)+SUMIFS(Table3!$C:$C,Table3!$A:$A,$B16)*LOG10($E16)+SUMIFS(Table3!$D:$D,Table3!$A:$A,$B16)*$J16/(SUMIFS(Table3!$E:$E,Table3!$A:$A,$B16)*$D16^7+SUMIFS(Table3!$F:$F,Table3!$A:$A,$B16)*$D16^6+SUMIFS(Table3!$G:$G,Table3!$A:$A,$B16)*$D16^5+SUMIFS(Table3!$H:$H,Table3!$A:$A,$B16)*$D16^4+SUMIFS(Table3!$I:$I,Table3!$A:$A,$B16)*$D16^3+SUMIFS(Table3!$J:$J,Table3!$A:$A,$B16)*$D16^2+SUMIFS(Table3!$K:$K,Table3!$A:$A,$B16)*$D16)+SUMIFS(Table3!$L:$L,Table3!$A:$A,$B16)*LOG10($D16)+SUMIFS(Table3!$M:$M,Table3!$A:$A,$B16)*LOG10($F16)+SUMIFS(Table3!$N:$N,Table3!$A:$A,$B16)*LOG10(BC16)+LOG10(1/$AD16)) -> 34.398731 | BF16: =(12.552/50)*BD16*10^(SUMIFS(Table3!$B:$B,Table3!$A:$A,$B16)+SUMIFS(Table3!$C:$C,Table3!$A:$A,$B16)*LOG10($E16)+SUMIFS(Table3!$D:$D,Table3!$A:$A,$B16)*AW16/(SUMIFS(Table3!$E:$E,Table3!$A:$A,$B16)*$D16^7+SUMIFS(Table3!$F:$F,Table3!$A:$A,$B16)*$D16^6+SUMIFS(Table3!$G:$G,Table3!$A:$A,$B16)*$D16^5+SUMIFS(Table3!$H:$H,Table3!$A:$A,$B16)*$D16^4+SUMIFS(Table3!$I:$I,Table3!$A:$A,$B16)*$D16^3+SUMIFS(Table3!$J:$J,Table3!$A:$A,$B16)*$D16^2+SUMIFS(Table3!$K:$K,Table3!$A:$A,$B16)*$D16)+SUMIFS(Table3!$L:$L,Table3!$A:$A,$B16)*LOG10($D16)+SUMIFS(Table3!$M:$M,Table3!$A:$A,$B16)*LOG10($F16)+SUMIFS(Table3!$N:$N,Table3!$A:$A,$B16)*LOG10(AW16)+LOG10(1/$AD16)) -> 38.080168 | BG16: =(12.552/50)*BD16*10^(SUMIFS(Table4!$B:$B,Table4!$A:$A,$B16)+SUMIFS(Table4!$C:$C,Table4!$A:$A,$B16)*LOG10($E16)+SUMIFS(Table4!$D:$D,Table4!$A:$A,$B16)*AX16/(SUMIFS(Table4!$E:$E,Table4!$A:$A,$B16)*$D16^7+SUMIFS(Table4!$F:$F,Table4!$A:$A,$B16)*$D16^6+SUMIFS(Table4!$G:$G,Table4!$A:$A,$B16)*$D16^5+SUMIFS(Table4!$H:$H,Table4!$A:$A,$B16)*$D16^4+SUMIFS(Table4!$I:$I,Table4!$A:$A,$B16)*$D16^3+SUMIFS(Table4!$J:$J,Table4!$A:$A,$B16)*$D16^2+SUMIFS(Table4!$K:$K,Table4!$A:$A,$B16)*$D16)+SUMIFS(Table4!$L:$L,Table4!$A:$A,$B16)*LOG10($D16)+SUMIFS(Table4!$M:$M,Table4!$A:$A,$B16)*LOG10($F16)+SUMIFS(Table4!$N:$N,Table4!$A:$A,$B16)*LOG10(AX16)+LOG10(1/$AD16)) -> 74.831792 | BH16: =(12.552/50)*BD16*10^(SUMIFS(Table5!$B:$B,Table5!$A:$A,$B16)+SUMIFS(Table5!$C:$C,Table5!$A:$A,$B16)*LOG10($E16)+SUMIFS(Table5!$D:$D,Table5!$A:$A,$B16)*AY16/(SUMIFS(Table5!$E:$E,Table5!$A:$A,$B16)*$D16^7+SUMIFS(Table5!$F:$F,Table5!$A:$A,$B16)*$D16^6+SUMIFS(Table5!$G:$G,Table5!$A:$A,$B16)*$D16^5+SUMIFS(Table5!$H:$H,Table5!$A:$A,$B16)*$D16^4+SUMIFS(Table5!$I:$I,Table5!$A:$A,$B16)*$D16^3+SUMIFS(Table5!$J:$J,Table5!$A:$A,$B16)*$D16^2+SUMIFS(Table5!$K:$K,Table5!$A:$A,$B16)*$D16)+SUMIFS(Table5!$L:$L,Table5!$A:$A,$B16)*LOG10($D16)+SUMIFS(Table5!$M:$M,Table5!$A:$A,$B16)*LOG10($F16)+SUMIFS(Table5!$N:$N,Table5!$A:$A,$B16)*LOG10(AY16)+LOG10(1/$AD16)) -> 87.793012 | BI16: =((BG16-BF16)/2.1)*($C16-2.7)+BG16 -> 35.980076 | BJ16: =((BH16-BG16)/11.6)*($C16-14.3)+BH16 -> 72.351283 | BK16: =BI16*(2.7-$C16)/2.1+BJ16*($C16-0.6)/2.1 -> 33.901721 | BL16: =IF(AND($C16>=0.208,$C16<=0.6),BE16,IF($C16<=2.7,BK16,BJ16)) -> 34.398731 | BM16: =10^((SUMIFS(Table3!$B:$B,Table3!$A:$A,$B16)+SUMIFS(Table3!$C:$C,Table3!$A:$A,$B16)*LOG10($E16)+(SUMIFS(Table3!$D:$D,Table3!$A:$A,$B16)*$J16)/(SUMIFS(Table3!$E:$E,Table3!$A:$A,$B16)*$D16^7+SUMIFS(Table3!$F:$F,Table3!$A:$A,$B16)*$D16^6+SUMIFS(Table3!$G:$G,Table3!$A:$A,$B16)*$D16^5+SUMIFS(Table3!$H:$H,Table3!$A:$A,$B16)*$D16^4+SUMIFS(Table3!$I:$I,Table3!$A:$A,$B16)*$D16^3+SUMIFS(Table3!$J:$J,Table3!$A:$A,$B16)*$D16^2+SUMIFS(Table3!$K:$K,Table3!$A:$A,$B16)*$D16)+SUMIFS(Table3!$L:$L,Table3!$A:$A,$B16)*LOG10($D16)+SUMIFS(Table3!$N:$N,Table3!$A:$A,$B16)*LOG10(BC16)+LOG10(1/$AD16)-LOG10(20/BD16))/-SUMIFS(Table3!$M:$M,Table3!$A:$A,$B16)) -> 1324.6849 | BN16: =10^((SUMIFS(Table3!$B:$B,Table3!$A:$A,$B16)+SUMIFS(Table3!$C:$C,Table3!$A:$A,$B16)*LOG10($E16)+(SUMIFS(Table3!$D:$D,Table3!$A:$A,$B16)*AW16)/(SUMIFS(Table3!$E:$E,Table3!$A:$A,$B16)*$D16^7+SUMIFS(Table3!$F:$F,Table3!$A:$A,$B16)*$D16^6+SUMIFS(Table3!$G:$G,Table3!$A:$A,$B16)*$D16^5+SUMIFS(Table3!$H:$H,Table3!$A:$A,$B16)*$D16^4+SUMIFS(Table3!$I:$I,Table3!$A:$A,$B16)*$D16^3+SUMIFS(Table3!$J:$J,Table3!$A:$A,$B16)*$D16^2+SUMIFS(Table3!$K:$K,Table3!$A:$A,$B16)*$D16)+SUMIFS(Table3!$L:$L,Table3!$A:$A,$B16)*LOG10($D16)+SUMIFS(Table3!$N:$N,Table3!$A:$A,$B16)*LOG10(AW16)+LOG10(1/$AD16)-LOG10(20/BD16))/-SUMIFS(Table3!$M:$M,Table3!$A:$A,$B16)) -> 1401.2702 | BO16: =10^((SUMIFS(Table4!$B:$B,Table4!$A:$A,$B16)+SUMIFS(Table4!$C:$C,Table4!$A:$A,$B16)*LOG10($E16)+(SUMIFS(Table4!$D:$D,Table4!$A:$A,$B16)*AX16)/(SUMIFS(Table4!$E:$E,Table4!$A:$A,$B16)*$D16^7+SUMIFS(Table4!$F:$F,Table4!$A:$A,$B16)*$D16^6+SUMIFS(Table4!$G:$G,Table4!$A:$A,$B16)*$D16^5+SUMIFS(Table4!$H:$H,Table4!$A:$A,$B16)*$D16^4+SUMIFS(Table4!$I:$I,Table4!$A:$A,$B16)*$D16^3+SUMIFS(Table4!$J:$J,Table4!$A:$A,$B16)*$D16^2+SUMIFS(Table4!$K:$K,Table4!$A:$A,$B16)*$D16)+SUMIFS(Table4!$L:$L,Table4!$A:$A,$B16)*LOG10($D16)+SUMIFS(Table4!$N:$N,Table4!$A:$A,$B16)*LOG10(AX16)+LOG10(1/$AD16)-LOG10(20/BD16))/-SUMIFS(Table4!$M:$M,Table4!$A:$A,$B16)) -> 2156.0061 | BP16: =10^((SUMIFS(Table5!$B:$B,Table5!$A:$A,$B16)+SUMIFS(Table5!$C:$C,Table5!$A:$A,$B16)*LOG10($E16)+(SUMIFS(Table5!$D:$D,Table5!$A:$A,$B16)*AY16)/(SUMIFS(Table5!$E:$E,Table5!$A:$A,$B16)*$D16^7+SUMIFS(Table5!$F:$F,Table5!$A:$A,$B16)*$D16^6+SUMIFS(Table5!$G:$G,Table5!$A:$A,$B16)*$D16^5+SUMIFS(Table5!$H:$H,Table5!$A:$A,$B16)*$D16^4+SUMIFS(Table5!$I:$I,Table5!$A:$A,$B16)*$D16^3+SUMIFS(Table5!$J:$J,Table5!$A:$A,$B16)*$D16^2+SUMIFS(Table5!$K:$K,Table5!$A:$A,$B16)*$D16)+SUMIFS(Table5!$L:$L,Table5!$A:$A,$B16)*LOG10($D16)+SUMIFS(Table5!$N:$N,Table5!$A:$A,$B16)*LOG10(AY16)+LOG10(1/$AD16)-LOG10(20/BD16))/-SUMIFS(Table5!$M:$M,Table5!$A:$A,$B16)) -> 2518.3966 | BQ16: =((BO16-BN16)/2.1)*($C16-2.7)+BO16 -> 1358.1424 | BR16: =((BP16-BO16)/11.6)*($C16-14.3)+BP16 -> 2086.652 | BS16: =(BQ16*(2.7-$C16)/2.1)+(BR16*($C16-0.6)/2.1) -> 1316.5133 | BT16: =IF(AND($C16>=0.208,$C16<=0.6),BM16,IF($C16<=2.7,BS16,BR16)) -> 1324.6849
A17: PN-04B | B17: VCBB | C17: 0.48 | D17: 28.596 | E17: 25 | F17: 457.2 | G17: 437 | H17: 215 | I17: 460 | J17: =10^(SUMIFS(Table1!$C:$C,Table1!$B:$B,600,Table1!$A:$A,$B17)+SUMIFS(Table1!$D:$D,Table1!$B:$B,600,Table1!$A:$A,$B17)*LOG10($D17)+SUMIFS(Table1!$E:$E,Table1!$B:$B,600,Table1!$A:$A,$B17)*LOG10($E17))*(SUMIFS(Table1!$F:$F,Table1!$B:$B,600,Table1!$A:$A,$B17)*$D17^6+SUMIFS(Table1!$G:$G,Table1!$B:$B,600,Table1!$A:$A,$B17)*$D17^5+SUMIFS(Table1!$H:$H,Table1!$B:$B,600,Table1!$A:$A,$B17)*$D17^4+SUMIFS(Table1!$I:$I,Table1!$B:$B,600,Table1!$A:$A,$B17)*$D17^3+SUMIFS(Table1!$J:$J,Table1!$B:$B,600,Table1!$A:$A,$B17)*$D17^2+SUMIFS(Table1!$K:$K,Table1!$B:$B,600,Table1!$A:$A,$B17)*$D17+SUMIFS(Table1!$L:$L,Table1!$B:$B,600,Table1!$A:$A,$B17)) -> 24.703785 | K17: =10^(SUMIFS(Table1!$C:$C,Table1!$B:$B,2700,Table1!$A:$A,$B17)+SUMIFS(Table1!$D:$D,Table1!$B:$B,2700,Table1!$A:$A,$B17)*LOG10($D17)+SUMIFS(Table1!$E:$E,Table1!$B:$B,2700,Table1!$A:$A,$B17)*LOG10($E17))*(SUMIFS(Table1!$F:$F,Table1!$B:$B,2700,Table1!$A:$A,$B17)*$D17^6+SUMIFS(Table1!$G:$G,Table1!$B:$B,2700,Table1!$A:$A,$B17)*$D17^5+SUMIFS(Table1!$H:$H,Table1!$B:$B,2700,Table1!$A:$A,$B17)*$D17^4+SUMIFS(Table1!$I:$I,Table1!$B:$B,2700,Table1!$A:$A,$B17)*$D17^3+SUMIFS(Table1!$J:$J,Table1!$B:$B,2700,Table1!$A:$A,$B17)*$D17^2+SUMIFS(Table1!$K:$K,Table1!$B:$B,2700,Table1!$A:$A,$B17)*$D17+SUMIFS(Table1!$L:$L,Table1!$B:$B,2700,Table1!$A:$A,$B17)) -> 25.493711 | L17: =10^(SUMIFS(Table1!$C:$C,Table1!$B:$B,14300,Table1!$A:$A,$B17)+SUMIFS(Table1!$D:$D,Table1!$B:$B,14300,Table1!$A:$A,$B17)*LOG10($D17)+SUMIFS(Table1!$E:$E,Table1!$B:$B,14300,Table1!$A:$A,$B17)*LOG10($E17))*(SUMIFS(Table1!$F:$F,Table1!$B:$B,14300,Table1!$A:$A,$B17)*$D17^6+SUMIFS(Table1!$G:$G,Table1!$B:$B,14300,Table1!$A:$A,$B17)*$D17^5+SUMIFS(Table1!$H:$H,Table1!$B:$B,14300,Table1!$A:$A,$B17)*$D17^4+SUMIFS(Table1!$I:$I,Table1!$B:$B,14300,Table1!$A:$A,$B17)*$D17^3+SUMIFS(Table1!$J:$J,Table1!$B:$B,14300,Table1!$A:$A,$B17)*$D17^2+SUMIFS(Table1!$K:$K,Table1!$B:$B,14300,Table1!$A:$A,$B17)*$D17+SUMIFS(Table1!$L:$L,Table1!$B:$B,14300,Table1!$A:$A,$B17)) -> 27.78283 | M17: =((K17-J17)/2.1)*($C17-2.7)+K17 -> 24.658646 | N17: =((L17-K17)/11.6)*($C17-14.3)+L17 -> 25.055621 | O17: =(M17*(2.7-$C17)/2.1)+(N17*($C17-0.6)/2.1) -> 24.635962 | P17: =IF(AND($C17>=0.208,$C17<=0.6),1/SQRT((0.6/$C17)^2*(1/(J17)^2-(0.6^2-($C17)^2)/(0.6^2*($D17)^2))),IF(AND($C17>0.6,$C17<=2.7),O17,IF($C17>2.7,N17,"Errado"))) -> 23.109829 | Q17: 125 | R17: =IF(AND($C17<0.6,$G17<508,$H17<508,$I17<=203.2),"Shallow","Typical") -> Typical | S17: =IF($B17="VCB",4,IF($B17="VCBB",10,IF($B17="HCB",10,0))) -> 10 | T17: =IF($B17="VCB",20,IF($B17="VCBB",24,IF($B17="HCB",22,0))) -> 24 | U17: =IF($G17<=1244.6,$G17,1244.6) -> 437 | V17: =(660.4+($U17-660.4)*($C17+$S17)/$T17)*(1/25.4) -> 22.159396 | W17: =IF($H17<=1244.6,$H17,1244.6) -> 215 | X17: =(660.4+($W17-660.4)*($C17+$S17)/$T17)*(1/25.4) -> 18.342861 | Y17: =IF($G17<508,IF($R17="Typical",20,0.03937*$G17),IF($G17<=660.4,0.03937*$G17,IF($G17<=1244.6,$V17,$V17))) -> 20 | Z17: =IF($H17<508,IF($R17="Typical",20,0.03937*$H17),IF($H17<=660.4,0.03937*$H17,IF($H17<=1244.6,IF($B17="VCB",0.03937*$H17,$X17),IF($B17="VCB",49,$X17)))) -> 20 | AA17: =(Z17+Y17)/2 -> 20 | AB17: =SUMIFS(Table7!C:C,Table7!A:A,"Typical",Table7!B:B,$B17)*$AA17^2+SUMIFS(Table7!D:D,Table7!A:A,"Typical",Table7!B:B,$B17)*$AA17+SUMIFS(Table7!E:E,Table7!A:A,"Typical",Table7!B:B,$B17) -> 0.99996 | AC17: =1/(SUMIFS(Table7!C:C,Table7!A:A,"Shallow",Table7!B:B,$B17)*$AA17^2+SUMIFS(Table7!D:D,Table7!A:A,"Shallow",Table7!B:B,$B17)*$AA17+SUMIFS(Table7!E:E,Table7!A:A,"Shallow",Table7!B:B,$B17)) -> 1.001001 | AD17: =IF(R17="Typical",AB17,AC17) -> 0.99996 | AE17: =(12.552/50)*Q17*10^(SUMIFS(Table3!$B:$B,Table3!$A:$A,$B17)+SUMIFS(Table3!$C:$C,Table3!$A:$A,$B17)*LOG10($E17)+SUMIFS(Table3!$D:$D,Table3!$A:$A,$B17)*$J17/(SUMIFS(Table3!$E:$E,Table3!$A:$A,$B17)*$D17^7+SUMIFS(Table3!$F:$F,Table3!$A:$A,$B17)*$D17^6+SUMIFS(Table3!$G:$G,Table3!$A:$A,$B17)*$D17^5+SUMIFS(Table3!$H:$H,Table3!$A:$A,$B17)*$D17^4+SUMIFS(Table3!$I:$I,Table3!$A:$A,$B17)*$D17^3+SUMIFS(Table3!$J:$J,Table3!$A:$A,$B17)*$D17^2+SUMIFS(Table3!$K:$K,Table3!$A:$A,$B17)*$D17)+SUMIFS(Table3!$L:$L,Table3!$A:$A,$B17)*LOG10($D17)+SUMIFS(Table3!$M:$M,Table3!$A:$A,$B17)*LOG10($F17)+SUMIFS(Table3!$N:$N,Table3!$A:$A,$B17)*LOG10(P17)+LOG10(1/$AD17)) -> 37.75458 | AF17: =(12.552/50)*Q17*10^(SUMIFS(Table3!$B:$B,Table3!$A:$A,$B17)+SUMIFS(Table3!$C:$C,Table3!$A:$A,$B17)*LOG10($E17)+SUMIFS(Table3!$D:$D,Table3!$A:$A,$B17)*J17/(SUMIFS(Table3!$E:$E,Table3!$A:$A,$B17)*$D17^7+SUMIFS(Table3!$F:$F,Table3!$A:$A,$B17)*$D17^6+SUMIFS(Table3!$G:$G,Table3!$A:$A,$B17)*$D17^5+SUMIFS(Table3!$H:$H,Table3!$A:$A,$B17)*$D17^4+SUMIFS(Table3!$I:$I,Table3!$A:$A,$B17)*$D17^3+SUMIFS(Table3!$J:$J,Table3!$A:$A,$B17)*$D17^2+SUMIFS(Table3!$K:$K,Table3!$A:$A,$B17)*$D17)+SUMIFS(Table3!$L:$L,Table3!$A:$A,$B17)*LOG10($D17)+SUMIFS(Table3!$M:$M,Table3!$A:$A,$B17)*LOG10($F17)+SUMIFS(Table3!$N:$N,Table3!$A:$A,$B17)*LOG10(J17)+LOG10(1/$AD17)) -> 40.873336 | AG17: =(12.552/50)*Q17*10^(SUMIFS(Table4!$B:$B,Table4!$A:$A,$B17)+SUMIFS(Table4!$C:$C,Table4!$A:$A,$B17)*LOG10($E17)+SUMIFS(Table4!$D:$D,Table4!$A:$A,$B17)*K17/(SUMIFS(Table4!$E:$E,Table4!$A:$A,$B17)*$D17^7+SUMIFS(Table4!$F:$F,Table4!$A:$A,$B17)*$D17^6+SUMIFS(Table4!$G:$G,Table4!$A:$A,$B17)*$D17^5+SUMIFS(Table4!$H:$H,Table4!$A:$A,$B17)*$D17^4+SUMIFS(Table4!$I:$I,Table4!$A:$A,$B17)*$D17^3+SUMIFS(Table4!$J:$J,Table4!$A:$A,$B17)*$D17^2+SUMIFS(Table4!$K:$K,Table4!$A:$A,$B17)*$D17)+SUMIFS(Table4!$L:$L,Table4!$A:$A,$B17)*LOG10($D17)+SUMIFS(Table4!$M:$M,Table4!$A:$A,$B17)*LOG10($F17)+SUMIFS(Table4!$N:$N,Table4!$A:$A,$B17)*LOG10(K17)+LOG10(1/$AD17)) -> 66.780122 | AH17: =(12.552/50)*Q17*10^(SUMIFS(Table5!$B:$B,Table5!$A:$A,$B17)+SUMIFS(Table5!$C:$C,Table5!$A:$A,$B17)*LOG10($E17)+SUMIFS(Table5!$D:$D,Table5!$A:$A,$B17)*L17/(SUMIFS(Table5!$E:$E,Table5!$A:$A,$B17)*$D17^7+SUMIFS(Table5!$F:$F,Table5!$A:$A,$B17)*$D17^6+SUMIFS(Table5!$G:$G,Table5!$A:$A,$B17)*$D17^5+SUMIFS(Table5!$H:$H,Table5!$A:$A,$B17)*$D17^4+SUMIFS(Table5!$I:$I,Table5!$A:$A,$B17)*$D17^3+SUMIFS(Table5!$J:$J,Table5!$A:$A,$B17)*$D17^2+SUMIFS(Table5!$K:$K,Table5!$A:$A,$B17)*$D17)+SUMIFS(Table5!$L:$L,Table5!$A:$A,$B17)*LOG10($D17)+SUMIFS(Table5!$M:$M,Table5!$A:$A,$B17)*LOG10($F17)+SUMIFS(Table5!$N:$N,Table5!$A:$A,$B17)*LOG10(L17)+LOG10(1/$AD17)) -> 80.217563 | AI17: =((AG17-AF17)/2.1)*($C17-2.7)+AG17 -> 39.392948 | AJ17: =((AH17-AG17)/11.6)*($C17-14.3)+AH17 -> 64.208474 | AK17: =AI17*(2.7-$C17)/2.1+AJ17*($C17-0.6)/2.1 -> 37.974918 | AL17: =IF(AND($C17>=0.208,$C17<=0.6),AE17,IF($C17<=2.7,AK17,AJ17)) -> 37.75458 | AM17: =10^((SUMIFS(Table3!$B:$B,Table3!$A:$A,$B17)+SUMIFS(Table3!$C:$C,Table3!$A:$A,$B17)*LOG10($E17)+(SUMIFS(Table3!$D:$D,Table3!$A:$A,$B17)*$J17)/(SUMIFS(Table3!$E:$E,Table3!$A:$A,$B17)*$D17^7+SUMIFS(Table3!$F:$F,Table3!$A:$A,$B17)*$D17^6+SUMIFS(Table3!$G:$G,Table3!$A:$A,$B17)*$D17^5+SUMIFS(Table3!$H:$H,Table3!$A:$A,$B17)*$D17^4+SUMIFS(Table3!$I:$I,Table3!$A:$A,$B17)*$D17^3+SUMIFS(Table3!$J:$J,Table3!$A:$A,$B17)*$D17^2+SUMIFS(Table3!$K:$K,Table3!$A:$A,$B17)*$D17)+SUMIFS(Table3!$L:$L,Table3!$A:$A,$B17)*LOG10($D17)+SUMIFS(Table3!$N:$N,Table3!$A:$A,$B17)*LOG10(P17)+LOG10(1/$AD17)-LOG10(20/Q17))/-SUMIFS(Table3!$M:$M,Table3!$A:$A,$B17)) -> 1394.6345 | AN17: =10^((SUMIFS(Table3!$B:$B,Table3!$A:$A,$B17)+SUMIFS(Table3!$C:$C,Table3!$A:$A,$B17)*LOG10($E17)+(SUMIFS(Table3!$D:$D,Table3!$A:$A,$B17)*J17)/(SUMIFS(Table3!$E:$E,Table3!$A:$A,$B17)*$D17^7+SUMIFS(Table3!$F:$F,Table3!$A:$A,$B17)*$D17^6+SUMIFS(Table3!$G:$G,Table3!$A:$A,$B17)*$D17^5+SUMIFS(Table3!$H:$H,Table3!$A:$A,$B17)*$D17^4+SUMIFS(Table3!$I:$I,Table3!$A:$A,$B17)*$D17^3+SUMIFS(Table3!$J:$J,Table3!$A:$A,$B17)*$D17^2+SUMIFS(Table3!$K:$K,Table3!$A:$A,$B17)*$D17)+SUMIFS(Table3!$L:$L,Table3!$A:$A,$B17)*LOG10($D17)+SUMIFS(Table3!$N:$N,Table3!$A:$A,$B17)*LOG10(J17)+LOG10(1/$AD17)-LOG10(20/Q17))/-SUMIFS(Table3!$M:$M,Table3!$A:$A,$B17)) -> 1457.1873 | AO17: =10^((SUMIFS(Table4!$B:$B,Table4!$A:$A,$B17)+SUMIFS(Table4!$C:$C,Table4!$A:$A,$B17)*LOG10($E17)+(SUMIFS(Table4!$D:$D,Table4!$A:$A,$B17)*K17)/(SUMIFS(Table4!$E:$E,Table4!$A:$A,$B17)*$D17^7+SUMIFS(Table4!$F:$F,Table4!$A:$A,$B17)*$D17^6+SUMIFS(Table4!$G:$G,Table4!$A:$A,$B17)*$D17^5+SUMIFS(Table4!$H:$H,Table4!$A:$A,$B17)*$D17^4+SUMIFS(Table4!$I:$I,Table4!$A:$A,$B17)*$D17^3+SUMIFS(Table4!$J:$J,Table4!$A:$A,$B17)*$D17^2+SUMIFS(Table4!$K:$K,Table4!$A:$A,$B17)*$D17)+SUMIFS(Table4!$L:$L,Table4!$A:$A,$B17)*LOG10($D17)+SUMIFS(Table4!$N:$N,Table4!$A:$A,$B17)*LOG10(K17)+LOG10(1/$AD17)-LOG10(20/Q17))/-SUMIFS(Table4!$M:$M,Table4!$A:$A,$B17)) -> 2019.6189 | AP17: =10^((SUMIFS(Table5!$B:$B,Table5!$A:$A,$B17)+SUMIFS(Table5!$C:$C,Table5!$A:$A,$B17)*LOG10($E17)+(SUMIFS(Table5!$D:$D,Table5!$A:$A,$B17)*L17)/(SUMIFS(Table5!$E:$E,Table5!$A:$A,$B17)*$D17^7+SUMIFS(Table5!$F:$F,Table5!$A:$A,$B17)*$D17^6+SUMIFS(Table5!$G:$G,Table5!$A:$A,$B17)*$D17^5+SUMIFS(Table5!$H:$H,Table5!$A:$A,$B17)*$D17^4+SUMIFS(Table5!$I:$I,Table5!$A:$A,$B17)*$D17^3+SUMIFS(Table5!$J:$J,Table5!$A:$A,$B17)*$D17^2+SUMIFS(Table5!$K:$K,Table5!$A:$A,$B17)*$D17)+SUMIFS(Table5!$L:$L,Table5!$A:$A,$B17)*LOG10($D17)+SUMIFS(Table5!$N:$N,Table5!$A:$A,$B17)*LOG10(L17)+LOG10(1/$AD17)-LOG10(20/Q17))/-SUMIFS(Table5!$M:$M,Table5!$A:$A,$B17)) -> 2386.4631 | AQ17: =((AO17-AN17)/2.1)*($C17-2.7)+AO17 -> 1425.0483 | AR17: =((AP17-AO17)/11.6)*($C17-14.3)+AP17 -> 1949.4125 | AS17: =(AQ17*(2.7-$C17)/2.1)+(AR17*($C17-0.6)/2.1) -> 1395.0847 | AT17: =IF(AND($C17>=0.208,$C17<=0.6),AM17,IF($C17<=2.7,AS17,AR17)) -> 1394.6345 | AU17: =SUMIFS(Table2!$B:$B,Table2!$A:$A,$B17)*$C17^6+SUMIFS(Table2!$C:$C,Table2!$A:$A,$B17)*$C17^5+SUMIFS(Table2!$D:$D,Table2!$A:$A,$B17)*$C17^4+SUMIFS(Table2!$E:$E,Table2!$A:$A,$B17)*$C17^3+SUMIFS(Table2!$F:$F,Table2!$A:$A,$B17)*$C17^2+SUMIFS(Table2!$G:$G,Table2!$A:$A,$B17)*$C17+SUMIFS(Table2!$H:$H,Table2!$A:$A,$B17) -> 0.23674766 | AV17: =1-0.5*AU17 -> 0.88162617 | AW17: =J17*$AV17 -> 21.779503 | AX17: =K17*$AV17 -> 22.475923 | AY17: =L17*$AV17 -> 24.49407 | AZ17: =((AX17-AW17)/2.1)*($C17-2.7)+AX17 -> 21.739708 | BA17: =((AY17-AX17)/11.6)*($C17-14.3)+AY17 -> 22.089691 | BB17: =(AZ17*(2.7-$C17)/2.1)+(BA17*($C17-0.6)/2.1) -> 21.719709 | BC17: =IF(AND($C17>=0.208,$C17<=0.6),1/SQRT((0.6/$C17)^2*(1/(J17)^2-(0.6^2-($C17)^2)/(0.6^2*($D17)^2)))*AV17,IF(AND($C17>0.6,$C17<=2.7),BB17,IF($C17>2.7,BA17,"Erro"))) -> 20.37423 | BD17: 125 | BE17: =(12.552/50)*BD17*10^(SUMIFS(Table3!$B:$B,Table3!$A:$A,$B17)+SUMIFS(Table3!$C:$C,Table3!$A:$A,$B17)*LOG10($E17)+SUMIFS(Table3!$D:$D,Table3!$A:$A,$B17)*$J17/(SUMIFS(Table3!$E:$E,Table3!$A:$A,$B17)*$D17^7+SUMIFS(Table3!$F:$F,Table3!$A:$A,$B17)*$D17^6+SUMIFS(Table3!$G:$G,Table3!$A:$A,$B17)*$D17^5+SUMIFS(Table3!$H:$H,Table3!$A:$A,$B17)*$D17^4+SUMIFS(Table3!$I:$I,Table3!$A:$A,$B17)*$D17^3+SUMIFS(Table3!$J:$J,Table3!$A:$A,$B17)*$D17^2+SUMIFS(Table3!$K:$K,Table3!$A:$A,$B17)*$D17)+SUMIFS(Table3!$L:$L,Table3!$A:$A,$B17)*LOG10($D17)+SUMIFS(Table3!$M:$M,Table3!$A:$A,$B17)*LOG10($F17)+SUMIFS(Table3!$N:$N,Table3!$A:$A,$B17)*LOG10(BC17)+LOG10(1/$AD17)) -> 32.498114 | BF17: =(12.552/50)*BD17*10^(SUMIFS(Table3!$B:$B,Table3!$A:$A,$B17)+SUMIFS(Table3!$C:$C,Table3!$A:$A,$B17)*LOG10($E17)+SUMIFS(Table3!$D:$D,Table3!$A:$A,$B17)*AW17/(SUMIFS(Table3!$E:$E,Table3!$A:$A,$B17)*$D17^7+SUMIFS(Table3!$F:$F,Table3!$A:$A,$B17)*$D17^6+SUMIFS(Table3!$G:$G,Table3!$A:$A,$B17)*$D17^5+SUMIFS(Table3!$H:$H,Table3!$A:$A,$B17)*$D17^4+SUMIFS(Table3!$I:$I,Table3!$A:$A,$B17)*$D17^3+SUMIFS(Table3!$J:$J,Table3!$A:$A,$B17)*$D17^2+SUMIFS(Table3!$K:$K,Table3!$A:$A,$B17)*$D17)+SUMIFS(Table3!$L:$L,Table3!$A:$A,$B17)*LOG10($D17)+SUMIFS(Table3!$M:$M,Table3!$A:$A,$B17)*LOG10($F17)+SUMIFS(Table3!$N:$N,Table3!$A:$A,$B17)*LOG10(AW17)+LOG10(1/$AD17)) -> 35.909586 | BG17: =(12.552/50)*BD17*10^(SUMIFS(Table4!$B:$B,Table4!$A:$A,$B17)+SUMIFS(Table4!$C:$C,Table4!$A:$A,$B17)*LOG10($E17)+SUMIFS(Table4!$D:$D,Table4!$A:$A,$B17)*AX17/(SUMIFS(Table4!$E:$E,Table4!$A:$A,$B17)*$D17^7+SUMIFS(Table4!$F:$F,Table4!$A:$A,$B17)*$D17^6+SUMIFS(Table4!$G:$G,Table4!$A:$A,$B17)*$D17^5+SUMIFS(Table4!$H:$H,Table4!$A:$A,$B17)*$D17^4+SUMIFS(Table4!$I:$I,Table4!$A:$A,$B17)*$D17^3+SUMIFS(Table4!$J:$J,Table4!$A:$A,$B17)*$D17^2+SUMIFS(Table4!$K:$K,Table4!$A:$A,$B17)*$D17)+SUMIFS(Table4!$L:$L,Table4!$A:$A,$B17)*LOG10($D17)+SUMIFS(Table4!$M:$M,Table4!$A:$A,$B17)*LOG10($F17)+SUMIFS(Table4!$N:$N,Table4!$A:$A,$B17)*LOG10(AX17)+LOG10(1/$AD17)) -> 70.454596 | BH17: =(12.552/50)*BD17*10^(SUMIFS(Table5!$B:$B,Table5!$A:$A,$B17)+SUMIFS(Table5!$C:$C,Table5!$A:$A,$B17)*LOG10($E17)+SUMIFS(Table5!$D:$D,Table5!$A:$A,$B17)*AY17/(SUMIFS(Table5!$E:$E,Table5!$A:$A,$B17)*$D17^7+SUMIFS(Table5!$F:$F,Table5!$A:$A,$B17)*$D17^6+SUMIFS(Table5!$G:$G,Table5!$A:$A,$B17)*$D17^5+SUMIFS(Table5!$H:$H,Table5!$A:$A,$B17)*$D17^4+SUMIFS(Table5!$I:$I,Table5!$A:$A,$B17)*$D17^3+SUMIFS(Table5!$J:$J,Table5!$A:$A,$B17)*$D17^2+SUMIFS(Table5!$K:$K,Table5!$A:$A,$B17)*$D17)+SUMIFS(Table5!$L:$L,Table5!$A:$A,$B17)*LOG10($D17)+SUMIFS(Table5!$M:$M,Table5!$A:$A,$B17)*LOG10($F17)+SUMIFS(Table5!$N:$N,Table5!$A:$A,$B17)*LOG10(AY17)+LOG10(1/$AD17)) -> 82.810438 | BI17: =((BG17-BF17)/2.1)*($C17-2.7)+BG17 -> 33.935585 | BJ17: =((BH17-BG17)/11.6)*($C17-14.3)+BH17 -> 68.089944 | BK17: =BI17*(2.7-$C17)/2.1+BJ17*($C17-0.6)/2.1 -> 31.983907 | BL17: =IF(AND($C17>=0.208,$C17<=0.6),BE17,IF($C17<=2.7,BK17,BJ17)) -> 32.498114 | BM17: =10^((SUMIFS(Table3!$B:$B,Table3!$A:$A,$B17)+SUMIFS(Table3!$C:$C,Table3!$A:$A,$B17)*LOG10($E17)+(SUMIFS(Table3!$D:$D,Table3!$A:$A,$B17)*$J17)/(SUMIFS(Table3!$E:$E,Table3!$A:$A,$B17)*$D17^7+SUMIFS(Table3!$F:$F,Table3!$A:$A,$B17)*$D17^6+SUMIFS(Table3!$G:$G,Table3!$A:$A,$B17)*$D17^5+SUMIFS(Table3!$H:$H,Table3!$A:$A,$B17)*$D17^4+SUMIFS(Table3!$I:$I,Table3!$A:$A,$B17)*$D17^3+SUMIFS(Table3!$J:$J,Table3!$A:$A,$B17)*$D17^2+SUMIFS(Table3!$K:$K,Table3!$A:$A,$B17)*$D17)+SUMIFS(Table3!$L:$L,Table3!$A:$A,$B17)*LOG10($D17)+SUMIFS(Table3!$N:$N,Table3!$A:$A,$B17)*LOG10(BC17)+LOG10(1/$AD17)-LOG10(20/BD17))/-SUMIFS(Table3!$M:$M,Table3!$A:$A,$B17)) -> 1283.7112 | BN17: =10^((SUMIFS(Table3!$B:$B,Table3!$A:$A,$B17)+SUMIFS(Table3!$C:$C,Table3!$A:$A,$B17)*LOG10($E17)+(SUMIFS(Table3!$D:$D,Table3!$A:$A,$B17)*AW17)/(SUMIFS(Table3!$E:$E,Table3!$A:$A,$B17)*$D17^7+SUMIFS(Table3!$F:$F,Table3!$A:$A,$B17)*$D17^6+SUMIFS(Table3!$G:$G,Table3!$A:$A,$B17)*$D17^5+SUMIFS(Table3!$H:$H,Table3!$A:$A,$B17)*$D17^4+SUMIFS(Table3!$I:$I,Table3!$A:$A,$B17)*$D17^3+SUMIFS(Table3!$J:$J,Table3!$A:$A,$B17)*$D17^2+SUMIFS(Table3!$K:$K,Table3!$A:$A,$B17)*$D17)+SUMIFS(Table3!$L:$L,Table3!$A:$A,$B17)*LOG10($D17)+SUMIFS(Table3!$N:$N,Table3!$A:$A,$B17)*LOG10(AW17)+LOG10(1/$AD17)-LOG10(20/BD17))/-SUMIFS(Table3!$M:$M,Table3!$A:$A,$B17)) -> 1356.5384 | BO17: =10^((SUMIFS(Table4!$B:$B,Table4!$A:$A,$B17)+SUMIFS(Table4!$C:$C,Table4!$A:$A,$B17)*LOG10($E17)+(SUMIFS(Table4!$D:$D,Table4!$A:$A,$B17)*AX17)/(SUMIFS(Table4!$E:$E,Table4!$A:$A,$B17)*$D17^7+SUMIFS(Table4!$F:$F,Table4!$A:$A,$B17)*$D17^6+SUMIFS(Table4!$G:$G,Table4!$A:$A,$B17)*$D17^5+SUMIFS(Table4!$H:$H,Table4!$A:$A,$B17)*$D17^4+SUMIFS(Table4!$I:$I,Table4!$A:$A,$B17)*$D17^3+SUMIFS(Table4!$J:$J,Table4!$A:$A,$B17)*$D17^2+SUMIFS(Table4!$K:$K,Table4!$A:$A,$B17)*$D17)+SUMIFS(Table4!$L:$L,Table4!$A:$A,$B17)*LOG10($D17)+SUMIFS(Table4!$N:$N,Table4!$A:$A,$B17)*LOG10(AX17)+LOG10(1/$AD17)-LOG10(20/BD17))/-SUMIFS(Table4!$M:$M,Table4!$A:$A,$B17)) -> 2082.6827 | BP17: =10^((SUMIFS(Table5!$B:$B,Table5!$A:$A,$B17)+SUMIFS(Table5!$C:$C,Table5!$A:$A,$B17)*LOG10($E17)+(SUMIFS(Table5!$D:$D,Table5!$A:$A,$B17)*AY17)/(SUMIFS(Table5!$E:$E,Table5!$A:$A,$B17)*$D17^7+SUMIFS(Table5!$F:$F,Table5!$A:$A,$B17)*$D17^6+SUMIFS(Table5!$G:$G,Table5!$A:$A,$B17)*$D17^5+SUMIFS(Table5!$H:$H,Table5!$A:$A,$B17)*$D17^4+SUMIFS(Table5!$I:$I,Table5!$A:$A,$B17)*$D17^3+SUMIFS(Table5!$J:$J,Table5!$A:$A,$B17)*$D17^2+SUMIFS(Table5!$K:$K,Table5!$A:$A,$B17)*$D17)+SUMIFS(Table5!$L:$L,Table5!$A:$A,$B17)*LOG10($D17)+SUMIFS(Table5!$N:$N,Table5!$A:$A,$B17)*LOG10(AY17)+LOG10(1/$AD17)-LOG10(20/BD17))/-SUMIFS(Table5!$M:$M,Table5!$A:$A,$B17)) -> 2432.1649 | BQ17: =((BO17-BN17)/2.1)*($C17-2.7)+BO17 -> 1315.0444 | BR17: =((BP17-BO17)/11.6)*($C17-14.3)+BP17 -> 2015.799 | BS17: =(BQ17*(2.7-$C17)/2.1)+(BR17*($C17-0.6)/2.1) -> 1275.0013 | BT17: =IF(AND($C17>=0.208,$C17<=0.6),BM17,IF($C17<=2.7,BS17,BR17)) -> 1283.7112
A18: PN-04C | B18: VCBB | C18: 0.48 | D18: 30.253 | E18: 25 | F18: 457.2 | G18: 437 | H18: 215 | I18: 460 | J18: =10^(SUMIFS(Table1!$C:$C,Table1!$B:$B,600,Table1!$A:$A,$B18)+SUMIFS(Table1!$D:$D,Table1!$B:$B,600,Table1!$A:$A,$B18)*LOG10($D18)+SUMIFS(Table1!$E:$E,Table1!$B:$B,600,Table1!$A:$A,$B18)*LOG10($E18))*(SUMIFS(Table1!$F:$F,Table1!$B:$B,600,Table1!$A:$A,$B18)*$D18^6+SUMIFS(Table1!$G:$G,Table1!$B:$B,600,Table1!$A:$A,$B18)*$D18^5+SUMIFS(Table1!$H:$H,Table1!$B:$B,600,Table1!$A:$A,$B18)*$D18^4+SUMIFS(Table1!$I:$I,Table1!$B:$B,600,Table1!$A:$A,$B18)*$D18^3+SUMIFS(Table1!$J:$J,Table1!$B:$B,600,Table1!$A:$A,$B18)*$D18^2+SUMIFS(Table1!$K:$K,Table1!$B:$B,600,Table1!$A:$A,$B18)*$D18+SUMIFS(Table1!$L:$L,Table1!$B:$B,600,Table1!$A:$A,$B18)) -> 26.022752 | K18: =10^(SUMIFS(Table1!$C:$C,Table1!$B:$B,2700,Table1!$A:$A,$B18)+SUMIFS(Table1!$D:$D,Table1!$B:$B,2700,Table1!$A:$A,$B18)*LOG10($D18)+SUMIFS(Table1!$E:$E,Table1!$B:$B,2700,Table1!$A:$A,$B18)*LOG10($E18))*(SUMIFS(Table1!$F:$F,Table1!$B:$B,2700,Table1!$A:$A,$B18)*$D18^6+SUMIFS(Table1!$G:$G,Table1!$B:$B,2700,Table1!$A:$A,$B18)*$D18^5+SUMIFS(Table1!$H:$H,Table1!$B:$B,2700,Table1!$A:$A,$B18)*$D18^4+SUMIFS(Table1!$I:$I,Table1!$B:$B,2700,Table1!$A:$A,$B18)*$D18^3+SUMIFS(Table1!$J:$J,Table1!$B:$B,2700,Table1!$A:$A,$B18)*$D18^2+SUMIFS(Table1!$K:$K,Table1!$B:$B,2700,Table1!$A:$A,$B18)*$D18+SUMIFS(Table1!$L:$L,Table1!$B:$B,2700,Table1!$A:$A,$B18)) -> 26.933263 | L18: =10^(SUMIFS(Table1!$C:$C,Table1!$B:$B,14300,Table1!$A:$A,$B18)+SUMIFS(Table1!$D:$D,Table1!$B:$B,14300,Table1!$A:$A,$B18)*LOG10($D18)+SUMIFS(Table1!$E:$E,Table1!$B:$B,14300,Table1!$A:$A,$B18)*LOG10($E18))*(SUMIFS(Table1!$F:$F,Table1!$B:$B,14300,Table1!$A:$A,$B18)*$D18^6+SUMIFS(Table1!$G:$G,Table1!$B:$B,14300,Table1!$A:$A,$B18)*$D18^5+SUMIFS(Table1!$H:$H,Table1!$B:$B,14300,Table1!$A:$A,$B18)*$D18^4+SUMIFS(Table1!$I:$I,Table1!$B:$B,14300,Table1!$A:$A,$B18)*$D18^3+SUMIFS(Table1!$J:$J,Table1!$B:$B,14300,Table1!$A:$A,$B18)*$D18^2+SUMIFS(Table1!$K:$K,Table1!$B:$B,14300,Table1!$A:$A,$B18)*$D18+SUMIFS(Table1!$L:$L,Table1!$B:$B,14300,Table1!$A:$A,$B18)) -> 29.376452 | M18: =((K18-J18)/2.1)*($C18-2.7)+K18 -> 25.970723 | N18: =((L18-K18)/11.6)*($C18-14.3)+L18 -> 26.465687 | O18: =(M18*(2.7-$C18)/2.1)+(N18*($C18-0.6)/2.1) -> 25.942439 | P18: =IF(AND($C18>=0.208,$C18<=0.6),1/SQRT((0.6/$C18)^2*(1/(J18)^2-(0.6^2-($C18)^2)/(0.6^2*($D18)^2))),IF(AND($C18>0.6,$C18<=2.7),O18,IF($C18>2.7,N18,"Errado"))) -> 24.305371 | Q18: 125 | R18: =IF(AND($C18<0.6,$G18<508,$H18<508,$I18<=203.2),"Shallow","Typical") -> Typical | S18: =IF($B18="VCB",4,IF($B18="VCBB",10,IF($B18="HCB",10,0))) -> 10 | T18: =IF($B18="VCB",20,IF($B18="VCBB",24,IF($B18="HCB",22,0))) -> 24 | U18: =IF($G18<=1244.6,$G18,1244.6) -> 437 | V18: =(660.4+($U18-660.4)*($C18+$S18)/$T18)*(1/25.4) -> 22.159396 | W18: =IF($H18<=1244.6,$H18,1244.6) -> 215 | X18: =(660.4+($W18-660.4)*($C18+$S18)/$T18)*(1/25.4) -> 18.342861 | Y18: =IF($G18<508,IF($R18="Typical",20,0.03937*$G18),IF($G18<=660.4,0.03937*$G18,IF($G18<=1244.6,$V18,$V18))) -> 20 | Z18: =IF($H18<508,IF($R18="Typical",20,0.03937*$H18),IF($H18<=660.4,0.03937*$H18,IF($H18<=1244.6,IF($B18="VCB",0.03937*$H18,$X18),IF($B18="VCB",49,$X18)))) -> 20 | AA18: =(Z18+Y18)/2 -> 20 | AB18: =SUMIFS(Table7!C:C,Table7!A:A,"Typical",Table7!B:B,$B18)*$AA18^2+SUMIFS(Table7!D:D,Table7!A:A,"Typical",Table7!B:B,$B18)*$AA18+SUMIFS(Table7!E:E,Table7!A:A,"Typical",Table7!B:B,$B18) -> 0.99996 | AC18: =1/(SUMIFS(Table7!C:C,Table7!A:A,"Shallow",Table7!B:B,$B18)*$AA18^2+SUMIFS(Table7!D:D,Table7!A:A,"Shallow",Table7!B:B,$B18)*$AA18+SUMIFS(Table7!E:E,Table7!A:A,"Shallow",Table7!B:B,$B18)) -> 1.001001 | AD18: =IF(R18="Typical",AB18,AC18) -> 0.99996 | AE18: =(12.552/50)*Q18*10^(SUMIFS(Table3!$B:$B,Table3!$A:$A,$B18)+SUMIFS(Table3!$C:$C,Table3!$A:$A,$B18)*LOG10($E18)+SUMIFS(Table3!$D:$D,Table3!$A:$A,$B18)*$J18/(SUMIFS(Table3!$E:$E,Table3!$A:$A,$B18)*$D18^7+SUMIFS(Table3!$F:$F,Table3!$A:$A,$B18)*$D18^6+SUMIFS(Table3!$G:$G,Table3!$A:$A,$B18)*$D18^5+SUMIFS(Table3!$H:$H,Table3!$A:$A,$B18)*$D18^4+SUMIFS(Table3!$I:$I,Table3!$A:$A,$B18)*$D18^3+SUMIFS(Table3!$J:$J,Table3!$A:$A,$B18)*$D18^2+SUMIFS(Table3!$K:$K,Table3!$A:$A,$B18)*$D18)+SUMIFS(Table3!$L:$L,Table3!$A:$A,$B18)*LOG10($D18)+SUMIFS(Table3!$M:$M,Table3!$A:$A,$B18)*LOG10($F18)+SUMIFS(Table3!$N:$N,Table3!$A:$A,$B18)*LOG10(P18)+LOG10(1/$AD18)) -> 39.962615 | AF18: =(12.552/50)*Q18*10^(SUMIFS(Table3!$B:$B,Table3!$A:$A,$B18)+SUMIFS(Table3!$C:$C,Table3!$A:$A,$B18)*LOG10($E18)+SUMIFS(Table3!$D:$D,Table3!$A:$A,$B18)*J18/(SUMIFS(Table3!$E:$E,Table3!$A:$A,$B18)*$D18^7+SUMIFS(Table3!$F:$F,Table3!$A:$A,$B18)*$D18^6+SUMIFS(Table3!$G:$G,Table3!$A:$A,$B18)*$D18^5+SUMIFS(Table3!$H:$H,Table3!$A:$A,$B18)*$D18^4+SUMIFS(Table3!$I:$I,Table3!$A:$A,$B18)*$D18^3+SUMIFS(Table3!$J:$J,Table3!$A:$A,$B18)*$D18^2+SUMIFS(Table3!$K:$K,Table3!$A:$A,$B18)*$D18)+SUMIFS(Table3!$L:$L,Table3!$A:$A,$B18)*LOG10($D18)+SUMIFS(Table3!$M:$M,Table3!$A:$A,$B18)*LOG10($F18)+SUMIFS(Table3!$N:$N,Table3!$A:$A,$B18)*LOG10(J18)+LOG10(1/$AD18)) -> 43.344954 | AG18: =(12.552/50)*Q18*10^(SUMIFS(Table4!$B:$B,Table4!$A:$A,$B18)+SUMIFS(Table4!$C:$C,Table4!$A:$A,$B18)*LOG10($E18)+SUMIFS(Table4!$D:$D,Table4!$A:$A,$B18)*K18/(SUMIFS(Table4!$E:$E,Table4!$A:$A,$B18)*$D18^7+SUMIFS(Table4!$F:$F,Table4!$A:$A,$B18)*$D18^6+SUMIFS(Table4!$G:$G,Table4!$A:$A,$B18)*$D18^5+SUMIFS(Table4!$H:$H,Table4!$A:$A,$B18)*$D18^4+SUMIFS(Table4!$I:$I,Table4!$A:$A,$B18)*$D18^3+SUMIFS(Table4!$J:$J,Table4!$A:$A,$B18)*$D18^2+SUMIFS(Table4!$K:$K,Table4!$A:$A,$B18)*$D18)+SUMIFS(Table4!$L:$L,Table4!$A:$A,$B18)*LOG10($D18)+SUMIFS(Table4!$M:$M,Table4!$A:$A,$B18)*LOG10($F18)+SUMIFS(Table4!$N:$N,Table4!$A:$A,$B18)*LOG10(K18)+LOG10(1/$AD18)) -> 70.932843 | AH18: =(12.552/50)*Q18*10^(SUMIFS(Table5!$B:$B,Table5!$A:$A,$B18)+SUMIFS(Table5!$C:$C,Table5!$A:$A,$B18)*LOG10($E18)+SUMIFS(Table5!$D:$D,Table5!$A:$A,$B18)*L18/(SUMIFS(Table5!$E:$E,Table5!$A:$A,$B18)*$D18^7+SUMIFS(Table5!$F:$F,Table5!$A:$A,$B18)*$D18^6+SUMIFS(Table5!$G:$G,Table5!$A:$A,$B18)*$D18^5+SUMIFS(Table5!$H:$H,Table5!$A:$A,$B18)*$D18^4+SUMIFS(Table5!$I:$I,Table5!$A:$A,$B18)*$D18^3+SUMIFS(Table5!$J:$J,Table5!$A:$A,$B18)*$D18^2+SUMIFS(Table5!$K:$K,Table5!$A:$A,$B18)*$D18)+SUMIFS(Table5!$L:$L,Table5!$A:$A,$B18)*LOG10($D18)+SUMIFS(Table5!$M:$M,Table5!$A:$A,$B18)*LOG10($F18)+SUMIFS(Table5!$N:$N,Table5!$A:$A,$B18)*LOG10(L18)+LOG10(1/$AD18)) -> 85.036205 | AI18: =((AG18-AF18)/2.1)*($C18-2.7)+AG18 -> 41.768503 | AJ18: =((AH18-AG18)/11.6)*($C18-14.3)+AH18 -> 68.233752 | AK18: =AI18*(2.7-$C18)/2.1+AJ18*($C18-0.6)/2.1 -> 40.256203 | AL18: =IF(AND($C18>=0.208,$C18<=0.6),AE18,IF($C18<=2.7,AK18,AJ18)) -> 39.962615 | AM18: =10^((SUMIFS(Table3!$B:$B,Table3!$A:$A,$B18)+SUMIFS(Table3!$C:$C,Table3!$A:$A,$B18)*LOG10($E18)+(SUMIFS(Table3!$D:$D,Table3!$A:$A,$B18)*$J18)/(SUMIFS(Table3!$E:$E,Table3!$A:$A,$B18)*$D18^7+SUMIFS(Table3!$F:$F,Table3!$A:$A,$B18)*$D18^6+SUMIFS(Table3!$G:$G,Table3!$A:$A,$B18)*$D18^5+SUMIFS(Table3!$H:$H,Table3!$A:$A,$B18)*$D18^4+SUMIFS(Table3!$I:$I,Table3!$A:$A,$B18)*$D18^3+SUMIFS(Table3!$J:$J,Table3!$A:$A,$B18)*$D18^2+SUMIFS(Table3!$K:$K,Table3!$A:$A,$B18)*$D18)+SUMIFS(Table3!$L:$L,Table3!$A:$A,$B18)*LOG10($D18)+SUMIFS(Table3!$N:$N,Table3!$A:$A,$B18)*LOG10(P18)+LOG10(1/$AD18)-LOG10(20/Q18))/-SUMIFS(Table3!$M:$M,Table3!$A:$A,$B18)) -> 1439.1487 | AN18: =10^((SUMIFS(Table3!$B:$B,Table3!$A:$A,$B18)+SUMIFS(Table3!$C:$C,Table3!$A:$A,$B18)*LOG10($E18)+(SUMIFS(Table3!$D:$D,Table3!$A:$A,$B18)*J18)/(SUMIFS(Table3!$E:$E,Table3!$A:$A,$B18)*$D18^7+SUMIFS(Table3!$F:$F,Table3!$A:$A,$B18)*$D18^6+SUMIFS(Table3!$G:$G,Table3!$A:$A,$B18)*$D18^5+SUMIFS(Table3!$H:$H,Table3!$A:$A,$B18)*$D18^4+SUMIFS(Table3!$I:$I,Table3!$A:$A,$B18)*$D18^3+SUMIFS(Table3!$J:$J,Table3!$A:$A,$B18)*$D18^2+SUMIFS(Table3!$K:$K,Table3!$A:$A,$B18)*$D18)+SUMIFS(Table3!$L:$L,Table3!$A:$A,$B18)*LOG10($D18)+SUMIFS(Table3!$N:$N,Table3!$A:$A,$B18)*LOG10(J18)+LOG10(1/$AD18)-LOG10(20/Q18))/-SUMIFS(Table3!$M:$M,Table3!$A:$A,$B18)) -> 1505.2572 | AO18: =10^((SUMIFS(Table4!$B:$B,Table4!$A:$A,$B18)+SUMIFS(Table4!$C:$C,Table4!$A:$A,$B18)*LOG10($E18)+(SUMIFS(Table4!$D:$D,Table4!$A:$A,$B18)*K18)/(SUMIFS(Table4!$E:$E,Table4!$A:$A,$B18)*$D18^7+SUMIFS(Table4!$F:$F,Table4!$A:$A,$B18)*$D18^6+SUMIFS(Table4!$G:$G,Table4!$A:$A,$B18)*$D18^5+SUMIFS(Table4!$H:$H,Table4!$A:$A,$B18)*$D18^4+SUMIFS(Table4!$I:$I,Table4!$A:$A,$B18)*$D18^3+SUMIFS(Table4!$J:$J,Table4!$A:$A,$B18)*$D18^2+SUMIFS(Table4!$K:$K,Table4!$A:$A,$B18)*$D18)+SUMIFS(Table4!$L:$L,Table4!$A:$A,$B18)*LOG10($D18)+SUMIFS(Table4!$N:$N,Table4!$A:$A,$B18)*LOG10(K18)+LOG10(1/$AD18)-LOG10(20/Q18))/-SUMIFS(Table4!$M:$M,Table4!$A:$A,$B18)) -> 2090.7865 | AP18: =10^((SUMIFS(Table5!$B:$B,Table5!$A:$A,$B18)+SUMIFS(Table5!$C:$C,Table5!$A:$A,$B18)*LOG10($E18)+(SUMIFS(Table5!$D:$D,Table5!$A:$A,$B18)*L18)/(SUMIFS(Table5!$E:$E,Table5!$A:$A,$B18)*$D18^7+SUMIFS(Table5!$F:$F,Table5!$A:$A,$B18)*$D18^6+SUMIFS(Table5!$G:$G,Table5!$A:$A,$B18)*$D18^5+SUMIFS(Table5!$H:$H,Table5!$A:$A,$B18)*$D18^4+SUMIFS(Table5!$I:$I,Table5!$A:$A,$B18)*$D18^3+SUMIFS(Table5!$J:$J,Table5!$A:$A,$B18)*$D18^2+SUMIFS(Table5!$K:$K,Table5!$A:$A,$B18)*$D18)+SUMIFS(Table5!$L:$L,Table5!$A:$A,$B18)*LOG10($D18)+SUMIFS(Table5!$N:$N,Table5!$A:$A,$B18)*LOG10(L18)+LOG10(1/$AD18)-LOG10(20/Q18))/-SUMIFS(Table5!$M:$M,Table5!$A:$A,$B18)) -> 2470.9372 | AQ18: =((AO18-AN18)/2.1)*($C18-2.7)+AO18 -> 1471.7984 | AR18: =((AP18-AO18)/11.6)*($C18-14.3)+AP18 -> 2018.0336 | AS18: =(AQ18*(2.7-$C18)/2.1)+(AR18*($C18-0.6)/2.1) -> 1440.5849 | AT18: =IF(AND($C18>=0.208,$C18<=0.6),AM18,IF($C18<=2.7,AS18,AR18)) -> 1439.1487 | AU18: =SUMIFS(Table2!$B:$B,Table2!$A:$A,$B18)*$C18^6+SUMIFS(Table2!$C:$C,Table2!$A:$A,$B18)*$C18^5+SUMIFS(Table2!$D:$D,Table2!$A:$A,$B18)*$C18^4+SUMIFS(Table2!$E:$E,Table2!$A:$A,$B18)*$C18^3+SUMIFS(Table2!$F:$F,Table2!$A:$A,$B18)*$C18^2+SUMIFS(Table2!$G:$G,Table2!$A:$A,$B18)*$C18+SUMIFS(Table2!$H:$H,Table2!$A:$A,$B18) -> 0.23674766 | AV18: =1-0.5*AU18 -> 0.88162617 | AW18: =J18*$AV18 -> 22.942339 | AX18: =K18*$AV18 -> 23.745069 | AY18: =L18*$AV18 -> 25.899049 | AZ18: =((AX18-AW18)/2.1)*($C18-2.7)+AX18 -> 22.896469 | BA18: =((AY18-AX18)/11.6)*($C18-14.3)+AY18 -> 23.332842 | BB18: =(AZ18*(2.7-$C18)/2.1)+(BA18*($C18-0.6)/2.1) -> 22.871533 | BC18: =IF(AND($C18>=0.208,$C18<=0.6),1/SQRT((0.6/$C18)^2*(1/(J18)^2-(0.6^2-($C18)^2)/(0.6^2*($D18)^2)))*AV18,IF(AND($C18>0.6,$C18<=2.7),BB18,IF($C18>2.7,BA18,"Erro"))) -> 21.428251 | BD18: 125 | BE18: =(12.552/50)*BD18*10^(SUMIFS(Table3!$B:$B,Table3!$A:$A,$B18)+SUMIFS(Table3!$C:$C,Table3!$A:$A,$B18)*LOG10($E18)+SUMIFS(Table3!$D:$D,Table3!$A:$A,$B18)*$J18/(SUMIFS(Table3!$E:$E,Table3!$A:$A,$B18)*$D18^7+SUMIFS(Table3!$F:$F,Table3!$A:$A,$B18)*$D18^6+SUMIFS(Table3!$G:$G,Table3!$A:$A,$B18)*$D18^5+SUMIFS(Table3!$H:$H,Table3!$A:$A,$B18)*$D18^4+SUMIFS(Table3!$I:$I,Table3!$A:$A,$B18)*$D18^3+SUMIFS(Table3!$J:$J,Table3!$A:$A,$B18)*$D18^2+SUMIFS(Table3!$K:$K,Table3!$A:$A,$B18)*$D18)+SUMIFS(Table3!$L:$L,Table3!$A:$A,$B18)*LOG10($D18)+SUMIFS(Table3!$M:$M,Table3!$A:$A,$B18)*LOG10($F18)+SUMIFS(Table3!$N:$N,Table3!$A:$A,$B18)*LOG10(BC18)+LOG10(1/$AD18)) -> 34.398731 | BF18: =(12.552/50)*BD18*10^(SUMIFS(Table3!$B:$B,Table3!$A:$A,$B18)+SUMIFS(Table3!$C:$C,Table3!$A:$A,$B18)*LOG10($E18)+SUMIFS(Table3!$D:$D,Table3!$A:$A,$B18)*AW18/(SUMIFS(Table3!$E:$E,Table3!$A:$A,$B18)*$D18^7+SUMIFS(Table3!$F:$F,Table3!$A:$A,$B18)*$D18^6+SUMIFS(Table3!$G:$G,Table3!$A:$A,$B18)*$D18^5+SUMIFS(Table3!$H:$H,Table3!$A:$A,$B18)*$D18^4+SUMIFS(Table3!$I:$I,Table3!$A:$A,$B18)*$D18^3+SUMIFS(Table3!$J:$J,Table3!$A:$A,$B18)*$D18^2+SUMIFS(Table3!$K:$K,Table3!$A:$A,$B18)*$D18)+SUMIFS(Table3!$L:$L,Table3!$A:$A,$B18)*LOG10($D18)+SUMIFS(Table3!$M:$M,Table3!$A:$A,$B18)*LOG10($F18)+SUMIFS(Table3!$N:$N,Table3!$A:$A,$B18)*LOG10(AW18)+LOG10(1/$AD18)) -> 38.080168 | BG18: =(12.552/50)*BD18*10^(SUMIFS(Table4!$B:$B,Table4!$A:$A,$B18)+SUMIFS(Table4!$C:$C,Table4!$A:$A,$B18)*LOG10($E18)+SUMIFS(Table4!$D:$D,Table4!$A:$A,$B18)*AX18/(SUMIFS(Table4!$E:$E,Table4!$A:$A,$B18)*$D18^7+SUMIFS(Table4!$F:$F,Table4!$A:$A,$B18)*$D18^6+SUMIFS(Table4!$G:$G,Table4!$A:$A,$B18)*$D18^5+SUMIFS(Table4!$H:$H,Table4!$A:$A,$B18)*$D18^4+SUMIFS(Table4!$I:$I,Table4!$A:$A,$B18)*$D18^3+SUMIFS(Table4!$J:$J,Table4!$A:$A,$B18)*$D18^2+SUMIFS(Table4!$K:$K,Table4!$A:$A,$B18)*$D18)+SUMIFS(Table4!$L:$L,Table4!$A:$A,$B18)*LOG10($D18)+SUMIFS(Table4!$M:$M,Table4!$A:$A,$B18)*LOG10($F18)+SUMIFS(Table4!$N:$N,Table4!$A:$A,$B18)*LOG10(AX18)+LOG10(1/$AD18)) -> 74.831792 | BH18: =(12.552/50)*BD18*10^(SUMIFS(Table5!$B:$B,Table5!$A:$A,$B18)+SUMIFS(Table5!$C:$C,Table5!$A:$A,$B18)*LOG10($E18)+SUMIFS(Table5!$D:$D,Table5!$A:$A,$B18)*AY18/(SUMIFS(Table5!$E:$E,Table5!$A:$A,$B18)*$D18^7+SUMIFS(Table5!$F:$F,Table5!$A:$A,$B18)*$D18^6+SUMIFS(Table5!$G:$G,Table5!$A:$A,$B18)*$D18^5+SUMIFS(Table5!$H:$H,Table5!$A:$A,$B18)*$D18^4+SUMIFS(Table5!$I:$I,Table5!$A:$A,$B18)*$D18^3+SUMIFS(Table5!$J:$J,Table5!$A:$A,$B18)*$D18^2+SUMIFS(Table5!$K:$K,Table5!$A:$A,$B18)*$D18)+SUMIFS(Table5!$L:$L,Table5!$A:$A,$B18)*LOG10($D18)+SUMIFS(Table5!$M:$M,Table5!$A:$A,$B18)*LOG10($F18)+SUMIFS(Table5!$N:$N,Table5!$A:$A,$B18)*LOG10(AY18)+LOG10(1/$AD18)) -> 87.793012 | BI18: =((BG18-BF18)/2.1)*($C18-2.7)+BG18 -> 35.980076 | BJ18: =((BH18-BG18)/11.6)*($C18-14.3)+BH18 -> 72.351283 | BK18: =BI18*(2.7-$C18)/2.1+BJ18*($C18-0.6)/2.1 -> 33.901721 | BL18: =IF(AND($C18>=0.208,$C18<=0.6),BE18,IF($C18<=2.7,BK18,BJ18)) -> 34.398731 | BM18: =10^((SUMIFS(Table3!$B:$B,Table3!$A:$A,$B18)+SUMIFS(Table3!$C:$C,Table3!$A:$A,$B18)*LOG10($E18)+(SUMIFS(Table3!$D:$D,Table3!$A:$A,$B18)*$J18)/(SUMIFS(Table3!$E:$E,Table3!$A:$A,$B18)*$D18^7+SUMIFS(Table3!$F:$F,Table3!$A:$A,$B18)*$D18^6+SUMIFS(Table3!$G:$G,Table3!$A:$A,$B18)*$D18^5+SUMIFS(Table3!$H:$H,Table3!$A:$A,$B18)*$D18^4+SUMIFS(Table3!$I:$I,Table3!$A:$A,$B18)*$D18^3+SUMIFS(Table3!$J:$J,Table3!$A:$A,$B18)*$D18^2+SUMIFS(Table3!$K:$K,Table3!$A:$A,$B18)*$D18)+SUMIFS(Table3!$L:$L,Table3!$A:$A,$B18)*LOG10($D18)+SUMIFS(Table3!$N:$N,Table3!$A:$A,$B18)*LOG10(BC18)+LOG10(1/$AD18)-LOG10(20/BD18))/-SUMIFS(Table3!$M:$M,Table3!$A:$A,$B18)) -> 1324.6849 | BN18: =10^((SUMIFS(Table3!$B:$B,Table3!$A:$A,$B18)+SUMIFS(Table3!$C:$C,Table3!$A:$A,$B18)*LOG10($E18)+(SUMIFS(Table3!$D:$D,Table3!$A:$A,$B18)*AW18)/(SUMIFS(Table3!$E:$E,Table3!$A:$A,$B18)*$D18^7+SUMIFS(Table3!$F:$F,Table3!$A:$A,$B18)*$D18^6+SUMIFS(Table3!$G:$G,Table3!$A:$A,$B18)*$D18^5+SUMIFS(Table3!$H:$H,Table3!$A:$A,$B18)*$D18^4+SUMIFS(Table3!$I:$I,Table3!$A:$A,$B18)*$D18^3+SUMIFS(Table3!$J:$J,Table3!$A:$A,$B18)*$D18^2+SUMIFS(Table3!$K:$K,Table3!$A:$A,$B18)*$D18)+SUMIFS(Table3!$L:$L,Table3!$A:$A,$B18)*LOG10($D18)+SUMIFS(Table3!$N:$N,Table3!$A:$A,$B18)*LOG10(AW18)+LOG10(1/$AD18)-LOG10(20/BD18))/-SUMIFS(Table3!$M:$M,Table3!$A:$A,$B18)) -> 1401.2702 | BO18: =10^((SUMIFS(Table4!$B:$B,Table4!$A:$A,$B18)+SUMIFS(Table4!$C:$C,Table4!$A:$A,$B18)*LOG10($E18)+(SUMIFS(Table4!$D:$D,Table4!$A:$A,$B18)*AX18)/(SUMIFS(Table4!$E:$E,Table4!$A:$A,$B18)*$D18^7+SUMIFS(Table4!$F:$F,Table4!$A:$A,$B18)*$D18^6+SUMIFS(Table4!$G:$G,Table4!$A:$A,$B18)*$D18^5+SUMIFS(Table4!$H:$H,Table4!$A:$A,$B18)*$D18^4+SUMIFS(Table4!$I:$I,Table4!$A:$A,$B18)*$D18^3+SUMIFS(Table4!$J:$J,Table4!$A:$A,$B18)*$D18^2+SUMIFS(Table4!$K:$K,Table4!$A:$A,$B18)*$D18)+SUMIFS(Table4!$L:$L,Table4!$A:$A,$B18)*LOG10($D18)+SUMIFS(Table4!$N:$N,Table4!$A:$A,$B18)*LOG10(AX18)+LOG10(1/$AD18)-LOG10(20/BD18))/-SUMIFS(Table4!$M:$M,Table4!$A:$A,$B18)) -> 2156.0061 | BP18: =10^((SUMIFS(Table5!$B:$B,Table5!$A:$A,$B18)+SUMIFS(Table5!$C:$C,Table5!$A:$A,$B18)*LOG10($E18)+(SUMIFS(Table5!$D:$D,Table5!$A:$A,$B18)*AY18)/(SUMIFS(Table5!$E:$E,Table5!$A:$A,$B18)*$D18^7+SUMIFS(Table5!$F:$F,Table5!$A:$A,$B18)*$D18^6+SUMIFS(Table5!$G:$G,Table5!$A:$A,$B18)*$D18^5+SUMIFS(Table5!$H:$H,Table5!$A:$A,$B18)*$D18^4+SUMIFS(Table5!$I:$I,Table5!$A:$A,$B18)*$D18^3+SUMIFS(Table5!$J:$J,Table5!$A:$A,$B18)*$D18^2+SUMIFS(Table5!$K:$K,Table5!$A:$A,$B18)*$D18)+SUMIFS(Table5!$L:$L,Table5!$A:$A,$B18)*LOG10($D18)+SUMIFS(Table5!$N:$N,Table5!$A:$A,$B18)*LOG10(AY18)+LOG10(1/$AD18)-LOG10(20/BD18))/-SUMIFS(Table5!$M:$M,Table5!$A:$A,$B18)) -> 2518.3966 | BQ18: =((BO18-BN18)/2.1)*($C18-2.7)+BO18 -> 1358.1424 | BR18: =((BP18-BO18)/11.6)*($C18-14.3)+BP18 -> 2086.652 | BS18: =(BQ18*(2.7-$C18)/2.1)+(BR18*($C18-0.6)/2.1) -> 1316.5133 | BT18: =IF(AND($C18>=0.208,$C18<=0.6),BM18,IF($C18<=2.7,BS18,BR18)) -> 1324.6849
A19: PN-05 | B19: VCBB | C19: 0.48 | D19: 29.939 | E19: 25 | F19: 457.2 | G19: 420 | H19: 290 | I19: 450 | J19: =10^(SUMIFS(Table1!$C:$C,Table1!$B:$B,600,Table1!$A:$A,$B19)+SUMIFS(Table1!$D:$D,Table1!$B:$B,600,Table1!$A:$A,$B19)*LOG10($D19)+SUMIFS(Table1!$E:$E,Table1!$B:$B,600,Table1!$A:$A,$B19)*LOG10($E19))*(SUMIFS(Table1!$F:$F,Table1!$B:$B,600,Table1!$A:$A,$B19)*$D19^6+SUMIFS(Table1!$G:$G,Table1!$B:$B,600,Table1!$A:$A,$B19)*$D19^5+SUMIFS(Table1!$H:$H,Table1!$B:$B,600,Table1!$A:$A,$B19)*$D19^4+SUMIFS(Table1!$I:$I,Table1!$B:$B,600,Table1!$A:$A,$B19)*$D19^3+SUMIFS(Table1!$J:$J,Table1!$B:$B,600,Table1!$A:$A,$B19)*$D19^2+SUMIFS(Table1!$K:$K,Table1!$B:$B,600,Table1!$A:$A,$B19)*$D19+SUMIFS(Table1!$L:$L,Table1!$B:$B,600,Table1!$A:$A,$B19)) -> 25.775025 | K19: =10^(SUMIFS(Table1!$C:$C,Table1!$B:$B,2700,Table1!$A:$A,$B19)+SUMIFS(Table1!$D:$D,Table1!$B:$B,2700,Table1!$A:$A,$B19)*LOG10($D19)+SUMIFS(Table1!$E:$E,Table1!$B:$B,2700,Table1!$A:$A,$B19)*LOG10($E19))*(SUMIFS(Table1!$F:$F,Table1!$B:$B,2700,Table1!$A:$A,$B19)*$D19^6+SUMIFS(Table1!$G:$G,Table1!$B:$B,2700,Table1!$A:$A,$B19)*$D19^5+SUMIFS(Table1!$H:$H,Table1!$B:$B,2700,Table1!$A:$A,$B19)*$D19^4+SUMIFS(Table1!$I:$I,Table1!$B:$B,2700,Table1!$A:$A,$B19)*$D19^3+SUMIFS(Table1!$J:$J,Table1!$B:$B,2700,Table1!$A:$A,$B19)*$D19^2+SUMIFS(Table1!$K:$K,Table1!$B:$B,2700,Table1!$A:$A,$B19)*$D19+SUMIFS(Table1!$L:$L,Table1!$B:$B,2700,Table1!$A:$A,$B19)) -> 26.660802 | L19: =10^(SUMIFS(Table1!$C:$C,Table1!$B:$B,14300,Table1!$A:$A,$B19)+SUMIFS(Table1!$D:$D,Table1!$B:$B,14300,Table1!$A:$A,$B19)*LOG10($D19)+SUMIFS(Table1!$E:$E,Table1!$B:$B,14300,Table1!$A:$A,$B19)*LOG10($E19))*(SUMIFS(Table1!$F:$F,Table1!$B:$B,14300,Table1!$A:$A,$B19)*$D19^6+SUMIFS(Table1!$G:$G,Table1!$B:$B,14300,Table1!$A:$A,$B19)*$D19^5+SUMIFS(Table1!$H:$H,Table1!$B:$B,14300,Table1!$A:$A,$B19)*$D19^4+SUMIFS(Table1!$I:$I,Table1!$B:$B,14300,Table1!$A:$A,$B19)*$D19^3+SUMIFS(Table1!$J:$J,Table1!$B:$B,14300,Table1!$A:$A,$B19)*$D19^2+SUMIFS(Table1!$K:$K,Table1!$B:$B,14300,Table1!$A:$A,$B19)*$D19+SUMIFS(Table1!$L:$L,Table1!$B:$B,14300,Table1!$A:$A,$B19)) -> 29.074725 | M19: =((K19-J19)/2.1)*($C19-2.7)+K19 -> 25.724409 | N19: =((L19-K19)/11.6)*($C19-14.3)+L19 -> 26.198827 | O19: =(M19*(2.7-$C19)/2.1)+(N19*($C19-0.6)/2.1) -> 25.697299 | P19: =IF(AND($C19>=0.208,$C19<=0.6),1/SQRT((0.6/$C19)^2*(1/(J19)^2-(0.6^2-($C19)^2)/(0.6^2*($D19)^2))),IF(AND($C19>0.6,$C19<=2.7),O19,IF($C19>2.7,N19,"Errado"))) -> 24.081591 | Q19: 125 | R19: =IF(AND($C19<0.6,$G19<508,$H19<508,$I19<=203.2),"Shallow","Typical") -> Typical | S19: =IF($B19="VCB",4,IF($B19="VCBB",10,IF($B19="HCB",10,0))) -> 10 | T19: =IF($B19="VCB",20,IF($B19="VCBB",24,IF($B19="HCB",22,0))) -> 24 | U19: =IF($G19<=1244.6,$G19,1244.6) -> 420 | V19: =(660.4+($U19-660.4)*($C19+$S19)/$T19)*(1/25.4) -> 21.867139 | W19: =IF($H19<=1244.6,$H19,1244.6) -> 290 | X19: =(660.4+($W19-660.4)*($C19+$S19)/$T19)*(1/25.4) -> 19.632231 | Y19: =IF($G19<508,IF($R19="Typical",20,0.03937*$G19),IF($G19<=660.4,0.03937*$G19,IF($G19<=1244.6,$V19,$V19))) -> 20 | Z19: =IF($H19<508,IF($R19="Typical",20,0.03937*$H19),IF($H19<=660.4,0.03937*$H19,IF($H19<=1244.6,IF($B19="VCB",0.03937*$H19,$X19),IF($B19="VCB",49,$X19)))) -> 20 | AA19: =(Z19+Y19)/2 -> 20 | AB19: =SUMIFS(Table7!C:C,Table7!A:A,"Typical",Table7!B:B,$B19)*$AA19^2+SUMIFS(Table7!D:D,Table7!A:A,"Typical",Table7!B:B,$B19)*$AA19+SUMIFS(Table7!E:E,Table7!A:A,"Typical",Table7!B:B,$B19) -> 0.99996 | AC19: =1/(SUMIFS(Table7!C:C,Table7!A:A,"Shallow",Table7!B:B,$B19)*$AA19^2+SUMIFS(Table7!D:D,Table7!A:A,"Shallow",Table7!B:B,$B19)*$AA19+SUMIFS(Table7!E:E,Table7!A:A,"Shallow",Table7!B:B,$B19)) -> 1.001001 | AD19: =IF(R19="Typical",AB19,AC19) -> 0.99996 | AE19: =(12.552/50)*Q19*10^(SUMIFS(Table3!$B:$B,Table3!$A:$A,$B19)+SUMIFS(Table3!$C:$C,Table3!$A:$A,$B19)*LOG10($E19)+SUMIFS(Table3!$D:$D,Table3!$A:$A,$B19)*$J19/(SUMIFS(Table3!$E:$E,Table3!$A:$A,$B19)*$D19^7+SUMIFS(Table3!$F:$F,Table3!$A:$A,$B19)*$D19^6+SUMIFS(Table3!$G:$G,Table3!$A:$A,$B19)*$D19^5+SUMIFS(Table3!$H:$H,Table3!$A:$A,$B19)*$D19^4+SUMIFS(Table3!$I:$I,Table3!$A:$A,$B19)*$D19^3+SUMIFS(Table3!$J:$J,Table3!$A:$A,$B19)*$D19^2+SUMIFS(Table3!$K:$K,Table3!$A:$A,$B19)*$D19)+SUMIFS(Table3!$L:$L,Table3!$A:$A,$B19)*LOG10($D19)+SUMIFS(Table3!$M:$M,Table3!$A:$A,$B19)*LOG10($F19)+SUMIFS(Table3!$N:$N,Table3!$A:$A,$B19)*LOG10(P19)+LOG10(1/$AD19)) -> 39.548481 | AF19: =(12.552/50)*Q19*10^(SUMIFS(Table3!$B:$B,Table3!$A:$A,$B19)+SUMIFS(Table3!$C:$C,Table3!$A:$A,$B19)*LOG10($E19)+SUMIFS(Table3!$D:$D,Table3!$A:$A,$B19)*J19/(SUMIFS(Table3!$E:$E,Table3!$A:$A,$B19)*$D19^7+SUMIFS(Table3!$F:$F,Table3!$A:$A,$B19)*$D19^6+SUMIFS(Table3!$G:$G,Table3!$A:$A,$B19)*$D19^5+SUMIFS(Table3!$H:$H,Table3!$A:$A,$B19)*$D19^4+SUMIFS(Table3!$I:$I,Table3!$A:$A,$B19)*$D19^3+SUMIFS(Table3!$J:$J,Table3!$A:$A,$B19)*$D19^2+SUMIFS(Table3!$K:$K,Table3!$A:$A,$B19)*$D19)+SUMIFS(Table3!$L:$L,Table3!$A:$A,$B19)*LOG10($D19)+SUMIFS(Table3!$M:$M,Table3!$A:$A,$B19)*LOG10($F19)+SUMIFS(Table3!$N:$N,Table3!$A:$A,$B19)*LOG10(J19)+LOG10(1/$AD19)) -> 42.879663 | AG19: =(12.552/50)*Q19*10^(SUMIFS(Table4!$B:$B,Table4!$A:$A,$B19)+SUMIFS(Table4!$C:$C,Table4!$A:$A,$B19)*LOG10($E19)+SUMIFS(Table4!$D:$D,Table4!$A:$A,$B19)*K19/(SUMIFS(Table4!$E:$E,Table4!$A:$A,$B19)*$D19^7+SUMIFS(Table4!$F:$F,Table4!$A:$A,$B19)*$D19^6+SUMIFS(Table4!$G:$G,Table4!$A:$A,$B19)*$D19^5+SUMIFS(Table4!$H:$H,Table4!$A:$A,$B19)*$D19^4+SUMIFS(Table4!$I:$I,Table4!$A:$A,$B19)*$D19^3+SUMIFS(Table4!$J:$J,Table4!$A:$A,$B19)*$D19^2+SUMIFS(Table4!$K:$K,Table4!$A:$A,$B19)*$D19)+SUMIFS(Table4!$L:$L,Table4!$A:$A,$B19)*LOG10($D19)+SUMIFS(Table4!$M:$M,Table4!$A:$A,$B19)*LOG10($F19)+SUMIFS(Table4!$N:$N,Table4!$A:$A,$B19)*LOG10(K19)+LOG10(1/$AD19)) -> 70.145152 | AH19: =(12.552/50)*Q19*10^(SUMIFS(Table5!$B:$B,Table5!$A:$A,$B19)+SUMIFS(Table5!$C:$C,Table5!$A:$A,$B19)*LOG10($E19)+SUMIFS(Table5!$D:$D,Table5!$A:$A,$B19)*L19/(SUMIFS(Table5!$E:$E,Table5!$A:$A,$B19)*$D19^7+SUMIFS(Table5!$F:$F,Table5!$A:$A,$B19)*$D19^6+SUMIFS(Table5!$G:$G,Table5!$A:$A,$B19)*$D19^5+SUMIFS(Table5!$H:$H,Table5!$A:$A,$B19)*$D19^4+SUMIFS(Table5!$I:$I,Table5!$A:$A,$B19)*$D19^3+SUMIFS(Table5!$J:$J,Table5!$A:$A,$B19)*$D19^2+SUMIFS(Table5!$K:$K,Table5!$A:$A,$B19)*$D19)+SUMIFS(Table5!$L:$L,Table5!$A:$A,$B19)*LOG10($D19)+SUMIFS(Table5!$M:$M,Table5!$A:$A,$B19)*LOG10($F19)+SUMIFS(Table5!$N:$N,Table5!$A:$A,$B19)*LOG10(L19)+LOG10(1/$AD19)) -> 84.122941 | AI19: =((AG19-AF19)/2.1)*($C19-2.7)+AG19 -> 41.321635 | AJ19: =((AH19-AG19)/11.6)*($C19-14.3)+AH19 -> 67.470093 | AK19: =AI19*(2.7-$C19)/2.1+AJ19*($C19-0.6)/2.1 -> 39.827437 | AL19: =IF(AND($C19>=0.208,$C19<=0.6),AE19,IF($C19<=2.7,AK19,AJ19)) -> 39.548481 | AM19: =10^((SUMIFS(Table3!$B:$B,Table3!$A:$A,$B19)+SUMIFS(Table3!$C:$C,Table3!$A:$A,$B19)*LOG10($E19)+(SUMIFS(Table3!$D:$D,Table3!$A:$A,$B19)*$J19)/(SUMIFS(Table3!$E:$E,Table3!$A:$A,$B19)*$D19^7+SUMIFS(Table3!$F:$F,Table3!$A:$A,$B19)*$D19^6+SUMIFS(Table3!$G:$G,Table3!$A:$A,$B19)*$D19^5+SUMIFS(Table3!$H:$H,Table3!$A:$A,$B19)*$D19^4+SUMIFS(Table3!$I:$I,Table3!$A:$A,$B19)*$D19^3+SUMIFS(Table3!$J:$J,Table3!$A:$A,$B19)*$D19^2+SUMIFS(Table3!$K:$K,Table3!$A:$A,$B19)*$D19)+SUMIFS(Table3!$L:$L,Table3!$A:$A,$B19)*LOG10($D19)+SUMIFS(Table3!$N:$N,Table3!$A:$A,$B19)*LOG10(P19)+LOG10(1/$AD19)-LOG10(20/Q19))/-SUMIFS(Table3!$M:$M,Table3!$A:$A,$B19)) -> 1430.8851 | AN19: =10^((SUMIFS(Table3!$B:$B,Table3!$A:$A,$B19)+SUMIFS(Table3!$C:$C,Table3!$A:$A,$B19)*LOG10($E19)+(SUMIFS(Table3!$D:$D,Table3!$A:$A,$B19)*J19)/(SUMIFS(Table3!$E:$E,Table3!$A:$A,$B19)*$D19^7+SUMIFS(Table3!$F:$F,Table3!$A:$A,$B19)*$D19^6+SUMIFS(Table3!$G:$G,Table3!$A:$A,$B19)*$D19^5+SUMIFS(Table3!$H:$H,Table3!$A:$A,$B19)*$D19^4+SUMIFS(Table3!$I:$I,Table3!$A:$A,$B19)*$D19^3+SUMIFS(Table3!$J:$J,Table3!$A:$A,$B19)*$D19^2+SUMIFS(Table3!$K:$K,Table3!$A:$A,$B19)*$D19)+SUMIFS(Table3!$L:$L,Table3!$A:$A,$B19)*LOG10($D19)+SUMIFS(Table3!$N:$N,Table3!$A:$A,$B19)*LOG10(J19)+LOG10(1/$AD19)-LOG10(20/Q19))/-SUMIFS(Table3!$M:$M,Table3!$A:$A,$B19)) -> 1496.3034 | AO19: =10^((SUMIFS(Table4!$B:$B,Table4!$A:$A,$B19)+SUMIFS(Table4!$C:$C,Table4!$A:$A,$B19)*LOG10($E19)+(SUMIFS(Table4!$D:$D,Table4!$A:$A,$B19)*K19)/(SUMIFS(Table4!$E:$E,Table4!$A:$A,$B19)*$D19^7+SUMIFS(Table4!$F:$F,Table4!$A:$A,$B19)*$D19^6+SUMIFS(Table4!$G:$G,Table4!$A:$A,$B19)*$D19^5+SUMIFS(Table4!$H:$H,Table4!$A:$A,$B19)*$D19^4+SUMIFS(Table4!$I:$I,Table4!$A:$A,$B19)*$D19^3+SUMIFS(Table4!$J:$J,Table4!$A:$A,$B19)*$D19^2+SUMIFS(Table4!$K:$K,Table4!$A:$A,$B19)*$D19)+SUMIFS(Table4!$L:$L,Table4!$A:$A,$B19)*LOG10($D19)+SUMIFS(Table4!$N:$N,Table4!$A:$A,$B19)*LOG10(K19)+LOG10(1/$AD19)-LOG10(20/Q19))/-SUMIFS(Table4!$M:$M,Table4!$A:$A,$B19)) -> 2077.4267 | AP19: =10^((SUMIFS(Table5!$B:$B,Table5!$A:$A,$B19)+SUMIFS(Table5!$C:$C,Table5!$A:$A,$B19)*LOG10($E19)+(SUMIFS(Table5!$D:$D,Table5!$A:$A,$B19)*L19)/(SUMIFS(Table5!$E:$E,Table5!$A:$A,$B19)*$D19^7+SUMIFS(Table5!$F:$F,Table5!$A:$A,$B19)*$D19^6+SUMIFS(Table5!$G:$G,Table5!$A:$A,$B19)*$D19^5+SUMIFS(Table5!$H:$H,Table5!$A:$A,$B19)*$D19^4+SUMIFS(Table5!$I:$I,Table5!$A:$A,$B19)*$D19^3+SUMIFS(Table5!$J:$J,Table5!$A:$A,$B19)*$D19^2+SUMIFS(Table5!$K:$K,Table5!$A:$A,$B19)*$D19)+SUMIFS(Table5!$L:$L,Table5!$A:$A,$B19)*LOG10($D19)+SUMIFS(Table5!$N:$N,Table5!$A:$A,$B19)*LOG10(L19)+LOG10(1/$AD19)-LOG10(20/Q19))/-SUMIFS(Table5!$M:$M,Table5!$A:$A,$B19)) -> 2455.0785 | AQ19: =((AO19-AN19)/2.1)*($C19-2.7)+AO19 -> 1463.0964 | AR19: =((AP19-AO19)/11.6)*($C19-14.3)+AP19 -> 2005.1519 | AS19: =(AQ19*(2.7-$C19)/2.1)+(AR19*($C19-0.6)/2.1) -> 1432.1218 | AT19: =IF(AND($C19>=0.208,$C19<=0.6),AM19,IF($C19<=2.7,AS19,AR19)) -> 1430.8851 | AU19: =SUMIFS(Table2!$B:$B,Table2!$A:$A,$B19)*$C19^6+SUMIFS(Table2!$C:$C,Table2!$A:$A,$B19)*$C19^5+SUMIFS(Table2!$D:$D,Table2!$A:$A,$B19)*$C19^4+SUMIFS(Table2!$E:$E,Table2!$A:$A,$B19)*$C19^3+SUMIFS(Table2!$F:$F,Table2!$A:$A,$B19)*$C19^2+SUMIFS(Table2!$G:$G,Table2!$A:$A,$B19)*$C19+SUMIFS(Table2!$H:$H,Table2!$A:$A,$B19) -> 0.23674766 | AV19: =1-0.5*AU19 -> 0.88162617 | AW19: =J19*$AV19 -> 22.723936 | AX19: =K19*$AV19 -> 23.50486 | AY19: =L19*$AV19 -> 25.633038 | AZ19: =((AX19-AW19)/2.1)*($C19-2.7)+AX19 -> 22.679312 | BA19: =((AY19-AX19)/11.6)*($C19-14.3)+AY19 -> 23.097571 | BB19: =(AZ19*(2.7-$C19)/2.1)+(BA19*($C19-0.6)/2.1) -> 22.655412 | BC19: =IF(AND($C19>=0.208,$C19<=0.6),1/SQRT((0.6/$C19)^2*(1/(J19)^2-(0.6^2-($C19)^2)/(0.6^2*($D19)^2)))*AV19,IF(AND($C19>0.6,$C19<=2.7),BB19,IF($C19>2.7,BA19,"Erro"))) -> 21.230961 | BD19: 125 | BE19: =(12.552/50)*BD19*10^(SUMIFS(Table3!$B:$B,Table3!$A:$A,$B19)+SUMIFS(Table3!$C:$C,Table3!$A:$A,$B19)*LOG10($E19)+SUMIFS(Table3!$D:$D,Table3!$A:$A,$B19)*$J19/(SUMIFS(Table3!$E:$E,Table3!$A:$A,$B19)*$D19^7+SUMIFS(Table3!$F:$F,Table3!$A:$A,$B19)*$D19^6+SUMIFS(Table3!$G:$G,Table3!$A:$A,$B19)*$D19^5+SUMIFS(Table3!$H:$H,Table3!$A:$A,$B19)*$D19^4+SUMIFS(Table3!$I:$I,Table3!$A:$A,$B19)*$D19^3+SUMIFS(Table3!$J:$J,Table3!$A:$A,$B19)*$D19^2+SUMIFS(Table3!$K:$K,Table3!$A:$A,$B19)*$D19)+SUMIFS(Table3!$L:$L,Table3!$A:$A,$B19)*LOG10($D19)+SUMIFS(Table3!$M:$M,Table3!$A:$A,$B19)*LOG10($F19)+SUMIFS(Table3!$N:$N,Table3!$A:$A,$B19)*LOG10(BC19)+LOG10(1/$AD19)) -> 34.042256 | BF19: =(12.552/50)*BD19*10^(SUMIFS(Table3!$B:$B,Table3!$A:$A,$B19)+SUMIFS(Table3!$C:$C,Table3!$A:$A,$B19)*LOG10($E19)+SUMIFS(Table3!$D:$D,Table3!$A:$A,$B19)*AW19/(SUMIFS(Table3!$E:$E,Table3!$A:$A,$B19)*$D19^7+SUMIFS(Table3!$F:$F,Table3!$A:$A,$B19)*$D19^6+SUMIFS(Table3!$G:$G,Table3!$A:$A,$B19)*$D19^5+SUMIFS(Table3!$H:$H,Table3!$A:$A,$B19)*$D19^4+SUMIFS(Table3!$I:$I,Table3!$A:$A,$B19)*$D19^3+SUMIFS(Table3!$J:$J,Table3!$A:$A,$B19)*$D19^2+SUMIFS(Table3!$K:$K,Table3!$A:$A,$B19)*$D19)+SUMIFS(Table3!$L:$L,Table3!$A:$A,$B19)*LOG10($D19)+SUMIFS(Table3!$M:$M,Table3!$A:$A,$B19)*LOG10($F19)+SUMIFS(Table3!$N:$N,Table3!$A:$A,$B19)*LOG10(AW19)+LOG10(1/$AD19)) -> 37.671553 | BG19: =(12.552/50)*BD19*10^(SUMIFS(Table4!$B:$B,Table4!$A:$A,$B19)+SUMIFS(Table4!$C:$C,Table4!$A:$A,$B19)*LOG10($E19)+SUMIFS(Table4!$D:$D,Table4!$A:$A,$B19)*AX19/(SUMIFS(Table4!$E:$E,Table4!$A:$A,$B19)*$D19^7+SUMIFS(Table4!$F:$F,Table4!$A:$A,$B19)*$D19^6+SUMIFS(Table4!$G:$G,Table4!$A:$A,$B19)*$D19^5+SUMIFS(Table4!$H:$H,Table4!$A:$A,$B19)*$D19^4+SUMIFS(Table4!$I:$I,Table4!$A:$A,$B19)*$D19^3+SUMIFS(Table4!$J:$J,Table4!$A:$A,$B19)*$D19^2+SUMIFS(Table4!$K:$K,Table4!$A:$A,$B19)*$D19)+SUMIFS(Table4!$L:$L,Table4!$A:$A,$B19)*LOG10($D19)+SUMIFS(Table4!$M:$M,Table4!$A:$A,$B19)*LOG10($F19)+SUMIFS(Table4!$N:$N,Table4!$A:$A,$B19)*LOG10(AX19)+LOG10(1/$AD19)) -> 74.001541 | BH19: =(12.552/50)*BD19*10^(SUMIFS(Table5!$B:$B,Table5!$A:$A,$B19)+SUMIFS(Table5!$C:$C,Table5!$A:$A,$B19)*LOG10($E19)+SUMIFS(Table5!$D:$D,Table5!$A:$A,$B19)*AY19/(SUMIFS(Table5!$E:$E,Table5!$A:$A,$B19)*$D19^7+SUMIFS(Table5!$F:$F,Table5!$A:$A,$B19)*$D19^6+SUMIFS(Table5!$G:$G,Table5!$A:$A,$B19)*$D19^5+SUMIFS(Table5!$H:$H,Table5!$A:$A,$B19)*$D19^4+SUMIFS(Table5!$I:$I,Table5!$A:$A,$B19)*$D19^3+SUMIFS(Table5!$J:$J,Table5!$A:$A,$B19)*$D19^2+SUMIFS(Table5!$K:$K,Table5!$A:$A,$B19)*$D19)+SUMIFS(Table5!$L:$L,Table5!$A:$A,$B19)*LOG10($D19)+SUMIFS(Table5!$M:$M,Table5!$A:$A,$B19)*LOG10($F19)+SUMIFS(Table5!$N:$N,Table5!$A:$A,$B19)*LOG10(AY19)+LOG10(1/$AD19)) -> 86.848642 | BI19: =((BG19-BF19)/2.1)*($C19-2.7)+BG19 -> 35.595554 | BJ19: =((BH19-BG19)/11.6)*($C19-14.3)+BH19 -> 71.542872 | BK19: =BI19*(2.7-$C19)/2.1+BJ19*($C19-0.6)/2.1 -> 33.541421 | BL19: =IF(AND($C19>=0.208,$C19<=0.6),BE19,IF($C19<=2.7,BK19,BJ19)) -> 34.042256 | BM19: =10^((SUMIFS(Table3!$B:$B,Table3!$A:$A,$B19)+SUMIFS(Table3!$C:$C,Table3!$A:$A,$B19)*LOG10($E19)+(SUMIFS(Table3!$D:$D,Table3!$A:$A,$B19)*$J19)/(SUMIFS(Table3!$E:$E,Table3!$A:$A,$B19)*$D19^7+SUMIFS(Table3!$F:$F,Table3!$A:$A,$B19)*$D19^6+SUMIFS(Table3!$G:$G,Table3!$A:$A,$B19)*$D19^5+SUMIFS(Table3!$H:$H,Table3!$A:$A,$B19)*$D19^4+SUMIFS(Table3!$I:$I,Table3!$A:$A,$B19)*$D19^3+SUMIFS(Table3!$J:$J,Table3!$A:$A,$B19)*$D19^2+SUMIFS(Table3!$K:$K,Table3!$A:$A,$B19)*$D19)+SUMIFS(Table3!$L:$L,Table3!$A:$A,$B19)*LOG10($D19)+SUMIFS(Table3!$N:$N,Table3!$A:$A,$B19)*LOG10(BC19)+LOG10(1/$AD19)-LOG10(20/BD19))/-SUMIFS(Table3!$M:$M,Table3!$A:$A,$B19)) -> 1317.0786 | BN19: =10^((SUMIFS(Table3!$B:$B,Table3!$A:$A,$B19)+SUMIFS(Table3!$C:$C,Table3!$A:$A,$B19)*LOG10($E19)+(SUMIFS(Table3!$D:$D,Table3!$A:$A,$B19)*AW19)/(SUMIFS(Table3!$E:$E,Table3!$A:$A,$B19)*$D19^7+SUMIFS(Table3!$F:$F,Table3!$A:$A,$B19)*$D19^6+SUMIFS(Table3!$G:$G,Table3!$A:$A,$B19)*$D19^5+SUMIFS(Table3!$H:$H,Table3!$A:$A,$B19)*$D19^4+SUMIFS(Table3!$I:$I,Table3!$A:$A,$B19)*$D19^3+SUMIFS(Table3!$J:$J,Table3!$A:$A,$B19)*$D19^2+SUMIFS(Table3!$K:$K,Table3!$A:$A,$B19)*$D19)+SUMIFS(Table3!$L:$L,Table3!$A:$A,$B19)*LOG10($D19)+SUMIFS(Table3!$N:$N,Table3!$A:$A,$B19)*LOG10(AW19)+LOG10(1/$AD19)-LOG10(20/BD19))/-SUMIFS(Table3!$M:$M,Table3!$A:$A,$B19)) -> 1392.9383 | BO19: =10^((SUMIFS(Table4!$B:$B,Table4!$A:$A,$B19)+SUMIFS(Table4!$C:$C,Table4!$A:$A,$B19)*LOG10($E19)+(SUMIFS(Table4!$D:$D,Table4!$A:$A,$B19)*AX19)/(SUMIFS(Table4!$E:$E,Table4!$A:$A,$B19)*$D19^7+SUMIFS(Table4!$F:$F,Table4!$A:$A,$B19)*$D19^6+SUMIFS(Table4!$G:$G,Table4!$A:$A,$B19)*$D19^5+SUMIFS(Table4!$H:$H,Table4!$A:$A,$B19)*$D19^4+SUMIFS(Table4!$I:$I,Table4!$A:$A,$B19)*$D19^3+SUMIFS(Table4!$J:$J,Table4!$A:$A,$B19)*$D19^2+SUMIFS(Table4!$K:$K,Table4!$A:$A,$B19)*$D19)+SUMIFS(Table4!$L:$L,Table4!$A:$A,$B19)*LOG10($D19)+SUMIFS(Table4!$N:$N,Table4!$A:$A,$B19)*LOG10(AX19)+LOG10(1/$AD19)-LOG10(20/BD19))/-SUMIFS(Table4!$M:$M,Table4!$A:$A,$B19)) -> 2142.2417 | BP19: =10^((SUMIFS(Table5!$B:$B,Table5!$A:$A,$B19)+SUMIFS(Table5!$C:$C,Table5!$A:$A,$B19)*LOG10($E19)+(SUMIFS(Table5!$D:$D,Table5!$A:$A,$B19)*AY19)/(SUMIFS(Table5!$E:$E,Table5!$A:$A,$B19)*$D19^7+SUMIFS(Table5!$F:$F,Table5!$A:$A,$B19)*$D19^6+SUMIFS(Table5!$G:$G,Table5!$A:$A,$B19)*$D19^5+SUMIFS(Table5!$H:$H,Table5!$A:$A,$B19)*$D19^4+SUMIFS(Table5!$I:$I,Table5!$A:$A,$B19)*$D19^3+SUMIFS(Table5!$J:$J,Table5!$A:$A,$B19)*$D19^2+SUMIFS(Table5!$K:$K,Table5!$A:$A,$B19)*$D19)+SUMIFS(Table5!$L:$L,Table5!$A:$A,$B19)*LOG10($D19)+SUMIFS(Table5!$N:$N,Table5!$A:$A,$B19)*LOG10(AY19)+LOG10(1/$AD19)-LOG10(20/BD19))/-SUMIFS(Table5!$M:$M,Table5!$A:$A,$B19)) -> 2502.2076 | BQ19: =((BO19-BN19)/2.1)*($C19-2.7)+BO19 -> 1350.1209 | BR19: =((BP19-BO19)/11.6)*($C19-14.3)+BP19 -> 2073.3517 | BS19: =(BQ19*(2.7-$C19)/2.1)+(BR19*($C19-0.6)/2.1) -> 1308.7935 | BT19: =IF(AND($C19>=0.208,$C19<=0.6),BM19,IF($C19<=2.7,BS19,BR19)) -> 1317.0786
